BEGIN:VCALENDAR
VERSION:2.0
PRODID:-//Central City Go - ECPv6.15.17.1//NONSGML v1.0//EN
CALSCALE:GREGORIAN
METHOD:PUBLISH
X-ORIGINAL-URL:https://centralcitygo.org
X-WR-CALDESC:Events for Central City Go
REFRESH-INTERVAL;VALUE=DURATION:PT1H
X-Robots-Tag:noindex
X-PUBLISHED-TTL:PT1H
BEGIN:VTIMEZONE
TZID:America/Chicago
BEGIN:DAYLIGHT
TZOFFSETFROM:-0600
TZOFFSETTO:-0500
TZNAME:CDT
DTSTART:20250309T080000
END:DAYLIGHT
BEGIN:STANDARD
TZOFFSETFROM:-0500
TZOFFSETTO:-0600
TZNAME:CST
DTSTART:20251102T070000
END:STANDARD
BEGIN:DAYLIGHT
TZOFFSETFROM:-0600
TZOFFSETTO:-0500
TZNAME:CDT
DTSTART:20260308T080000
END:DAYLIGHT
BEGIN:STANDARD
TZOFFSETFROM:-0500
TZOFFSETTO:-0600
TZNAME:CST
DTSTART:20261101T070000
END:STANDARD
BEGIN:DAYLIGHT
TZOFFSETFROM:-0600
TZOFFSETTO:-0500
TZNAME:CDT
DTSTART:20270314T080000
END:DAYLIGHT
BEGIN:STANDARD
TZOFFSETFROM:-0500
TZOFFSETTO:-0600
TZNAME:CST
DTSTART:20271107T070000
END:STANDARD
END:VTIMEZONE
BEGIN:VEVENT
DTSTART;TZID=America/Chicago:20260421T183000
DTEND;TZID=America/Chicago:20260421T213000
DTSTAMP:20260420T084133
CREATED:20260217T224752Z
LAST-MODIFIED:20260217T224752Z
UID:2047-1776796200-1776807000@centralcitygo.org
SUMMARY:American Legion Bingo
DESCRIPTION:Bingo every Tuesday night.  Doors open at 4:30 pm.  Bingo starts at 6:30 pm.  Lots of prizes & fun!
URL:https://centralcitygo.org/event/american-legion-bingo-45/
LOCATION:American Legion – Post 421\, 6 Central City Rd\, Central City\, Iowa\, 52214\, United States
ATTACH;FMTTYPE=image/jpeg:https://centralcitygo.org/wp-content/uploads/485780808_9324327010992116_6545910602627890421_n-vtiMJe.jpg
ORGANIZER;CN="American Legion - Post 421":MAILTO:iapost421@gmail.com
END:VEVENT
BEGIN:VEVENT
DTSTART;TZID=America/Chicago:20260422T180000
DTEND;TZID=America/Chicago:20260422T200000
DTSTAMP:20260420T084133
CREATED:20260217T224707Z
LAST-MODIFIED:20260217T224707Z
UID:2034-1776880800-1776888000@centralcitygo.org
SUMMARY:Foxy's Bingo Night
DESCRIPTION:Free Bingo at Foxy’s Chill & Grill
URL:https://centralcitygo.org/event/foxys-bingo-night-8/
LOCATION:Foxy’s Chill & Grill\, 347 E Main St\, Central City\, Iowa\, 52214\, United States
ATTACH;FMTTYPE=image/jpeg:https://centralcitygo.org/wp-content/uploads/Foxys-Bingo.jpg
ORGANIZER;CN="Foxy's Chill &amp%3B Grill":MAILTO:Foxden269@gmail.com
END:VEVENT
BEGIN:VEVENT
DTSTART;TZID=America/Chicago:20260425T190000
DTEND;TZID=America/Chicago:20260425T213000
DTSTAMP:20260420T084133
CREATED:20260409T025935Z
LAST-MODIFIED:20260409T025935Z
UID:2150-1777143600-1777152600@centralcitygo.org
SUMMARY:The Blue 2
DESCRIPTION:Live Music at BIT Brewery with The Blue 2
URL:https://centralcitygo.org/event/the-blue-2/
LOCATION:BIT Brewery\, 26 - 4th St N\, Central City\, Iowa\, 52214\, United States
ATTACH;FMTTYPE=image/jpeg:https://centralcitygo.org/wp-content/uploads/The-Blue-2.jpg
ORGANIZER;CN="BIT Brewery":MAILTO:bitbrew3@gmail.com
END:VEVENT
BEGIN:VEVENT
DTSTART;TZID=America/Chicago:20260428T183000
DTEND;TZID=America/Chicago:20260428T213000
DTSTAMP:20260420T084133
CREATED:20260217T224753Z
LAST-MODIFIED:20260217T224753Z
UID:2048-1777401000-1777411800@centralcitygo.org
SUMMARY:American Legion Bingo
DESCRIPTION:Bingo every Tuesday night.  Doors open at 4:30 pm.  Bingo starts at 6:30 pm.  Lots of prizes & fun!
URL:https://centralcitygo.org/event/american-legion-bingo-46/
LOCATION:American Legion – Post 421\, 6 Central City Rd\, Central City\, Iowa\, 52214\, United States
ATTACH;FMTTYPE=image/jpeg:https://centralcitygo.org/wp-content/uploads/485780808_9324327010992116_6545910602627890421_n-vtiMJe.jpg
ORGANIZER;CN="American Legion - Post 421":MAILTO:iapost421@gmail.com
END:VEVENT
BEGIN:VEVENT
DTSTART;TZID=America/Chicago:20260430T180000
DTEND;TZID=America/Chicago:20260430T193000
DTSTAMP:20260420T084133
CREATED:20260409T025933Z
LAST-MODIFIED:20260409T025933Z
UID:2148-1777572000-1777577400@centralcitygo.org
SUMMARY:Girls Night Out
DESCRIPTION:Grab your girls—your mom\, your sister\, or come solo and meet some new friends—and join us for a fun\, relaxing Girl’s Night Out on April 30th from 6:00–7:30 PM at The Golden Comb. Think: good vibes\, amazing scents & products\, time just for YOU.  Enjoy a complimentary drink & snacks while you unwind.  Visit the Scentsy Sample Bar to mix & match your favorites – then take home 8 scents of your choice! Get creative and design your own bath salts with Purely Crafted by Alycia.  Shop unique\, feel-good products and create the perfect bundle – just in time for Mother’s Day!
URL:https://centralcitygo.org/event/girls-night-out/
LOCATION:The Golden Comb\, 342 E Main St\, Central City\, Iowa\, 52214\, United States
ATTACH;FMTTYPE=image/jpeg:https://centralcitygo.org/wp-content/uploads/Girls-Night-Out-Purely-Crafted.jpg
ORGANIZER;CN="Purely Crafted by Alycia":MAILTO:alycia@purelycraftedbyalycia.com
END:VEVENT
END:VCALENDAR