BEGIN:VCALENDAR
VERSION:2.0
PRODID:-//Central City Go - ECPv6.15.17.1//NONSGML v1.0//EN
CALSCALE:GREGORIAN
METHOD:PUBLISH
X-ORIGINAL-URL:https://centralcitygo.org
X-WR-CALDESC:Events for Central City Go
REFRESH-INTERVAL;VALUE=DURATION:PT1H
X-Robots-Tag:noindex
X-PUBLISHED-TTL:PT1H
BEGIN:VTIMEZONE
TZID:America/Chicago
BEGIN:DAYLIGHT
TZOFFSETFROM:-0600
TZOFFSETTO:-0500
TZNAME:CDT
DTSTART:20250309T080000
END:DAYLIGHT
BEGIN:STANDARD
TZOFFSETFROM:-0500
TZOFFSETTO:-0600
TZNAME:CST
DTSTART:20251102T070000
END:STANDARD
BEGIN:DAYLIGHT
TZOFFSETFROM:-0600
TZOFFSETTO:-0500
TZNAME:CDT
DTSTART:20260308T080000
END:DAYLIGHT
BEGIN:STANDARD
TZOFFSETFROM:-0500
TZOFFSETTO:-0600
TZNAME:CST
DTSTART:20261101T070000
END:STANDARD
BEGIN:DAYLIGHT
TZOFFSETFROM:-0600
TZOFFSETTO:-0500
TZNAME:CDT
DTSTART:20270314T080000
END:DAYLIGHT
BEGIN:STANDARD
TZOFFSETFROM:-0500
TZOFFSETTO:-0600
TZNAME:CST
DTSTART:20271107T070000
END:STANDARD
END:VTIMEZONE
BEGIN:VEVENT
DTSTART;TZID=America/Chicago:20260702T180000
DTEND;TZID=America/Chicago:20260702T200000
DTSTAMP:20260420T132555
CREATED:20260310T191333Z
LAST-MODIFIED:20260310T191333Z
UID:2104-1783015200-1783022400@centralcitygo.org
SUMMARY:Fiber Night
DESCRIPTION:Bring your projects – crochet\, knitting\, spinning\, weaving\, felting\, etc – and join us for the evening.
URL:https://centralcitygo.org/event/fiber-night-8/
LOCATION:Wapsi Weaving\, 161 4th St N\, Central City\, Iowa\, 52214
ATTACH;FMTTYPE=image/jpeg:https://centralcitygo.org/wp-content/uploads/Wapsi-Weaving.jpg
ORGANIZER;CN="Wapsi Weaving":MAILTO:lilyacres5031@gmail.com
END:VEVENT
BEGIN:VEVENT
DTSTART;TZID=America/Chicago:20260711T190000
DTEND;TZID=America/Chicago:20260711T230000
DTSTAMP:20260420T132555
CREATED:20260316T215356Z
LAST-MODIFIED:20260316T215356Z
UID:2121-1783796400-1783810800@centralcitygo.org
SUMMARY:6th Year Anniverysary Birthday Bash at BIT Brewery
DESCRIPTION:Celebrate BIT Brewery’s 6th Anniversary with great drinks\, great food and an awesome band.  Vice Box delivers a diverse mix of party music with elements of rock\, funk\, disco\, big-hair\, and skinny tie. They aim to keep everyone entertained\, engaged and on their feet.
URL:https://centralcitygo.org/event/6th-year-anniverysary-birthday-bash-at-bit-brewery/
LOCATION:BIT Brewery\, 26 - 4th St N\, Central City\, Iowa\, 52214\, United States
ATTACH;FMTTYPE=image/jpeg:https://centralcitygo.org/wp-content/uploads/ViceBox-at-BIT.jpg
ORGANIZER;CN="BIT Brewery":MAILTO:bitbrew3@gmail.com
END:VEVENT
BEGIN:VEVENT
DTSTART;TZID=America/Chicago:20260716T180000
DTEND;TZID=America/Chicago:20260716T200000
DTSTAMP:20260420T132555
CREATED:20260310T191334Z
LAST-MODIFIED:20260310T191334Z
UID:2105-1784224800-1784232000@centralcitygo.org
SUMMARY:Fiber Night
DESCRIPTION:Bring your projects – crochet\, knitting\, spinning\, weaving\, felting\, etc – and join us for the evening.
URL:https://centralcitygo.org/event/fiber-night-9/
LOCATION:Wapsi Weaving\, 161 4th St N\, Central City\, Iowa\, 52214
ATTACH;FMTTYPE=image/jpeg:https://centralcitygo.org/wp-content/uploads/Wapsi-Weaving.jpg
ORGANIZER;CN="Wapsi Weaving":MAILTO:lilyacres5031@gmail.com
END:VEVENT
BEGIN:VEVENT
DTSTART;TZID=America/Chicago:20260717T183000
DTEND;TZID=America/Chicago:20260717T210000
DTSTAMP:20260420T132555
CREATED:20260310T191349Z
LAST-MODIFIED:20260310T191349Z
UID:2110-1784313000-1784322000@centralcitygo.org
SUMMARY:Music in the Park
DESCRIPTION:Join Central City Parks & Rec for a live concert in the park!  Bring your own seating – admission is free.  Band: Dogs on Skis – Food Truck: Born to Fry – Cool Treats: TBA
URL:https://centralcitygo.org/event/music-in-the-park-2/
LOCATION:Veteran’s Memorial Park\, 260 5th St S\, Central City\, Iowa\, 52214\, United States
ATTACH;FMTTYPE=image/gif:https://centralcitygo.org/wp-content/uploads/dogs-on-skis-yellow-logo-edited_edited-1.gif
ORGANIZER;CN="Central City Parks &amp%3B Recreation":MAILTO:clerk@centralcityia.gov
END:VEVENT
END:VCALENDAR