BEGIN:VCALENDAR
VERSION:2.0
PRODID:-//Central City Go - ECPv6.15.17.1//NONSGML v1.0//EN
CALSCALE:GREGORIAN
METHOD:PUBLISH
X-WR-CALNAME:Central City Go
X-ORIGINAL-URL:https://centralcitygo.org
X-WR-CALDESC:Events for Central City Go
REFRESH-INTERVAL;VALUE=DURATION:PT1H
X-Robots-Tag:noindex
X-PUBLISHED-TTL:PT1H
BEGIN:VTIMEZONE
TZID:America/Chicago
BEGIN:DAYLIGHT
TZOFFSETFROM:-0600
TZOFFSETTO:-0500
TZNAME:CDT
DTSTART:20250309T080000
END:DAYLIGHT
BEGIN:STANDARD
TZOFFSETFROM:-0500
TZOFFSETTO:-0600
TZNAME:CST
DTSTART:20251102T070000
END:STANDARD
BEGIN:DAYLIGHT
TZOFFSETFROM:-0600
TZOFFSETTO:-0500
TZNAME:CDT
DTSTART:20260308T080000
END:DAYLIGHT
BEGIN:STANDARD
TZOFFSETFROM:-0500
TZOFFSETTO:-0600
TZNAME:CST
DTSTART:20261101T070000
END:STANDARD
BEGIN:DAYLIGHT
TZOFFSETFROM:-0600
TZOFFSETTO:-0500
TZNAME:CDT
DTSTART:20270314T080000
END:DAYLIGHT
BEGIN:STANDARD
TZOFFSETFROM:-0500
TZOFFSETTO:-0600
TZNAME:CST
DTSTART:20271107T070000
END:STANDARD
END:VTIMEZONE
BEGIN:VEVENT
DTSTART;TZID=America/Chicago:20260221T090000
DTEND;TZID=America/Chicago:20260221T110000
DTSTAMP:20260420T115723
CREATED:20260217T224605Z
LAST-MODIFIED:20260217T224605Z
UID:2009-1771664400-1771671600@centralcitygo.org
SUMMARY:Cat Café
DESCRIPTION:Cat Café at the Coggon Library
URL:https://centralcitygo.org/event/cat-cafe/
LOCATION:Coggon Library\, 202 E Main St\, Coggon\, Iowa\, 52218\, United States
ATTACH;FMTTYPE=image/jpeg:https://centralcitygo.org/wp-content/uploads/Coggon-Library.jpg
ORGANIZER;CN="Coggon Library":MAILTO:director@coggonpubliclibrary.org
END:VEVENT
BEGIN:VEVENT
DTSTART;TZID=America/Chicago:20260221T173000
DTEND;TZID=America/Chicago:20260221T203000
DTSTAMP:20260420T115723
CREATED:20260217T224606Z
LAST-MODIFIED:20260217T224606Z
UID:2010-1771695000-1771705800@centralcitygo.org
SUMMARY:Whittier Game Night
DESCRIPTION:
URL:https://centralcitygo.org/event/whittier-game-night/
LOCATION:Whittier Community Building\, 1006 County Home Rd\, Springville\, Iowa\, 52336\, United States
ATTACH;FMTTYPE=image/jpeg:https://centralcitygo.org/wp-content/uploads/Whittier-Game-Night.jpg
ORGANIZER;CN="Whittier Market":MAILTO:makinzah@gmail.com
END:VEVENT
BEGIN:VEVENT
DTSTART;TZID=America/Chicago:20260221T190000
DTEND;TZID=America/Chicago:20260221T213000
DTSTAMP:20260420T115723
CREATED:20260217T224605Z
LAST-MODIFIED:20260217T224605Z
UID:2005-1771700400-1771709400@centralcitygo.org
SUMMARY:The BIT Band
DESCRIPTION:Live Music at BIT Brewery with The BIT Band
URL:https://centralcitygo.org/event/the-bit-band/
LOCATION:BIT Brewery\, 26 - 4th St N\, Central City\, Iowa\, 52214\, United States
ATTACH;FMTTYPE=image/jpeg:https://centralcitygo.org/wp-content/uploads/The-BIT-Band.jpg
ORGANIZER;CN="BIT Brewery":MAILTO:bitbrew3@gmail.com
END:VEVENT
BEGIN:VEVENT
DTSTART;TZID=America/Chicago:20260222T070000
DTEND;TZID=America/Chicago:20260222T120000
DTSTAMP:20260420T115723
CREATED:20260217T224605Z
LAST-MODIFIED:20260217T224605Z
UID:2008-1771743600-1771761600@centralcitygo.org
SUMMARY:AMVETS Breakfast
DESCRIPTION:All You Can Eat Breakfast – FREE for Veterans & First Responders
URL:https://centralcitygo.org/event/amvets-breakfast/
LOCATION:AMVETS Post 37\, 15-1/2 S 4th St\, Central City\, Iowa\, 52214\, United States
ATTACH;FMTTYPE=image/jpeg:https://centralcitygo.org/wp-content/uploads/AMVETS-2.22-breakfast.jpg
ORGANIZER;CN="AMVETS Post 37":MAILTO:amvetspost37cc@yahoo.com
END:VEVENT
BEGIN:VEVENT
DTSTART;TZID=America/Chicago:20260222T073000
DTEND;TZID=America/Chicago:20260222T100000
DTSTAMP:20260420T115723
CREATED:20260217T224605Z
LAST-MODIFIED:20260217T224605Z
UID:2006-1771745400-1771754400@centralcitygo.org
SUMMARY:Omelet Breakfast
DESCRIPTION:Knights of Columbus Annual Omelet Breakfast
URL:https://centralcitygo.org/event/omelet-breakfast/
LOCATION:St Stephen’s Catholic Church\, 4700 Valley Farm Rd\, Central City\, Iowa\, 52214\, United States
ATTACH;FMTTYPE=image/jpeg:https://centralcitygo.org/wp-content/uploads/KOC-Omelet-Bfast.jpg
ORGANIZER;CN="North Linn Catholic Cluster":MAILTO:dbq034bk@dbqarch.org
END:VEVENT
BEGIN:VEVENT
DTSTART;TZID=America/Chicago:20260224T183000
DTEND;TZID=America/Chicago:20260224T213000
DTSTAMP:20260420T115723
CREATED:20260217T224722Z
LAST-MODIFIED:20260217T224722Z
UID:2039-1771957800-1771968600@centralcitygo.org
SUMMARY:American Legion Bingo
DESCRIPTION:Bingo every Tuesday night.  Doors open at 4:30 pm.  Bingo starts at 6:30 pm.  Lots of prizes & fun!
URL:https://centralcitygo.org/event/american-legion-bingo-37/
LOCATION:American Legion – Post 421\, 6 Central City Rd\, Central City\, Iowa\, 52214\, United States
ATTACH;FMTTYPE=image/jpeg:https://centralcitygo.org/wp-content/uploads/485780808_9324327010992116_6545910602627890421_n-vtiMJe.jpg
ORGANIZER;CN="American Legion - Post 421":MAILTO:iapost421@gmail.com
END:VEVENT
BEGIN:VEVENT
DTSTART;TZID=America/Chicago:20260225T180000
DTEND;TZID=America/Chicago:20260225T200000
DTSTAMP:20260420T115723
CREATED:20260217T224606Z
LAST-MODIFIED:20260217T224606Z
UID:2011-1772042400-1772049600@centralcitygo.org
SUMMARY:Bingo
DESCRIPTION:Free Bingo at Foxy’s Chill & Grill
URL:https://centralcitygo.org/event/bingo/
LOCATION:Foxy’s Chill & Grill\, 347 E Main St\, Central City\, Iowa\, 52214\, United States
ATTACH;FMTTYPE=image/jpeg:https://centralcitygo.org/wp-content/uploads/Foxys-Bingo.jpg
ORGANIZER;CN="Foxy's Chill &amp%3B Grill":MAILTO:Foxden269@gmail.com
END:VEVENT
BEGIN:VEVENT
DTSTART;TZID=America/Chicago:20260228T190000
DTEND;TZID=America/Chicago:20260228T213000
DTSTAMP:20260420T115723
CREATED:20260217T224605Z
LAST-MODIFIED:20260217T224605Z
UID:2007-1772305200-1772314200@centralcitygo.org
SUMMARY:Danny Whitson - Live!
DESCRIPTION:Live Music at BIT Brewery with Danny Whitson
URL:https://centralcitygo.org/event/danny-whitson-live/
LOCATION:BIT Brewery\, 26 - 4th St N\, Central City\, Iowa\, 52214\, United States
ATTACH;FMTTYPE=image/jpeg:https://centralcitygo.org/wp-content/uploads/BIT-Danny-Whitson.jpg
ORGANIZER;CN="BIT Brewery":MAILTO:bitbrew3@gmail.com
END:VEVENT
END:VCALENDAR