BEGIN:VCALENDAR
VERSION:2.0
PRODID:-//Central City Go - ECPv6.15.17.1//NONSGML v1.0//EN
CALSCALE:GREGORIAN
METHOD:PUBLISH
X-WR-CALNAME:Central City Go
X-ORIGINAL-URL:https://centralcitygo.org
X-WR-CALDESC:Events for Central City Go
REFRESH-INTERVAL;VALUE=DURATION:PT1H
X-Robots-Tag:noindex
X-PUBLISHED-TTL:PT1H
BEGIN:VTIMEZONE
TZID:America/Chicago
BEGIN:DAYLIGHT
TZOFFSETFROM:-0600
TZOFFSETTO:-0500
TZNAME:CDT
DTSTART:20240310T080000
END:DAYLIGHT
BEGIN:STANDARD
TZOFFSETFROM:-0500
TZOFFSETTO:-0600
TZNAME:CST
DTSTART:20241103T070000
END:STANDARD
BEGIN:DAYLIGHT
TZOFFSETFROM:-0600
TZOFFSETTO:-0500
TZNAME:CDT
DTSTART:20250309T080000
END:DAYLIGHT
BEGIN:STANDARD
TZOFFSETFROM:-0500
TZOFFSETTO:-0600
TZNAME:CST
DTSTART:20251102T070000
END:STANDARD
BEGIN:DAYLIGHT
TZOFFSETFROM:-0600
TZOFFSETTO:-0500
TZNAME:CDT
DTSTART:20260308T080000
END:DAYLIGHT
BEGIN:STANDARD
TZOFFSETFROM:-0500
TZOFFSETTO:-0600
TZNAME:CST
DTSTART:20261101T070000
END:STANDARD
END:VTIMEZONE
BEGIN:VEVENT
DTSTART;TZID=America/Chicago:20250901T150000
DTEND;TZID=America/Chicago:20250901T180000
DTSTAMP:20260420T194209
CREATED:20250826T211257Z
LAST-MODIFIED:20250826T211257Z
UID:1780-1756738800-1756749600@centralcitygo.org
SUMMARY:F.B. & Company - Live Music
DESCRIPTION:
URL:https://centralcitygo.org/event/f-b-company-live-music-2/
LOCATION:F.B. & Company\, 4185 Whittier Rd\, Central City\, Iowa\, 52214\, United States
ATTACH;FMTTYPE=image/jpeg:https://centralcitygo.org/wp-content/uploads/FB-Co.jpg
ORGANIZER;CN="F.B. &amp%3B Company":MAILTO:tim_kula@yahoo.com
END:VEVENT
BEGIN:VEVENT
DTSTART;TZID=America/Chicago:20250902T183000
DTEND;TZID=America/Chicago:20250902T213000
DTSTAMP:20260420T194209
CREATED:20250826T211258Z
LAST-MODIFIED:20250826T211258Z
UID:1781-1756837800-1756848600@centralcitygo.org
SUMMARY:American Legion Bingo
DESCRIPTION:Bingo every Tuesday night.  Doors open at 4:30 pm.  Bingo starts at 6:30 pm.  Lots of prizes & fun!
URL:https://centralcitygo.org/event/american-legion-bingo-19/
LOCATION:American Legion – Post 421\, 6 Central City Rd\, Central City\, Iowa\, 52214\, United States
ATTACH;FMTTYPE=image/jpeg:https://centralcitygo.org/wp-content/uploads/485780808_9324327010992116_6545910602627890421_n-vtiMJe.jpg
ORGANIZER;CN="American Legion - Post 421":MAILTO:iapost421@gmail.com
END:VEVENT
BEGIN:VEVENT
DTSTART;TZID=America/Chicago:20250904T160000
DTEND;TZID=America/Chicago:20250904T180000
DTSTAMP:20260420T194209
CREATED:20250826T211259Z
LAST-MODIFIED:20250826T211259Z
UID:1787-1757001600-1757008800@centralcitygo.org
SUMMARY:Central City Farmer's Markets
DESCRIPTION:Every Thursday from June through September from 4:00 – 6:00 pm at the pavillion at Veteran’s Memorial Park.  Fresh fruits & veggies\, baked goods\, honey\, jams & jellies\, jewelry\, fine art\, crafts\, candles\, cut & potted flowers – there is a great variety every week!  Grab & go dinners are available.  CC Farmer’s Market is an authorized FMNP market.
URL:https://centralcitygo.org/event/central-city-farmers-markets-10/
LOCATION:Veteran’s Memorial Park\, 260 5th St S\, Central City\, Iowa\, 52214\, United States
ATTACH;FMTTYPE=image/jpeg:https://centralcitygo.org/wp-content/uploads/Farmers-Market-1.jpg
ORGANIZER;CN="Central City Parks &amp%3B Recreation":MAILTO:clerk@centralcityia.gov
END:VEVENT
BEGIN:VEVENT
DTSTART;TZID=America/Chicago:20250904T163000
DTEND;TZID=America/Chicago:20250904T203000
DTSTAMP:20260420T194209
CREATED:20250826T211259Z
LAST-MODIFIED:20250826T211259Z
UID:1786-1757003400-1757017800@centralcitygo.org
SUMMARY:Foxy's Shine & Dine
DESCRIPTION:Join us the 1st Thursday of the month from 4:30 – 8:30 pm.  Bring out your hot rod\, turck\, car or motorcycle for a night out with other enthusiasts in beautiful downtown Central City.  Weekly drawings for Foxy’s gift certificates.
URL:https://centralcitygo.org/event/foxys-shine-dine-5/
LOCATION:Foxy’s Chill & Grill\, 347 E Main St\, Central City\, Iowa\, 52214\, United States
ATTACH;FMTTYPE=image/jpeg:https://centralcitygo.org/wp-content/uploads/492084742_1314578850246478_5228274219607378747_n-DbxQnh.jpg
ORGANIZER;CN="Foxy's Chill &amp%3B Grill":MAILTO:Foxden269@gmail.com
END:VEVENT
BEGIN:VEVENT
DTSTART;TZID=America/Chicago:20250906T110000
DTEND;TZID=America/Chicago:20250906T160000
DTSTAMP:20260420T194209
CREATED:20250826T211315Z
LAST-MODIFIED:20250826T211315Z
UID:1791-1757156400-1757174400@centralcitygo.org
SUMMARY:Wicked Kreations Car & Bike Show
DESCRIPTION:This annual car show benefits the Eastern Iowa Honor Flight.  Registration is at 10 am in downtown Central City.  There will be live music\, a live auction & raffles\, a burnout contest and goody bags for the first 100 car entries.
URL:https://centralcitygo.org/event/wicked-kreations-car-bike-show/
LOCATION:Downtown Central City\, 356 E Main St\, Central City\, Iowa\, 52214\, United States
ATTACH;FMTTYPE=image/jpeg:https://centralcitygo.org/wp-content/uploads/Wicked-Kreations-9.6.25.jpg
END:VEVENT
BEGIN:VEVENT
DTSTART;TZID=America/Chicago:20250909T183000
DTEND;TZID=America/Chicago:20250909T213000
DTSTAMP:20260420T194209
CREATED:20250826T211258Z
LAST-MODIFIED:20250826T211258Z
UID:1782-1757442600-1757453400@centralcitygo.org
SUMMARY:American Legion Bingo
DESCRIPTION:Bingo every Tuesday night.  Doors open at 4:30 pm.  Bingo starts at 6:30 pm.  Lots of prizes & fun!
URL:https://centralcitygo.org/event/american-legion-bingo-20/
LOCATION:American Legion – Post 421\, 6 Central City Rd\, Central City\, Iowa\, 52214\, United States
ATTACH;FMTTYPE=image/jpeg:https://centralcitygo.org/wp-content/uploads/485780808_9324327010992116_6545910602627890421_n-vtiMJe.jpg
ORGANIZER;CN="American Legion - Post 421":MAILTO:iapost421@gmail.com
END:VEVENT
BEGIN:VEVENT
DTSTART;TZID=America/Chicago:20250911T160000
DTEND;TZID=America/Chicago:20250911T180000
DTSTAMP:20260420T194209
CREATED:20250826T211300Z
LAST-MODIFIED:20250826T211300Z
UID:1788-1757606400-1757613600@centralcitygo.org
SUMMARY:Central City Farmer's Markets
DESCRIPTION:Every Thursday from June through September from 4:00 – 6:00 pm at the pavillion at Veteran’s Memorial Park.  Fresh fruits & veggies\, baked goods\, honey\, jams & jellies\, jewelry\, fine art\, crafts\, candles\, cut & potted flowers – there is a great variety every week!  Grab & go dinners are available.  CC Farmer’s Market is an authorized FMNP market.
URL:https://centralcitygo.org/event/central-city-farmers-markets-11/
LOCATION:Veteran’s Memorial Park\, 260 5th St S\, Central City\, Iowa\, 52214\, United States
ATTACH;FMTTYPE=image/jpeg:https://centralcitygo.org/wp-content/uploads/Farmers-Market-1.jpg
ORGANIZER;CN="Central City Parks &amp%3B Recreation":MAILTO:clerk@centralcityia.gov
END:VEVENT
BEGIN:VEVENT
DTSTART;TZID=America/Chicago:20250911T170000
DTEND;TZID=America/Chicago:20250911T210000
DTSTAMP:20260420T194209
CREATED:20250826T211330Z
LAST-MODIFIED:20250909T190650Z
UID:1796-1757610000-1757624400@centralcitygo.org
SUMMARY:Kula's Cruise In & Dine
DESCRIPTION:Every 2nd Thursday of the month at 5:00 pm\, until October (weather permitting). Hot rod\, Roadster\, Truck\, Motorcycle… Classic or New. If you think it’s cool\, so do we! Register to win a Kula’s gift card!
URL:https://centralcitygo.org/event/kulas-cruise-in-dine/
LOCATION:Kula’s It’s Just Sauce\, 114 E Greene St\, Walker\, Iowa\, 52352\, United States
ATTACH;FMTTYPE=image/png:https://centralcitygo.org/wp-content/uploads/Kulas_Logo.png
END:VEVENT
BEGIN:VEVENT
DTSTART;TZID=America/Chicago:20250912T170000
DTEND;TZID=America/Chicago:20250912T190000
DTSTAMP:20260420T194209
CREATED:20250826T211315Z
LAST-MODIFIED:20250826T211315Z
UID:1792-1757696400-1757703600@centralcitygo.org
SUMMARY:American Legion Steak Fry
DESCRIPTION:Every 2nd Friday of the month\, come enjoy a great meal!  Fish\, steak or pork chops\, with sides\, salad & dessert.  Carry-outs available.  Check the Facebook page for more information: https://www.facebook.com/iapost421
URL:https://centralcitygo.org/event/american-legion-steak-fry-4/
LOCATION:American Legion – Post 421\, 6 Central City Rd\, Central City\, Iowa\, 52214\, United States
ATTACH;FMTTYPE=image/jpeg:https://centralcitygo.org/wp-content/uploads/482251493_1032744128880810_123962059530793944_n-vmtXB5.jpg
ORGANIZER;CN="American Legion - Post 421":MAILTO:iapost421@gmail.com
END:VEVENT
BEGIN:VEVENT
DTSTART;TZID=America/Chicago:20250913T000000
DTEND;TZID=America/Chicago:20250913T000000
DTSTAMP:20260420T194209
CREATED:20250826T211430Z
LAST-MODIFIED:20250826T211430Z
UID:1817-1757721600-1757721600@centralcitygo.org
SUMMARY:Sons of AMVETS Golf Tournament
DESCRIPTION:
URL:https://centralcitygo.org/event/sons-of-amvets-golf-tournament/
LOCATION:Meadowview Country Club\, 1500 E Maple St\, Central City\, Iowa\, 52214\, United States
ATTACH;FMTTYPE=image/jpeg:https://centralcitygo.org/wp-content/uploads/Am-Vets.jpg
ORGANIZER;CN="AMVETS Post 37":MAILTO:amvetspost37cc@yahoo.com
END:VEVENT
BEGIN:VEVENT
DTSTART;TZID=America/Chicago:20250913T110000
DTEND;TZID=America/Chicago:20250913T150000
DTSTAMP:20260420T194209
CREATED:20250826T211445Z
LAST-MODIFIED:20250826T211445Z
UID:1819-1757761200-1757775600@centralcitygo.org
SUMMARY:Cider Saturday
DESCRIPTION:Horse-drawn carriage rides through historic & scenic downtown Central City – a complimentary adult cider beverage from Beanie’s Coffee & Cakes or BIT Brewery is included!
URL:https://centralcitygo.org/event/cider-saturday/
LOCATION:Downtown Central City\, 356 E Main St\, Central City\, Iowa\, 52214\, United States
ATTACH;FMTTYPE=image/jpeg:https://centralcitygo.org/wp-content/uploads/Blue-Moon-Logo-small.jpg
ORGANIZER;CN="Blue Moon Carriage LLC":MAILTO:moongardengypsy@gmail.com
END:VEVENT
BEGIN:VEVENT
DTSTART;TZID=America/Chicago:20250914T100000
DTEND;TZID=America/Chicago:20250914T150000
DTSTAMP:20260420T194209
CREATED:20250826T211315Z
LAST-MODIFIED:20250826T211315Z
UID:1793-1757844000-1757862000@centralcitygo.org
SUMMARY:Knight's Farm Corn Crib Cruise
DESCRIPTION:
URL:https://centralcitygo.org/event/knights-farm-corn-crib-cruise/
LOCATION:Knight’s Farm\, 3482 Whittier Rd\, Springville\, Iowa\, 52336\, United States
ATTACH;FMTTYPE=image/jpeg:https://centralcitygo.org/wp-content/uploads/Corn-Crib-Cruise.jpg
ORGANIZER;CN="Whittier Market":MAILTO:makinzah@gmail.com
END:VEVENT
BEGIN:VEVENT
DTSTART;TZID=America/Chicago:20250916T183000
DTEND;TZID=America/Chicago:20250916T213000
DTSTAMP:20260420T194209
CREATED:20250826T211258Z
LAST-MODIFIED:20250826T211258Z
UID:1783-1758047400-1758058200@centralcitygo.org
SUMMARY:American Legion Bingo
DESCRIPTION:Bingo every Tuesday night.  Doors open at 4:30 pm.  Bingo starts at 6:30 pm.  Lots of prizes & fun!
URL:https://centralcitygo.org/event/american-legion-bingo-21/
LOCATION:American Legion – Post 421\, 6 Central City Rd\, Central City\, Iowa\, 52214\, United States
ATTACH;FMTTYPE=image/jpeg:https://centralcitygo.org/wp-content/uploads/485780808_9324327010992116_6545910602627890421_n-vtiMJe.jpg
ORGANIZER;CN="American Legion - Post 421":MAILTO:iapost421@gmail.com
END:VEVENT
BEGIN:VEVENT
DTSTART;TZID=America/Chicago:20250918T160000
DTEND;TZID=America/Chicago:20250918T180000
DTSTAMP:20260420T194209
CREATED:20250826T211300Z
LAST-MODIFIED:20250826T211300Z
UID:1789-1758211200-1758218400@centralcitygo.org
SUMMARY:Central City Farmer's Markets
DESCRIPTION:Every Thursday from June through September from 4:00 – 6:00 pm at the pavillion at Veteran’s Memorial Park.  Fresh fruits & veggies\, baked goods\, honey\, jams & jellies\, jewelry\, fine art\, crafts\, candles\, cut & potted flowers – there is a great variety every week!  Grab & go dinners are available.  CC Farmer’s Market is an authorized FMNP market.
URL:https://centralcitygo.org/event/central-city-farmers-markets-12/
LOCATION:Veteran’s Memorial Park\, 260 5th St S\, Central City\, Iowa\, 52214\, United States
ATTACH;FMTTYPE=image/jpeg:https://centralcitygo.org/wp-content/uploads/Farmers-Market-1.jpg
ORGANIZER;CN="Central City Parks &amp%3B Recreation":MAILTO:clerk@centralcityia.gov
END:VEVENT
BEGIN:VEVENT
DTSTART;TZID=America/Chicago:20250920T110000
DTEND;TZID=America/Chicago:20250920T150000
DTSTAMP:20260420T194209
CREATED:20250826T211445Z
LAST-MODIFIED:20250826T211445Z
UID:1820-1758366000-1758380400@centralcitygo.org
SUMMARY:Cider Saturday
DESCRIPTION:Horse-drawn carriage rides through historic & scenic downtown Central City – a complimentary adult cider beverage from Beanie’s Coffee & Cakes or BIT Brewery is included!
URL:https://centralcitygo.org/event/cider-saturday-2/
LOCATION:Downtown Central City\, 356 E Main St\, Central City\, Iowa\, 52214\, United States
ATTACH;FMTTYPE=image/jpeg:https://centralcitygo.org/wp-content/uploads/Blue-Moon-Logo-small.jpg
ORGANIZER;CN="Blue Moon Carriage LLC":MAILTO:moongardengypsy@gmail.com
END:VEVENT
BEGIN:VEVENT
DTSTART;TZID=America/Chicago:20250921T090000
DTEND;TZID=America/Chicago:20250921T140000
DTSTAMP:20260420T194209
CREATED:20250826T211316Z
LAST-MODIFIED:20250826T211316Z
UID:1794-1758445200-1758463200@centralcitygo.org
SUMMARY:Junque Market
DESCRIPTION:
URL:https://centralcitygo.org/event/junque-market-3/
LOCATION:Coggon Community Center\, 408 E Linn St\, Coggon\, Iowa\, 52218\, United States
ATTACH;FMTTYPE=image/jpeg:https://centralcitygo.org/wp-content/uploads/475687444_122213483228203014_4820602099744202425_n-V21RSd.jpg
ORGANIZER;CN="Junque Market":MAILTO:coggonjunquemarket@gmail.com
END:VEVENT
BEGIN:VEVENT
DTSTART;TZID=America/Chicago:20250923T183000
DTEND;TZID=America/Chicago:20250923T213000
DTSTAMP:20260420T194209
CREATED:20250826T211258Z
LAST-MODIFIED:20250826T211258Z
UID:1784-1758652200-1758663000@centralcitygo.org
SUMMARY:American Legion Bingo
DESCRIPTION:Bingo every Tuesday night.  Doors open at 4:30 pm.  Bingo starts at 6:30 pm.  Lots of prizes & fun!
URL:https://centralcitygo.org/event/american-legion-bingo-22/
LOCATION:American Legion – Post 421\, 6 Central City Rd\, Central City\, Iowa\, 52214\, United States
ATTACH;FMTTYPE=image/jpeg:https://centralcitygo.org/wp-content/uploads/485780808_9324327010992116_6545910602627890421_n-vtiMJe.jpg
ORGANIZER;CN="American Legion - Post 421":MAILTO:iapost421@gmail.com
END:VEVENT
BEGIN:VEVENT
DTSTART;TZID=America/Chicago:20250925T160000
DTEND;TZID=America/Chicago:20250925T180000
DTSTAMP:20260420T194209
CREATED:20250826T211315Z
LAST-MODIFIED:20250826T211315Z
UID:1790-1758816000-1758823200@centralcitygo.org
SUMMARY:Central City Farmer's Markets
DESCRIPTION:Every Thursday from June through September from 4:00 – 6:00 pm at the pavillion at Veteran’s Memorial Park.  Fresh fruits & veggies\, baked goods\, honey\, jams & jellies\, jewelry\, fine art\, crafts\, candles\, cut & potted flowers – there is a great variety every week!  Grab & go dinners are available.  CC Farmer’s Market is an authorized FMNP market.
URL:https://centralcitygo.org/event/central-city-farmers-markets-13/
LOCATION:Veteran’s Memorial Park\, 260 5th St S\, Central City\, Iowa\, 52214\, United States
ATTACH;FMTTYPE=image/jpeg:https://centralcitygo.org/wp-content/uploads/Farmers-Market-1.jpg
ORGANIZER;CN="Central City Parks &amp%3B Recreation":MAILTO:clerk@centralcityia.gov
END:VEVENT
BEGIN:VEVENT
DTSTART;TZID=America/Chicago:20250927T110000
DTEND;TZID=America/Chicago:20250927T150000
DTSTAMP:20260420T194209
CREATED:20250826T211445Z
LAST-MODIFIED:20250826T211445Z
UID:1821-1758970800-1758985200@centralcitygo.org
SUMMARY:Cider Saturday
DESCRIPTION:Horse-drawn carriage rides through historic & scenic downtown Central City – a complimentary adult cider beverage from Beanie’s Coffee & Cakes or BIT Brewery is included!
URL:https://centralcitygo.org/event/cider-saturday-3/
LOCATION:Downtown Central City\, 356 E Main St\, Central City\, Iowa\, 52214\, United States
ATTACH;FMTTYPE=image/jpeg:https://centralcitygo.org/wp-content/uploads/Blue-Moon-Logo-small.jpg
ORGANIZER;CN="Blue Moon Carriage LLC":MAILTO:moongardengypsy@gmail.com
END:VEVENT
BEGIN:VEVENT
DTSTART;TZID=America/Chicago:20250930T183000
DTEND;TZID=America/Chicago:20250930T213000
DTSTAMP:20260420T194209
CREATED:20250826T211259Z
LAST-MODIFIED:20250826T211259Z
UID:1785-1759257000-1759267800@centralcitygo.org
SUMMARY:American Legion Bingo
DESCRIPTION:Bingo every Tuesday night.  Doors open at 4:30 pm.  Bingo starts at 6:30 pm.  Lots of prizes & fun!
URL:https://centralcitygo.org/event/american-legion-bingo-23/
LOCATION:American Legion – Post 421\, 6 Central City Rd\, Central City\, Iowa\, 52214\, United States
ATTACH;FMTTYPE=image/jpeg:https://centralcitygo.org/wp-content/uploads/485780808_9324327010992116_6545910602627890421_n-vtiMJe.jpg
ORGANIZER;CN="American Legion - Post 421":MAILTO:iapost421@gmail.com
END:VEVENT
END:VCALENDAR