BEGIN:VCALENDAR
VERSION:2.0
PRODID:-//Central City Go - ECPv6.15.17.1//NONSGML v1.0//EN
CALSCALE:GREGORIAN
METHOD:PUBLISH
X-ORIGINAL-URL:https://centralcitygo.org
X-WR-CALDESC:Events for Central City Go
REFRESH-INTERVAL;VALUE=DURATION:PT1H
X-Robots-Tag:noindex
X-PUBLISHED-TTL:PT1H
BEGIN:VTIMEZONE
TZID:America/Chicago
BEGIN:DAYLIGHT
TZOFFSETFROM:-0600
TZOFFSETTO:-0500
TZNAME:CDT
DTSTART:20250309T080000
END:DAYLIGHT
BEGIN:STANDARD
TZOFFSETFROM:-0500
TZOFFSETTO:-0600
TZNAME:CST
DTSTART:20251102T070000
END:STANDARD
BEGIN:DAYLIGHT
TZOFFSETFROM:-0600
TZOFFSETTO:-0500
TZNAME:CDT
DTSTART:20260308T080000
END:DAYLIGHT
BEGIN:STANDARD
TZOFFSETFROM:-0500
TZOFFSETTO:-0600
TZNAME:CST
DTSTART:20261101T070000
END:STANDARD
BEGIN:DAYLIGHT
TZOFFSETFROM:-0600
TZOFFSETTO:-0500
TZNAME:CDT
DTSTART:20270314T080000
END:DAYLIGHT
BEGIN:STANDARD
TZOFFSETFROM:-0500
TZOFFSETTO:-0600
TZNAME:CST
DTSTART:20271107T070000
END:STANDARD
END:VTIMEZONE
BEGIN:VEVENT
DTSTART;TZID=America/Chicago:20260803T190000
DTEND;TZID=America/Chicago:20260803T203000
DTSTAMP:20260421T001556
CREATED:20260409T025933Z
LAST-MODIFIED:20260409T025933Z
UID:2147-1785783600-1785789000@centralcitygo.org
SUMMARY:Evening Nature Hike
DESCRIPTION:We will gather at Eagle View Shelter and will hike to view Horseshoe Falls\, and then the Mary Lundby Bridge. Enjoy the evening hike with a Naturalist. Cost is $2 per child and $5 per adult. Registration: https://www.mycountyparks.com/…/28644/Evening-Nature-Hike
URL:https://centralcitygo.org/event/evening-nature-hike/
LOCATION:Pinicon Ridge Park\, 4732 Horseshoe Falls Rd\, Central City\, Iowa\, 52214\, United States
ATTACH;FMTTYPE=image/jpeg:https://centralcitygo.org/wp-content/uploads/LC-Nature-Hike.jpg
ORGANIZER;CN="Linn County Conservation":MAILTO:conservation@linncountyiowa.gov
END:VEVENT
BEGIN:VEVENT
DTSTART;TZID=America/Chicago:20260806T180000
DTEND;TZID=America/Chicago:20260806T200000
DTSTAMP:20260421T001556
CREATED:20260310T191348Z
LAST-MODIFIED:20260310T191348Z
UID:2106-1786039200-1786046400@centralcitygo.org
SUMMARY:Fiber Night
DESCRIPTION:Bring your projects – crochet\, knitting\, spinning\, weaving\, felting\, etc – and join us for the evening.
URL:https://centralcitygo.org/event/fiber-night-10/
LOCATION:Wapsi Weaving\, 161 4th St N\, Central City\, Iowa\, 52214
ATTACH;FMTTYPE=image/jpeg:https://centralcitygo.org/wp-content/uploads/Wapsi-Weaving.jpg
ORGANIZER;CN="Wapsi Weaving":MAILTO:lilyacres5031@gmail.com
END:VEVENT
BEGIN:VEVENT
DTSTART;TZID=America/Chicago:20260820T180000
DTEND;TZID=America/Chicago:20260820T200000
DTSTAMP:20260421T001556
CREATED:20260310T191348Z
LAST-MODIFIED:20260310T191348Z
UID:2107-1787248800-1787256000@centralcitygo.org
SUMMARY:Fiber Night
DESCRIPTION:Bring your projects – crochet\, knitting\, spinning\, weaving\, felting\, etc – and join us for the evening.
URL:https://centralcitygo.org/event/fiber-night-11/
LOCATION:Wapsi Weaving\, 161 4th St N\, Central City\, Iowa\, 52214
ATTACH;FMTTYPE=image/jpeg:https://centralcitygo.org/wp-content/uploads/Wapsi-Weaving.jpg
ORGANIZER;CN="Wapsi Weaving":MAILTO:lilyacres5031@gmail.com
END:VEVENT
BEGIN:VEVENT
DTSTART;TZID=America/Chicago:20260821T183000
DTEND;TZID=America/Chicago:20260821T210000
DTSTAMP:20260421T001556
CREATED:20260310T191403Z
LAST-MODIFIED:20260310T191403Z
UID:2111-1787337000-1787346000@centralcitygo.org
SUMMARY:Music in the Park
DESCRIPTION:Join Central City Parks & Rec for a live concert in the park!  Bring your own seating – admission is free.  Band: Bigfoot Park Band – Food Truck: Wescott Barbecue – Cool Treats: TBA
URL:https://centralcitygo.org/event/music-in-the-park-3/
LOCATION:Veteran’s Memorial Park\, 260 5th St S\, Central City\, Iowa\, 52214\, United States
ATTACH;FMTTYPE=image/png:https://centralcitygo.org/wp-content/uploads/Bigfoot-Park.png
END:VEVENT
BEGIN:VEVENT
DTSTART;TZID=America/Chicago:20260905T110000
DTEND;TZID=America/Chicago:20260905T160000
DTSTAMP:20260421T001556
CREATED:20260217T224607Z
LAST-MODIFIED:20260217T224607Z
UID:2013-1788606000-1788624000@centralcitygo.org
SUMMARY:Wicked Kreations Car Show
DESCRIPTION:This annual car show benefits the Eastern Iowa Honor Flight.  Registration is at 9 am in downtown Central City.  There will be live music\, a live auction & raffles\, a burnout contest and goody bags for the first 100 car entries.
URL:https://centralcitygo.org/event/wicked-kreations-car-show/
LOCATION:Downtown Central City\, 356 E Main St\, Central City\, Iowa\, 52214\, United States
ATTACH;FMTTYPE=image/jpeg:https://centralcitygo.org/wp-content/uploads/Wicked-Kreations-8th-Annual.jpg
END:VEVENT
END:VCALENDAR