BEGIN:VCALENDAR
VERSION:2.0
PRODID:-//Central City Go - ECPv6.15.17.1//NONSGML v1.0//EN
CALSCALE:GREGORIAN
METHOD:PUBLISH
X-WR-CALNAME:Central City Go
X-ORIGINAL-URL:https://centralcitygo.org
X-WR-CALDESC:Events for Central City Go
REFRESH-INTERVAL;VALUE=DURATION:PT1H
X-Robots-Tag:noindex
X-PUBLISHED-TTL:PT1H
BEGIN:VTIMEZONE
TZID:America/Chicago
BEGIN:DAYLIGHT
TZOFFSETFROM:-0600
TZOFFSETTO:-0500
TZNAME:CDT
DTSTART:20250309T080000
END:DAYLIGHT
BEGIN:STANDARD
TZOFFSETFROM:-0500
TZOFFSETTO:-0600
TZNAME:CST
DTSTART:20251102T070000
END:STANDARD
BEGIN:DAYLIGHT
TZOFFSETFROM:-0600
TZOFFSETTO:-0500
TZNAME:CDT
DTSTART:20260308T080000
END:DAYLIGHT
BEGIN:STANDARD
TZOFFSETFROM:-0500
TZOFFSETTO:-0600
TZNAME:CST
DTSTART:20261101T070000
END:STANDARD
BEGIN:DAYLIGHT
TZOFFSETFROM:-0600
TZOFFSETTO:-0500
TZNAME:CDT
DTSTART:20270314T080000
END:DAYLIGHT
BEGIN:STANDARD
TZOFFSETFROM:-0500
TZOFFSETTO:-0600
TZNAME:CST
DTSTART:20271107T070000
END:STANDARD
END:VTIMEZONE
BEGIN:VEVENT
DTSTART;TZID=America/Chicago:20260412T140000
DTEND;TZID=America/Chicago:20260412T160000
DTSTAMP:20260420T232503
CREATED:20260217T224622Z
LAST-MODIFIED:20260217T224622Z
UID:2018-1776002400-1776009600@centralcitygo.org
SUMMARY:Cork-n-Canvas
DESCRIPTION:12 x 12 Japanese Blossoms painting
URL:https://centralcitygo.org/event/cork-n-canvas/
LOCATION:BIT Brewery\, 26 - 4th St N\, Central City\, Iowa\, 52214\, United States
ATTACH;FMTTYPE=image/jpeg:https://centralcitygo.org/wp-content/uploads/BIT-Cork-Canvas-April.jpg
ORGANIZER;CN="BIT Brewery":MAILTO:bitbrew3@gmail.com
END:VEVENT
BEGIN:VEVENT
DTSTART;TZID=America/Chicago:20260411T190000
DTEND;TZID=America/Chicago:20260411T213000
DTSTAMP:20260420T232503
CREATED:20260217T224651Z
LAST-MODIFIED:20260217T224651Z
UID:2025-1775934000-1775943000@centralcitygo.org
SUMMARY:Gypsy
DESCRIPTION:Live Music at BIT Brewery with Gypsy
URL:https://centralcitygo.org/event/gypsy/
LOCATION:BIT Brewery\, 26 - 4th St N\, Central City\, Iowa\, 52214\, United States
ATTACH;FMTTYPE=image/jpeg:https://centralcitygo.org/wp-content/uploads/BIT-Gypsy.jpg
ORGANIZER;CN="BIT Brewery":MAILTO:bitbrew3@gmail.com
END:VEVENT
BEGIN:VEVENT
DTSTART;TZID=America/Chicago:20260410T170000
DTEND;TZID=America/Chicago:20260410T190000
DTSTAMP:20260420T232503
CREATED:20260217T224954Z
LAST-MODIFIED:20260217T224954Z
UID:2054-1775840400-1775847600@centralcitygo.org
SUMMARY:American Legion Fry (Fish or Pork Chop or Steak)
DESCRIPTION:Every 2nd Friday of the month\, come enjoy a great meal!  Fish\, steak or pork chops\, with sides\, salad & dessert.  Carry-outs available.  Check the Facebook page for more information: https://www.facebook.com/iapost422
URL:https://centralcitygo.org/event/american-legion-fry-fish-or-pork-chop-or-steak-2/
LOCATION:American Legion – Post 421\, 6 Central City Rd\, Central City\, Iowa\, 52214\, United States
ATTACH;FMTTYPE=image/jpeg:https://centralcitygo.org/wp-content/uploads/Fish-Fry.jpg
ORGANIZER;CN="American Legion - Post 421":MAILTO:iapost421@gmail.com
END:VEVENT
BEGIN:VEVENT
DTSTART;TZID=America/Chicago:20260409T183000
DTEND;TZID=America/Chicago:20260409T203000
DTSTAMP:20260420T232503
CREATED:20260217T224637Z
LAST-MODIFIED:20260217T224637Z
UID:2023-1775759400-1775766600@centralcitygo.org
SUMMARY:Trivia Night
DESCRIPTION:Trivia Night with BIT & The Trivial Dudes
URL:https://centralcitygo.org/event/trivia-night-2/
LOCATION:BIT Brewery\, 26 - 4th St N\, Central City\, Iowa\, 52214\, United States
ATTACH;FMTTYPE=image/jpeg:https://centralcitygo.org/wp-content/uploads/BIT-Trivia-Night.jpg
ORGANIZER;CN="BIT Brewery":MAILTO:bitbrew3@gmail.com
END:VEVENT
BEGIN:VEVENT
DTSTART;TZID=America/Chicago:20260408T180000
DTEND;TZID=America/Chicago:20260408T200000
DTSTAMP:20260420T232503
CREATED:20260217T224707Z
LAST-MODIFIED:20260217T224707Z
UID:2032-1775671200-1775678400@centralcitygo.org
SUMMARY:Foxy's Bingo Night
DESCRIPTION:Free Bingo at Foxy’s Chill & Grill
URL:https://centralcitygo.org/event/foxys-bingo-night-6/
LOCATION:Foxy’s Chill & Grill\, 347 E Main St\, Central City\, Iowa\, 52214\, United States
ATTACH;FMTTYPE=image/jpeg:https://centralcitygo.org/wp-content/uploads/Foxys-Bingo.jpg
ORGANIZER;CN="Foxy's Chill &amp%3B Grill":MAILTO:Foxden269@gmail.com
END:VEVENT
BEGIN:VEVENT
DTSTART;TZID=America/Chicago:20260407T183000
DTEND;TZID=America/Chicago:20260407T213000
DTSTAMP:20260420T232503
CREATED:20260217T224752Z
LAST-MODIFIED:20260217T224752Z
UID:2045-1775586600-1775597400@centralcitygo.org
SUMMARY:American Legion Bingo
DESCRIPTION:Bingo every Tuesday night.  Doors open at 4:30 pm.  Bingo starts at 6:30 pm.  Lots of prizes & fun!
URL:https://centralcitygo.org/event/american-legion-bingo-43/
LOCATION:American Legion – Post 421\, 6 Central City Rd\, Central City\, Iowa\, 52214\, United States
ATTACH;FMTTYPE=image/jpeg:https://centralcitygo.org/wp-content/uploads/485780808_9324327010992116_6545910602627890421_n-vtiMJe.jpg
ORGANIZER;CN="American Legion - Post 421":MAILTO:iapost421@gmail.com
END:VEVENT
BEGIN:VEVENT
DTSTART;TZID=America/Chicago:20260404T190000
DTEND;TZID=America/Chicago:20260404T213000
DTSTAMP:20260420T232503
CREATED:20260217T224607Z
LAST-MODIFIED:20260217T224607Z
UID:2014-1775329200-1775338200@centralcitygo.org
SUMMARY:Electric Cello with Sam Day
DESCRIPTION:Live Music at BIT Brewery with Sam Day
URL:https://centralcitygo.org/event/electric-cello-with-sam-day/
LOCATION:BIT Brewery\, 26 - 4th St N\, Central City\, Iowa\, 52214\, United States
ATTACH;FMTTYPE=image/jpeg:https://centralcitygo.org/wp-content/uploads/BIT-Sam-Day-Cello.jpg
ORGANIZER;CN="BIT Brewery":MAILTO:bitbrew3@gmail.com
END:VEVENT
BEGIN:VEVENT
DTSTART;TZID=America/Chicago:20260404T093000
DTEND;TZID=America/Chicago:20260404T110000
DTSTAMP:20260420T232503
CREATED:20260316T215356Z
LAST-MODIFIED:20260316T215356Z
UID:2119-1775295000-1775300400@centralcitygo.org
SUMMARY:YMCA Camp Wapsie Annual Easter Egg Hunt
DESCRIPTION:Join us for a fun filled Easter celebration with prizes and an exciting egg hunt!  Check-in starts at 9:30 – Hunting starts at 10:00.  Open to toddlers through 5th grade.  Bring your baskets and join the fun!
URL:https://centralcitygo.org/event/ymca-camp-wapsie-annual-easter-egg-hunt/
LOCATION:YMCA Camp Wapsie\, 2174 Wapsie Y Road\, Coggon\, Iowa\, 52218\, United States
ATTACH;FMTTYPE=image/png:https://centralcitygo.org/wp-content/uploads/2026-Easter-Egg-Hunt-Flyer.png
ORGANIZER;CN="YMCA Camp Wapsie":MAILTO:camp@crmetroymca.org
END:VEVENT
BEGIN:VEVENT
DTSTART;TZID=America/Chicago:20260403T183000
DTEND;TZID=America/Chicago:20260403T203000
DTSTAMP:20260420T232503
CREATED:20260217T224636Z
LAST-MODIFIED:20260217T224636Z
UID:2020-1775241000-1775248200@centralcitygo.org
SUMMARY:Music Bingo
DESCRIPTION:Music Bingo with BIT & The Trivial Dudes
URL:https://centralcitygo.org/event/music-bingo-2/
LOCATION:BIT Brewery\, 26 - 4th St N\, Central City\, Iowa\, 52214\, United States
ATTACH;FMTTYPE=image/jpeg:https://centralcitygo.org/wp-content/uploads/BIT-Music-Bingo.jpg
ORGANIZER;CN="BIT Brewery":MAILTO:bitbrew3@gmail.com
END:VEVENT
BEGIN:VEVENT
DTSTART;TZID=America/Chicago:20260402T180000
DTEND;TZID=America/Chicago:20260402T200000
DTSTAMP:20260420T232503
CREATED:20260310T191331Z
LAST-MODIFIED:20260310T191331Z
UID:2098-1775152800-1775160000@centralcitygo.org
SUMMARY:Fiber Night
DESCRIPTION:Bring your projects – crochet\, knitting\, spinning\, weaving\, felting\, etc – and join us for the evening.
URL:https://centralcitygo.org/event/fiber-night-2/
LOCATION:Wapsi Weaving\, 161 4th St N\, Central City\, Iowa\, 52214
ATTACH;FMTTYPE=image/jpeg:https://centralcitygo.org/wp-content/uploads/Wapsi-Weaving.jpg
ORGANIZER;CN="Wapsi Weaving":MAILTO:lilyacres5031@gmail.com
END:VEVENT
BEGIN:VEVENT
DTSTART;TZID=America/Chicago:20260401T180000
DTEND;TZID=America/Chicago:20260401T200000
DTSTAMP:20260420T232503
CREATED:20260217T224707Z
LAST-MODIFIED:20260217T224707Z
UID:2031-1775066400-1775073600@centralcitygo.org
SUMMARY:Foxy's Bingo Night
DESCRIPTION:Free Bingo at Foxy’s Chill & Grill
URL:https://centralcitygo.org/event/foxys-bingo-night-5/
LOCATION:Foxy’s Chill & Grill\, 347 E Main St\, Central City\, Iowa\, 52214\, United States
ATTACH;FMTTYPE=image/jpeg:https://centralcitygo.org/wp-content/uploads/Foxys-Bingo.jpg
ORGANIZER;CN="Foxy's Chill &amp%3B Grill":MAILTO:Foxden269@gmail.com
END:VEVENT
BEGIN:VEVENT
DTSTART;TZID=America/Chicago:20260331T183000
DTEND;TZID=America/Chicago:20260331T213000
DTSTAMP:20260420T232503
CREATED:20260217T224737Z
LAST-MODIFIED:20260217T224737Z
UID:2044-1774981800-1774992600@centralcitygo.org
SUMMARY:American Legion Bingo
DESCRIPTION:Bingo every Tuesday night.  Doors open at 4:30 pm.  Bingo starts at 6:30 pm.  Lots of prizes & fun!
URL:https://centralcitygo.org/event/american-legion-bingo-42/
LOCATION:American Legion – Post 421\, 6 Central City Rd\, Central City\, Iowa\, 52214\, United States
ATTACH;FMTTYPE=image/jpeg:https://centralcitygo.org/wp-content/uploads/485780808_9324327010992116_6545910602627890421_n-vtiMJe.jpg
ORGANIZER;CN="American Legion - Post 421":MAILTO:iapost421@gmail.com
END:VEVENT
BEGIN:VEVENT
DTSTART;TZID=America/Chicago:20260328T190000
DTEND;TZID=America/Chicago:20260328T213000
DTSTAMP:20260420T232503
CREATED:20260217T224621Z
LAST-MODIFIED:20260217T224621Z
UID:2015-1774724400-1774733400@centralcitygo.org
SUMMARY:Asking For A Friend
DESCRIPTION:Live Music at BIT Brewery with Asking for a Friend
URL:https://centralcitygo.org/event/asking-for-a-friend/
LOCATION:BIT Brewery\, 26 - 4th St N\, Central City\, Iowa\, 52214\, United States
ATTACH;FMTTYPE=image/jpeg:https://centralcitygo.org/wp-content/uploads/BIT-Asking-for-a-Friend.jpg
ORGANIZER;CN="BIT Brewery":MAILTO:bitbrew3@gmail.com
END:VEVENT
BEGIN:VEVENT
DTSTART;TZID=America/Chicago:20260328T110000
DTEND;TZID=America/Chicago:20260328T190000
DTSTAMP:20260420T232503
CREATED:20260217T224607Z
LAST-MODIFIED:20260217T224607Z
UID:2012-1774695600-1774724400@centralcitygo.org
SUMMARY:Putt Putt for Freedom Spring Event
DESCRIPTION:Mini Golf Crawl benefitting area veterans
URL:https://centralcitygo.org/event/putt-putt-for-freedom-spring-event/
LOCATION:American Legion – Post 421\, 6 Central City Rd\, Central City\, Iowa\, 52214\, United States
ATTACH;FMTTYPE=image/jpeg:https://centralcitygo.org/wp-content/uploads/Putt-Putt.jpg
ORGANIZER;CN="Putt Putt for Freedom":MAILTO:kimmychild13@gmail.com
END:VEVENT
BEGIN:VEVENT
DTSTART;TZID=America/Chicago:20260325T180000
DTEND;TZID=America/Chicago:20260325T200000
DTSTAMP:20260420T232503
CREATED:20260217T224706Z
LAST-MODIFIED:20260217T224706Z
UID:2030-1774461600-1774468800@centralcitygo.org
SUMMARY:Foxy's Bingo Night
DESCRIPTION:Free Bingo at Foxy’s Chill & Grill
URL:https://centralcitygo.org/event/foxys-bingo-night-4/
LOCATION:Foxy’s Chill & Grill\, 347 E Main St\, Central City\, Iowa\, 52214\, United States
ATTACH;FMTTYPE=image/jpeg:https://centralcitygo.org/wp-content/uploads/Foxys-Bingo.jpg
ORGANIZER;CN="Foxy's Chill &amp%3B Grill":MAILTO:Foxden269@gmail.com
END:VEVENT
BEGIN:VEVENT
DTSTART;TZID=America/Chicago:20260325T153000
DTEND;TZID=America/Chicago:20260325T183000
DTSTAMP:20260420T232503
CREATED:20260217T224652Z
LAST-MODIFIED:20260316T213043Z
UID:2026-1774452600-1774463400@centralcitygo.org
SUMMARY:Blood Drive
DESCRIPTION:This Central City Community Blood Drive will be held in the Commons at the high school.  Appointments are available from 3:30 – 6:30 – sign up here: https://login.bloodcenter.org/donor/schedules/drive_schedule/141346 \nJust an hour of your time and a unit of your whole blood can save three or more lives. \nOn average\, someone in America needs blood every 2 seconds\, and 36\,000 units are needed each day.  Blood and blood components are used to treat accident victims\, burn patients\, organ transplant recipients and those undergoing cancer treatments\, among others.  Blood *cannot* be manufactured – it must be donated.
URL:https://centralcitygo.org/event/blood-drive/
LOCATION:Central City Community Schools\, 400 Barber St\, Central City\, Iowa\, 52214\, United States
ATTACH;FMTTYPE=image/png:https://centralcitygo.org/wp-content/uploads/impact-life.png
ORGANIZER;CN="Impact Life":MAILTO:social@impactlife.org
END:VEVENT
BEGIN:VEVENT
DTSTART;TZID=America/Chicago:20260324T183000
DTEND;TZID=America/Chicago:20260324T213000
DTSTAMP:20260420T232503
CREATED:20260217T224737Z
LAST-MODIFIED:20260217T224737Z
UID:2043-1774377000-1774387800@centralcitygo.org
SUMMARY:American Legion Bingo
DESCRIPTION:Bingo every Tuesday night.  Doors open at 4:30 pm.  Bingo starts at 6:30 pm.  Lots of prizes & fun!
URL:https://centralcitygo.org/event/american-legion-bingo-41/
LOCATION:American Legion – Post 421\, 6 Central City Rd\, Central City\, Iowa\, 52214\, United States
ATTACH;FMTTYPE=image/jpeg:https://centralcitygo.org/wp-content/uploads/485780808_9324327010992116_6545910602627890421_n-vtiMJe.jpg
ORGANIZER;CN="American Legion - Post 421":MAILTO:iapost421@gmail.com
END:VEVENT
BEGIN:VEVENT
DTSTART;TZID=America/Chicago:20260321T190000
DTEND;TZID=America/Chicago:20260321T213000
DTSTAMP:20260420T232503
CREATED:20260217T224622Z
LAST-MODIFIED:20260217T224622Z
UID:2016-1774119600-1774128600@centralcitygo.org
SUMMARY:The Carousel
DESCRIPTION:Live Music at BIT Brewery with The Carousel
URL:https://centralcitygo.org/event/the-carousel/
LOCATION:BIT Brewery\, 26 - 4th St N\, Central City\, Iowa\, 52214\, United States
ATTACH;FMTTYPE=image/jpeg:https://centralcitygo.org/wp-content/uploads/BIT-The-Carousel.jpg
ORGANIZER;CN="BIT Brewery":MAILTO:bitbrew3@gmail.com
END:VEVENT
BEGIN:VEVENT
DTSTART;TZID=America/Chicago:20260320T170000
DTEND;TZID=America/Chicago:20260320T200000
DTSTAMP:20260420T232503
CREATED:20260316T215356Z
LAST-MODIFIED:20260316T215356Z
UID:2122-1774026000-1774036800@centralcitygo.org
SUMMARY:AMVETS Fish Fry
DESCRIPTION:Fish\, fries & coleslaw for only $12.  Dine in\, take out or delivery is available to surrounding areas.
URL:https://centralcitygo.org/event/amvets-fish-fry/
LOCATION:AMVETS Post 37\, 15-1/2 S 4th St\, Central City\, Iowa\, 52214\, United States
ATTACH;FMTTYPE=image/jpeg:https://centralcitygo.org/wp-content/uploads/AMVETS-3.20-Fish-Fry.jpg
ORGANIZER;CN="AMVETS Post 37":MAILTO:amvetspost37cc@yahoo.com
END:VEVENT
BEGIN:VEVENT
DTSTART;TZID=America/Chicago:20260319T180000
DTEND;TZID=America/Chicago:20260319T200000
DTSTAMP:20260420T232503
CREATED:20260310T191331Z
LAST-MODIFIED:20260310T191331Z
UID:2097-1773943200-1773950400@centralcitygo.org
SUMMARY:Fiber Night
DESCRIPTION:Bring your projects – crochet\, knitting\, spinning\, weaving\, felting\, etc – and join us for the evening.
URL:https://centralcitygo.org/event/fiber-night/
LOCATION:Wapsi Weaving\, 161 4th St N\, Central City\, Iowa\, 52214
ATTACH;FMTTYPE=image/jpeg:https://centralcitygo.org/wp-content/uploads/Wapsi-Weaving.jpg
ORGANIZER;CN="Wapsi Weaving":MAILTO:lilyacres5031@gmail.com
END:VEVENT
BEGIN:VEVENT
DTSTART;TZID=America/Chicago:20260318T180000
DTEND;TZID=America/Chicago:20260318T200000
DTSTAMP:20260420T232503
CREATED:20260217T224652Z
LAST-MODIFIED:20260217T224652Z
UID:2029-1773856800-1773864000@centralcitygo.org
SUMMARY:Foxy's Bingo Night
DESCRIPTION:Free Bingo at Foxy’s Chill & Grill
URL:https://centralcitygo.org/event/foxys-bingo-night-3/
LOCATION:Foxy’s Chill & Grill\, 347 E Main St\, Central City\, Iowa\, 52214\, United States
ATTACH;FMTTYPE=image/jpeg:https://centralcitygo.org/wp-content/uploads/Foxys-Bingo.jpg
ORGANIZER;CN="Foxy's Chill &amp%3B Grill":MAILTO:Foxden269@gmail.com
END:VEVENT
BEGIN:VEVENT
DTSTART;TZID=America/Chicago:20260317T183000
DTEND;TZID=America/Chicago:20260317T213000
DTSTAMP:20260420T232503
CREATED:20260217T224737Z
LAST-MODIFIED:20260217T224737Z
UID:2042-1773772200-1773783000@centralcitygo.org
SUMMARY:American Legion Bingo
DESCRIPTION:Bingo every Tuesday night.  Doors open at 4:30 pm.  Bingo starts at 6:30 pm.  Lots of prizes & fun!
URL:https://centralcitygo.org/event/american-legion-bingo-40/
LOCATION:American Legion – Post 421\, 6 Central City Rd\, Central City\, Iowa\, 52214\, United States
ATTACH;FMTTYPE=image/jpeg:https://centralcitygo.org/wp-content/uploads/485780808_9324327010992116_6545910602627890421_n-vtiMJe.jpg
ORGANIZER;CN="American Legion - Post 421":MAILTO:iapost421@gmail.com
END:VEVENT
BEGIN:VEVENT
DTSTART;TZID=America/Chicago:20260317T150000
DTEND;TZID=America/Chicago:20260317T200000
DTSTAMP:20260420T232503
CREATED:20260310T191330Z
LAST-MODIFIED:20260310T191330Z
UID:2096-1773759600-1773777600@centralcitygo.org
SUMMARY:Free Corned Beef & Cabbage Meal
DESCRIPTION:Join the Central City AMVETS for a free St Patrick’s Day meal of traditional corned beef & cabbage.  Drink specials will be offered.  This event starts at 3:00 pm and dinner is free while supplies last.
URL:https://centralcitygo.org/event/free-corned-beef-cabbage-meal/
LOCATION:AMVETS Post 37\, 15-1/2 S 4th St\, Central City\, Iowa\, 52214\, United States
ATTACH;FMTTYPE=image/jpeg:https://centralcitygo.org/wp-content/uploads/AMVETS-3.17-Corned-Beef.jpg
ORGANIZER;CN="AMVETS Post 37":MAILTO:amvetspost37cc@yahoo.com
END:VEVENT
BEGIN:VEVENT
DTSTART;TZID=America/Chicago:20260313T170000
DTEND;TZID=America/Chicago:20260313T190000
DTSTAMP:20260420T232503
CREATED:20260217T224954Z
LAST-MODIFIED:20260217T224954Z
UID:2053-1773421200-1773428400@centralcitygo.org
SUMMARY:American Legion Fry (Fish or Pork Chop or Steak)
DESCRIPTION:Every 2nd Friday of the month\, come enjoy a great meal!  Fish\, steak or pork chops\, with sides\, salad & dessert.  Carry-outs available.  Check the Facebook page for more information: https://www.facebook.com/iapost421
URL:https://centralcitygo.org/event/american-legion-fry-fish-or-pork-chop-or-steak/
LOCATION:American Legion – Post 421\, 6 Central City Rd\, Central City\, Iowa\, 52214\, United States
ATTACH;FMTTYPE=image/jpeg:https://centralcitygo.org/wp-content/uploads/Fish-Fry.jpg
ORGANIZER;CN="American Legion - Post 421":MAILTO:iapost421@gmail.com
END:VEVENT
BEGIN:VEVENT
DTSTART;TZID=America/Chicago:20260312T183000
DTEND;TZID=America/Chicago:20260312T203000
DTSTAMP:20260420T232503
CREATED:20260217T224637Z
LAST-MODIFIED:20260217T224637Z
UID:2022-1773340200-1773347400@centralcitygo.org
SUMMARY:Trivia Night
DESCRIPTION:Trivia Night with BIT & The Trivial Dudes
URL:https://centralcitygo.org/event/trivia-night/
LOCATION:BIT Brewery\, 26 - 4th St N\, Central City\, Iowa\, 52214\, United States
ATTACH;FMTTYPE=image/jpeg:https://centralcitygo.org/wp-content/uploads/BIT-Trivia-Night.jpg
ORGANIZER;CN="BIT Brewery":MAILTO:bitbrew3@gmail.com
END:VEVENT
BEGIN:VEVENT
DTSTART;TZID=America/Chicago:20260311T180000
DTEND;TZID=America/Chicago:20260311T200000
DTSTAMP:20260420T232503
CREATED:20260217T224652Z
LAST-MODIFIED:20260217T224652Z
UID:2028-1773252000-1773259200@centralcitygo.org
SUMMARY:Foxy's Bingo Night
DESCRIPTION:Free Bingo at Foxy’s Chill & Grill
URL:https://centralcitygo.org/event/foxys-bingo-night-2/
LOCATION:Foxy’s Chill & Grill\, 347 E Main St\, Central City\, Iowa\, 52214\, United States
ATTACH;FMTTYPE=image/jpeg:https://centralcitygo.org/wp-content/uploads/Foxys-Bingo.jpg
ORGANIZER;CN="Foxy's Chill &amp%3B Grill":MAILTO:Foxden269@gmail.com
END:VEVENT
BEGIN:VEVENT
DTSTART;TZID=America/Chicago:20260310T183000
DTEND;TZID=America/Chicago:20260310T213000
DTSTAMP:20260420T232503
CREATED:20260217T224737Z
LAST-MODIFIED:20260217T224737Z
UID:2041-1773167400-1773178200@centralcitygo.org
SUMMARY:American Legion Bingo
DESCRIPTION:Bingo every Tuesday night.  Doors open at 4:30 pm.  Bingo starts at 6:30 pm.  Lots of prizes & fun!
URL:https://centralcitygo.org/event/american-legion-bingo-39/
LOCATION:American Legion – Post 421\, 6 Central City Rd\, Central City\, Iowa\, 52214\, United States
ATTACH;FMTTYPE=image/jpeg:https://centralcitygo.org/wp-content/uploads/485780808_9324327010992116_6545910602627890421_n-vtiMJe.jpg
ORGANIZER;CN="American Legion - Post 421":MAILTO:iapost421@gmail.com
END:VEVENT
BEGIN:VEVENT
DTSTART;TZID=America/Chicago:20260307T190000
DTEND;TZID=America/Chicago:20260307T213000
DTSTAMP:20260420T232503
CREATED:20260217T224622Z
LAST-MODIFIED:20260217T224622Z
UID:2017-1772910000-1772919000@centralcitygo.org
SUMMARY:Chris Powell
DESCRIPTION:Live Music at BIT Brewery with Chris Powell
URL:https://centralcitygo.org/event/chris-powell/
LOCATION:BIT Brewery\, 26 - 4th St N\, Central City\, Iowa\, 52214\, United States
ATTACH;FMTTYPE=image/jpeg:https://centralcitygo.org/wp-content/uploads/BIT-Chris-Powell.jpg
ORGANIZER;CN="BIT Brewery":MAILTO:bitbrew3@gmail.com
END:VEVENT
BEGIN:VEVENT
DTSTART;TZID=America/Chicago:20260306T183000
DTEND;TZID=America/Chicago:20260306T203000
DTSTAMP:20260420T232503
CREATED:20260217T224622Z
LAST-MODIFIED:20260217T224622Z
UID:2019-1772821800-1772829000@centralcitygo.org
SUMMARY:Music Bingo
DESCRIPTION:Music Bingo with BIT & The Trivial Dudes
URL:https://centralcitygo.org/event/music-bingo/
LOCATION:BIT Brewery\, 26 - 4th St N\, Central City\, Iowa\, 52214\, United States
ATTACH;FMTTYPE=image/jpeg:https://centralcitygo.org/wp-content/uploads/BIT-Music-Bingo.jpg
ORGANIZER;CN="BIT Brewery":MAILTO:bitbrew3@gmail.com
END:VEVENT
BEGIN:VEVENT
DTSTART;TZID=America/Chicago:20260304T180000
DTEND;TZID=America/Chicago:20260304T200000
DTSTAMP:20260420T232503
CREATED:20260217T224652Z
LAST-MODIFIED:20260217T224652Z
UID:2027-1772647200-1772654400@centralcitygo.org
SUMMARY:Foxy's Bingo Night
DESCRIPTION:Free Bingo at Foxy’s Chill & Grill
URL:https://centralcitygo.org/event/foxys-bingo-night/
LOCATION:Foxy’s Chill & Grill\, 347 E Main St\, Central City\, Iowa\, 52214\, United States
ATTACH;FMTTYPE=image/jpeg:https://centralcitygo.org/wp-content/uploads/Foxys-Bingo.jpg
ORGANIZER;CN="Foxy's Chill &amp%3B Grill":MAILTO:Foxden269@gmail.com
END:VEVENT
END:VCALENDAR