BEGIN:VCALENDAR
VERSION:2.0
PRODID:-//Central City Go - ECPv6.15.17.1//NONSGML v1.0//EN
CALSCALE:GREGORIAN
METHOD:PUBLISH
X-ORIGINAL-URL:https://centralcitygo.org
X-WR-CALDESC:Events for Central City Go
REFRESH-INTERVAL;VALUE=DURATION:PT1H
X-Robots-Tag:noindex
X-PUBLISHED-TTL:PT1H
BEGIN:VTIMEZONE
TZID:America/Chicago
BEGIN:DAYLIGHT
TZOFFSETFROM:-0600
TZOFFSETTO:-0500
TZNAME:CDT
DTSTART:20250309T080000
END:DAYLIGHT
BEGIN:STANDARD
TZOFFSETFROM:-0500
TZOFFSETTO:-0600
TZNAME:CST
DTSTART:20251102T070000
END:STANDARD
BEGIN:DAYLIGHT
TZOFFSETFROM:-0600
TZOFFSETTO:-0500
TZNAME:CDT
DTSTART:20260308T080000
END:DAYLIGHT
BEGIN:STANDARD
TZOFFSETFROM:-0500
TZOFFSETTO:-0600
TZNAME:CST
DTSTART:20261101T070000
END:STANDARD
BEGIN:DAYLIGHT
TZOFFSETFROM:-0600
TZOFFSETTO:-0500
TZNAME:CDT
DTSTART:20270314T080000
END:DAYLIGHT
BEGIN:STANDARD
TZOFFSETFROM:-0500
TZOFFSETTO:-0600
TZNAME:CST
DTSTART:20271107T070000
END:STANDARD
END:VTIMEZONE
BEGIN:VEVENT
DTSTART;TZID=America/Chicago:20260510T110000
DTEND;TZID=America/Chicago:20260510T153000
DTSTAMP:20260422T010447
CREATED:20260316T215356Z
LAST-MODIFIED:20260316T215356Z
UID:2120-1778410800-1778427000@centralcitygo.org
SUMMARY:Mother's Day Carriage Ridge
DESCRIPTION:Celebrate Mother’s Day with a  with a special carriage ride for a lasting memory!  Grab lunch with Mom and enjoy a horse drawn tour along the Wapsipinicon River.  Reserve an hour or half hour with us\, and we’ll board at one of our great restaurants – your choice!   Call or text to book (319)540-5536
URL:https://centralcitygo.org/event/mothers-day-carriage-ridge/
LOCATION:Downtown Central City\, 356 E Main St\, Central City\, Iowa\, 52214\, United States
ATTACH;FMTTYPE=image/jpeg:https://centralcitygo.org/wp-content/uploads/Blue-Moon-Logo-small.jpg
ORGANIZER;CN="Blue Moon Carriage":MAILTO:moongardengypsy@gmail.com
END:VEVENT
BEGIN:VEVENT
DTSTART;TZID=America/Chicago:20260512T183000
DTEND;TZID=America/Chicago:20260512T213000
DTSTAMP:20260422T010447
CREATED:20260217T224953Z
LAST-MODIFIED:20260217T224953Z
UID:2050-1778610600-1778621400@centralcitygo.org
SUMMARY:American Legion Bingo
DESCRIPTION:Bingo every Tuesday night.  Doors open at 4:30 pm.  Bingo starts at 6:30 pm.  Lots of prizes & fun!
URL:https://centralcitygo.org/event/american-legion-bingo-48/
LOCATION:American Legion – Post 421\, 6 Central City Rd\, Central City\, Iowa\, 52214\, United States
ATTACH;FMTTYPE=image/jpeg:https://centralcitygo.org/wp-content/uploads/485780808_9324327010992116_6545910602627890421_n-vtiMJe.jpg
ORGANIZER;CN="American Legion - Post 421":MAILTO:iapost421@gmail.com
END:VEVENT
BEGIN:VEVENT
DTSTART;TZID=America/Chicago:20260513T180000
DTEND;TZID=America/Chicago:20260513T200000
DTSTAMP:20260422T010447
CREATED:20260217T224722Z
LAST-MODIFIED:20260217T224722Z
UID:2036-1778695200-1778702400@centralcitygo.org
SUMMARY:Foxy's Bingo Night
DESCRIPTION:Free Bingo at Foxy’s Chill & Grill
URL:https://centralcitygo.org/event/foxys-bingo-night-10/
LOCATION:Foxy’s Chill & Grill\, 347 E Main St\, Central City\, Iowa\, 52214\, United States
ATTACH;FMTTYPE=image/jpeg:https://centralcitygo.org/wp-content/uploads/Foxys-Bingo.jpg
ORGANIZER;CN="Foxy's Chill &amp%3B Grill":MAILTO:Foxden269@gmail.com
END:VEVENT
BEGIN:VEVENT
DTSTART;TZID=America/Chicago:20260514T183000
DTEND;TZID=America/Chicago:20260514T203000
DTSTAMP:20260422T010447
CREATED:20260217T224637Z
LAST-MODIFIED:20260217T224637Z
UID:2024-1778783400-1778790600@centralcitygo.org
SUMMARY:Trivia Night
DESCRIPTION:Trivia Night with BIT & The Trivial Dudes
URL:https://centralcitygo.org/event/trivia-night-3/
LOCATION:BIT Brewery\, 26 - 4th St N\, Central City\, Iowa\, 52214\, United States
ATTACH;FMTTYPE=image/jpeg:https://centralcitygo.org/wp-content/uploads/BIT-Trivia-Night.jpg
ORGANIZER;CN="BIT Brewery":MAILTO:bitbrew3@gmail.com
END:VEVENT
BEGIN:VEVENT
DTSTART;TZID=America/Chicago:20260515T000000
DTEND;TZID=America/Chicago:20260516T000000
DTSTAMP:20260422T010447
CREATED:20260422T022913Z
LAST-MODIFIED:20260422T022913Z
UID:2223-1778803200-1778889600@centralcitygo.org
SUMMARY:Coggon City Wide Garage Sales
DESCRIPTION:
URL:https://centralcitygo.org/event/coggon-city-wide-garage-sales-3/
LOCATION:Coggon\, IA\, 118 E Main St\, Coggon\, Iowa\, 52218\, United States
ATTACH;FMTTYPE=image/jpeg:https://centralcitygo.org/wp-content/uploads/garage-sale.jpg
ORGANIZER;CN="City of Coggon":MAILTO:cityclerk@coggonia.org
END:VEVENT
BEGIN:VEVENT
DTSTART;TZID=America/Chicago:20260515T200000
DTEND;TZID=America/Chicago:20260515T220000
DTSTAMP:20260422T010447
CREATED:20260310T191349Z
LAST-MODIFIED:20260310T191349Z
UID:2108-1778875200-1778882400@centralcitygo.org
SUMMARY:Movie in the Park
DESCRIPTION:Join Central City Parks & Rec for a free movie in the park!  Free admission\, free popcorn!  Bring your own seating.  Food trucks will arrive by 7:00.  The movie will start at dusk.  Movie: “IF” – Food Truck: Loosies CR – Cool Treats: TBA  Rain Date: May 16.
URL:https://centralcitygo.org/event/movie-in-the-park/
LOCATION:Veteran’s Memorial Park\, 260 5th St S\, Central City\, Iowa\, 52214\, United States
ATTACH;FMTTYPE=image/jpeg:https://centralcitygo.org/wp-content/uploads/Movie-IF.jpg
ORGANIZER;CN="Central City Parks &amp%3B Recreation":MAILTO:clerk@centralcityia.gov
END:VEVENT
BEGIN:VEVENT
DTSTART;TZID=America/Chicago:20260519T183000
DTEND;TZID=America/Chicago:20260519T213000
DTSTAMP:20260422T010447
CREATED:20260217T224953Z
LAST-MODIFIED:20260217T224953Z
UID:2051-1779215400-1779226200@centralcitygo.org
SUMMARY:American Legion Bingo
DESCRIPTION:Bingo every Tuesday night.  Doors open at 4:30 pm.  Bingo starts at 6:30 pm.  Lots of prizes & fun!
URL:https://centralcitygo.org/event/american-legion-bingo-49/
LOCATION:American Legion – Post 421\, 6 Central City Rd\, Central City\, Iowa\, 52214\, United States
ATTACH;FMTTYPE=image/jpeg:https://centralcitygo.org/wp-content/uploads/485780808_9324327010992116_6545910602627890421_n-vtiMJe.jpg
ORGANIZER;CN="American Legion - Post 421":MAILTO:iapost421@gmail.com
END:VEVENT
BEGIN:VEVENT
DTSTART;TZID=America/Chicago:20260520T180000
DTEND;TZID=America/Chicago:20260520T200000
DTSTAMP:20260422T010447
CREATED:20260217T224722Z
LAST-MODIFIED:20260217T224722Z
UID:2037-1779300000-1779307200@centralcitygo.org
SUMMARY:Foxy's Bingo Night
DESCRIPTION:Free Bingo at Foxy’s Chill & Grill
URL:https://centralcitygo.org/event/foxys-bingo-night-11/
LOCATION:Foxy’s Chill & Grill\, 347 E Main St\, Central City\, Iowa\, 52214\, United States
ATTACH;FMTTYPE=image/jpeg:https://centralcitygo.org/wp-content/uploads/Foxys-Bingo.jpg
ORGANIZER;CN="Foxy's Chill &amp%3B Grill":MAILTO:Foxden269@gmail.com
END:VEVENT
BEGIN:VEVENT
DTSTART;TZID=America/Chicago:20260521T180000
DTEND;TZID=America/Chicago:20260521T200000
DTSTAMP:20260422T010447
CREATED:20260310T191333Z
LAST-MODIFIED:20260310T191333Z
UID:2101-1779386400-1779393600@centralcitygo.org
SUMMARY:Fiber Night
DESCRIPTION:Bring your projects – crochet\, knitting\, spinning\, weaving\, felting\, etc – and join us for the evening.
URL:https://centralcitygo.org/event/fiber-night-5/
LOCATION:Wapsi Weaving\, 161 4th St N\, Central City\, Iowa\, 52214
ATTACH;FMTTYPE=image/jpeg:https://centralcitygo.org/wp-content/uploads/Wapsi-Weaving.jpg
ORGANIZER;CN="Wapsi Weaving":MAILTO:lilyacres5031@gmail.com
END:VEVENT
BEGIN:VEVENT
DTSTART;TZID=America/Chicago:20260525T070000
DTEND;TZID=America/Chicago:20260525T120000
DTSTAMP:20260422T010447
CREATED:20260422T022912Z
LAST-MODIFIED:20260422T022912Z
UID:2220-1779692400-1779710400@centralcitygo.org
SUMMARY:3rd District Annual Memorial Day Pancake Breakfast
DESCRIPTION:Support our local 3rd District Fire Department at the annual pancake breakfast fundraiser.  Raffle prizes & drawings too!
URL:https://centralcitygo.org/event/3rd-district-annual-memorial-day-pancake-breakfast/
LOCATION:Falcon Civic Center\, 137 4th St N\, Central City\, Iowa\, 52214\, United States
ATTACH;FMTTYPE=image/jpeg:https://centralcitygo.org/wp-content/uploads/3rd-Fire-Dist.jpg
END:VEVENT
BEGIN:VEVENT
DTSTART;TZID=America/Chicago:20260525T140000
DTEND;TZID=America/Chicago:20260525T190000
DTSTAMP:20260422T010447
CREATED:20260422T022912Z
LAST-MODIFIED:20260422T022912Z
UID:2221-1779717600-1779735600@centralcitygo.org
SUMMARY:F.B. & Company Live Music
DESCRIPTION:Live music at the historic F.B. & Company in Waubeek\, IA
URL:https://centralcitygo.org/event/f-b-company-live-music-3/
LOCATION:F.B. & Company\, 4185 Whittier Rd\, Central City\, Iowa\, 52214\, United States
ATTACH;FMTTYPE=image/jpeg:https://centralcitygo.org/wp-content/uploads/FB-Co-1.jpg
ORGANIZER;CN="F.B. &amp%3B Company":MAILTO:tim_kula@yahoo.com
END:VEVENT
BEGIN:VEVENT
DTSTART;TZID=America/Chicago:20260526T183000
DTEND;TZID=America/Chicago:20260526T213000
DTSTAMP:20260422T010447
CREATED:20260217T224954Z
LAST-MODIFIED:20260217T224954Z
UID:2052-1779820200-1779831000@centralcitygo.org
SUMMARY:American Legion Bingo
DESCRIPTION:Bingo every Tuesday night.  Doors open at 4:30 pm.  Bingo starts at 6:30 pm.  Lots of prizes & fun!
URL:https://centralcitygo.org/event/american-legion-bingo-50/
LOCATION:American Legion – Post 421\, 6 Central City Rd\, Central City\, Iowa\, 52214\, United States
ATTACH;FMTTYPE=image/jpeg:https://centralcitygo.org/wp-content/uploads/485780808_9324327010992116_6545910602627890421_n-vtiMJe.jpg
ORGANIZER;CN="American Legion - Post 421":MAILTO:iapost421@gmail.com
END:VEVENT
BEGIN:VEVENT
DTSTART;TZID=America/Chicago:20260527T180000
DTEND;TZID=America/Chicago:20260527T200000
DTSTAMP:20260422T010447
CREATED:20260217T224722Z
LAST-MODIFIED:20260217T224722Z
UID:2038-1779904800-1779912000@centralcitygo.org
SUMMARY:Foxy's Bingo Night
DESCRIPTION:Free Bingo at Foxy’s Chill & Grill
URL:https://centralcitygo.org/event/foxys-bingo-night-12/
LOCATION:Foxy’s Chill & Grill\, 347 E Main St\, Central City\, Iowa\, 52214\, United States
ATTACH;FMTTYPE=image/jpeg:https://centralcitygo.org/wp-content/uploads/Foxys-Bingo.jpg
ORGANIZER;CN="Foxy's Chill &amp%3B Grill":MAILTO:Foxden269@gmail.com
END:VEVENT
BEGIN:VEVENT
DTSTART;TZID=America/Chicago:20260602T183000
DTEND;TZID=America/Chicago:20260602T213000
DTSTAMP:20260422T010447
CREATED:20260422T023142Z
LAST-MODIFIED:20260422T023142Z
UID:2272-1780425000-1780435800@centralcitygo.org
SUMMARY:American Legion Bingo
DESCRIPTION:Bingo every Tuesday night.  Doors open at 4:30 pm.  Bingo starts at 6:30 pm.  Lots of prizes & fun!
URL:https://centralcitygo.org/event/american-legion-bingo-51/
LOCATION:American Legion – Post 421\, 6 Central City Rd\, Central City\, Iowa\, 52214\, United States
ATTACH;FMTTYPE=image/jpeg:https://centralcitygo.org/wp-content/uploads/485780808_9324327010992116_6545910602627890421_n-vtiMJe.jpg
ORGANIZER;CN="American Legion - Post 421":MAILTO:iapost421@gmail.com
END:VEVENT
BEGIN:VEVENT
DTSTART;TZID=America/Chicago:20260603T180000
DTEND;TZID=America/Chicago:20260603T200000
DTSTAMP:20260422T010447
CREATED:20260422T022942Z
LAST-MODIFIED:20260422T022942Z
UID:2232-1780509600-1780516800@centralcitygo.org
SUMMARY:Foxy's Bingo Nights
DESCRIPTION:Weekly family-friendly bingo nights featuring fun and prizes!
URL:https://centralcitygo.org/event/foxys-bingo-nights/
LOCATION:Foxy’s Chill & Grill\, 347 E Main St\, Central City\, Iowa\, 52214\, United States
ATTACH;FMTTYPE=image/jpeg:https://centralcitygo.org/wp-content/uploads/Foxys-Bingo.jpg
ORGANIZER;CN="Foxy's Chill &amp%3B Grill":MAILTO:Foxden269@gmail.com
END:VEVENT
BEGIN:VEVENT
DTSTART;TZID=America/Chicago:20260604T160000
DTEND;TZID=America/Chicago:20260604T180000
DTSTAMP:20260422T010447
CREATED:20260422T023042Z
LAST-MODIFIED:20260422T023042Z
UID:2250-1780588800-1780596000@centralcitygo.org
SUMMARY:Central City Farmer's Market
DESCRIPTION:Weekly farmer’s market featuring local vendors with fresh Iowa-grown produce\, baked good\, crafts\, eggs\, honey and more!
URL:https://centralcitygo.org/event/central-city-farmers-market-5/
LOCATION:Veteran’s Memorial Park\, 260 5th St S\, Central City\, Iowa\, 52214\, United States
ATTACH;FMTTYPE=image/png:https://centralcitygo.org/wp-content/uploads/Farmers-Market.png
ORGANIZER;CN="Central City Parks &amp%3B Recreation":MAILTO:clerk@centralcityia.gov
END:VEVENT
BEGIN:VEVENT
DTSTART;TZID=America/Chicago:20260604T163000
DTEND;TZID=America/Chicago:20260604T200000
DTSTAMP:20260422T010447
CREATED:20260422T022855Z
LAST-MODIFIED:20260422T022855Z
UID:2213-1780590600-1780603200@centralcitygo.org
SUMMARY:Foxy's Shine & Dine
DESCRIPTION:Bring your hot rod\, truck\, car or motorcycle for a night out with other enthusiasts.
URL:https://centralcitygo.org/event/foxys-shine-dine-8/
LOCATION:Downtown Central City\, 356 E Main St\, Central City\, Iowa\, 52214\, United States
ATTACH;FMTTYPE=image/jpeg:https://centralcitygo.org/wp-content/uploads/Foxys-Shine-Dine.jpg
ORGANIZER;CN="Foxy's Chill &amp%3B Grill":MAILTO:Foxden269@gmail.com
END:VEVENT
BEGIN:VEVENT
DTSTART;TZID=America/Chicago:20260604T180000
DTEND;TZID=America/Chicago:20260604T200000
DTSTAMP:20260422T010447
CREATED:20260310T191333Z
LAST-MODIFIED:20260310T191333Z
UID:2102-1780596000-1780603200@centralcitygo.org
SUMMARY:Fiber Night
DESCRIPTION:Bring your projects – crochet\, knitting\, spinning\, weaving\, felting\, etc – and join us for the evening.
URL:https://centralcitygo.org/event/fiber-night-6/
LOCATION:Wapsi Weaving\, 161 4th St N\, Central City\, Iowa\, 52214
ATTACH;FMTTYPE=image/jpeg:https://centralcitygo.org/wp-content/uploads/Wapsi-Weaving.jpg
ORGANIZER;CN="Wapsi Weaving":MAILTO:lilyacres5031@gmail.com
END:VEVENT
BEGIN:VEVENT
DTSTART;TZID=America/Chicago:20260609T183000
DTEND;TZID=America/Chicago:20260609T213000
DTSTAMP:20260422T010447
CREATED:20260422T023143Z
LAST-MODIFIED:20260422T023143Z
UID:2273-1781029800-1781040600@centralcitygo.org
SUMMARY:American Legion Bingo
DESCRIPTION:Bingo every Tuesday night.  Doors open at 4:30 pm.  Bingo starts at 6:30 pm.  Lots of prizes & fun!
URL:https://centralcitygo.org/event/american-legion-bingo-52/
LOCATION:American Legion – Post 421\, 6 Central City Rd\, Central City\, Iowa\, 52214\, United States
ATTACH;FMTTYPE=image/jpeg:https://centralcitygo.org/wp-content/uploads/485780808_9324327010992116_6545910602627890421_n-vtiMJe.jpg
ORGANIZER;CN="American Legion - Post 421":MAILTO:iapost421@gmail.com
END:VEVENT
BEGIN:VEVENT
DTSTART;TZID=America/Chicago:20260610T180000
DTEND;TZID=America/Chicago:20260610T200000
DTSTAMP:20260422T010447
CREATED:20260422T022942Z
LAST-MODIFIED:20260422T022942Z
UID:2233-1781114400-1781121600@centralcitygo.org
SUMMARY:Foxy's Bingo Nights
DESCRIPTION:Weekly family-friendly bingo nights featuring fun and prizes!
URL:https://centralcitygo.org/event/foxys-bingo-nights-2/
LOCATION:Foxy’s Chill & Grill\, 347 E Main St\, Central City\, Iowa\, 52214\, United States
ATTACH;FMTTYPE=image/jpeg:https://centralcitygo.org/wp-content/uploads/Foxys-Bingo.jpg
ORGANIZER;CN="Foxy's Chill &amp%3B Grill":MAILTO:Foxden269@gmail.com
END:VEVENT
BEGIN:VEVENT
DTSTART;TZID=America/Chicago:20260611T160000
DTEND;TZID=America/Chicago:20260611T180000
DTSTAMP:20260422T010447
CREATED:20260422T023042Z
LAST-MODIFIED:20260422T023042Z
UID:2251-1781193600-1781200800@centralcitygo.org
SUMMARY:Central City Farmer's Market
DESCRIPTION:Weekly farmer’s market featuring local vendors with fresh Iowa-grown produce\, baked good\, crafts\, eggs\, honey and more!
URL:https://centralcitygo.org/event/central-city-farmers-market-6/
LOCATION:Veteran’s Memorial Park\, 260 5th St S\, Central City\, Iowa\, 52214\, United States
ATTACH;FMTTYPE=image/png:https://centralcitygo.org/wp-content/uploads/Farmers-Market.png
ORGANIZER;CN="Central City Parks &amp%3B Recreation":MAILTO:clerk@centralcityia.gov
END:VEVENT
BEGIN:VEVENT
DTSTART;TZID=America/Chicago:20260612T170000
DTEND;TZID=America/Chicago:20260612T190000
DTSTAMP:20260422T010447
CREATED:20260422T023127Z
LAST-MODIFIED:20260422T023127Z
UID:2267-1781283600-1781290800@centralcitygo.org
SUMMARY:American Legion Fry (Fish or Pork Chop or Steak)
DESCRIPTION:Every 2nd Friday of the month\, come enjoy a great meal with sides\, salad & dessert.  Carry-outs available.  Check the Facebook page for more information: https://www.facebook.com/iapost421
URL:https://centralcitygo.org/event/american-legion-fry-fish-or-pork-chop-or-steak-4/
LOCATION:American Legion – Post 421\, 6 Central City Rd\, Central City\, Iowa\, 52214\, United States
ATTACH;FMTTYPE=image/jpeg:https://centralcitygo.org/wp-content/uploads/Legion-Pork-Chop.jpg
ORGANIZER;CN="American Legion - Post 421":MAILTO:iapost421@gmail.com
END:VEVENT
BEGIN:VEVENT
DTSTART;TZID=America/Chicago:20260613T080000
DTEND;TZID=America/Chicago:20260613T160000
DTSTAMP:20260422T010447
CREATED:20260422T022942Z
LAST-MODIFIED:20260422T022942Z
UID:2231-1781337600-1781366400@centralcitygo.org
SUMMARY:Springville Garage Sales
DESCRIPTION:
URL:https://centralcitygo.org/event/springville-garage-sales-2/
LOCATION:Springville\, IA\, 304 Broadway\, Springville\, Iowa\, 52336\, United States
ATTACH;FMTTYPE=image/jpeg:https://centralcitygo.org/wp-content/uploads/garage-sale.jpg
ORGANIZER;CN="City of Springville":MAILTO:cityofsp@netins.net
END:VEVENT
BEGIN:VEVENT
DTSTART;TZID=America/Chicago:20260616T183000
DTEND;TZID=America/Chicago:20260616T213000
DTSTAMP:20260422T010447
CREATED:20260422T023143Z
LAST-MODIFIED:20260422T023143Z
UID:2274-1781634600-1781645400@centralcitygo.org
SUMMARY:American Legion Bingo
DESCRIPTION:Bingo every Tuesday night.  Doors open at 4:30 pm.  Bingo starts at 6:30 pm.  Lots of prizes & fun!
URL:https://centralcitygo.org/event/american-legion-bingo-53/
LOCATION:American Legion – Post 421\, 6 Central City Rd\, Central City\, Iowa\, 52214\, United States
ATTACH;FMTTYPE=image/jpeg:https://centralcitygo.org/wp-content/uploads/485780808_9324327010992116_6545910602627890421_n-vtiMJe.jpg
ORGANIZER;CN="American Legion - Post 421":MAILTO:iapost421@gmail.com
END:VEVENT
BEGIN:VEVENT
DTSTART;TZID=America/Chicago:20260617T180000
DTEND;TZID=America/Chicago:20260617T200000
DTSTAMP:20260422T010447
CREATED:20260422T022943Z
LAST-MODIFIED:20260422T022943Z
UID:2234-1781719200-1781726400@centralcitygo.org
SUMMARY:Foxy's Bingo Nights
DESCRIPTION:Weekly family-friendly bingo nights featuring fun and prizes!
URL:https://centralcitygo.org/event/foxys-bingo-nights-3/
LOCATION:Foxy’s Chill & Grill\, 347 E Main St\, Central City\, Iowa\, 52214\, United States
ATTACH;FMTTYPE=image/jpeg:https://centralcitygo.org/wp-content/uploads/Foxys-Bingo.jpg
ORGANIZER;CN="Foxy's Chill &amp%3B Grill":MAILTO:Foxden269@gmail.com
END:VEVENT
BEGIN:VEVENT
DTSTART;TZID=America/Chicago:20260618T160000
DTEND;TZID=America/Chicago:20260618T180000
DTSTAMP:20260422T010447
CREATED:20260422T023042Z
LAST-MODIFIED:20260422T023042Z
UID:2252-1781798400-1781805600@centralcitygo.org
SUMMARY:Central City Farmer's Market
DESCRIPTION:Weekly farmer’s market featuring local vendors with fresh Iowa-grown produce\, baked good\, crafts\, eggs\, honey and more!
URL:https://centralcitygo.org/event/central-city-farmers-market-7/
LOCATION:Veteran’s Memorial Park\, 260 5th St S\, Central City\, Iowa\, 52214\, United States
ATTACH;FMTTYPE=image/png:https://centralcitygo.org/wp-content/uploads/Farmers-Market.png
ORGANIZER;CN="Central City Parks &amp%3B Recreation":MAILTO:clerk@centralcityia.gov
END:VEVENT
BEGIN:VEVENT
DTSTART;TZID=America/Chicago:20260618T180000
DTEND;TZID=America/Chicago:20260618T200000
DTSTAMP:20260422T010447
CREATED:20260310T191333Z
LAST-MODIFIED:20260310T191333Z
UID:2103-1781805600-1781812800@centralcitygo.org
SUMMARY:Fiber Night
DESCRIPTION:Bring your projects – crochet\, knitting\, spinning\, weaving\, felting\, etc – and join us for the evening.
URL:https://centralcitygo.org/event/fiber-night-7/
LOCATION:Wapsi Weaving\, 161 4th St N\, Central City\, Iowa\, 52214
ATTACH;FMTTYPE=image/jpeg:https://centralcitygo.org/wp-content/uploads/Wapsi-Weaving.jpg
ORGANIZER;CN="Wapsi Weaving":MAILTO:lilyacres5031@gmail.com
END:VEVENT
BEGIN:VEVENT
DTSTART;TZID=America/Chicago:20260619T183000
DTEND;TZID=America/Chicago:20260619T210000
DTSTAMP:20260422T010447
CREATED:20260310T191349Z
LAST-MODIFIED:20260310T191349Z
UID:2109-1781893800-1781902800@centralcitygo.org
SUMMARY:Music in the Park
DESCRIPTION:Join Central City Parks & Rec for a live concert in the park!  Bring your own seating – admission is free.  Band: Palomino Band – Food Truck: TBA – Cool Treats: TBA
URL:https://centralcitygo.org/event/music-in-the-park/
LOCATION:Veteran’s Memorial Park\, 260 5th St S\, Central City\, Iowa\, 52214\, United States
ATTACH;FMTTYPE=image/jpeg:https://centralcitygo.org/wp-content/uploads/Palomino-Band.jpg
ORGANIZER;CN="Central City Parks &amp%3B Recreation":MAILTO:clerk@centralcityia.gov
END:VEVENT
BEGIN:VEVENT
DTSTART;TZID=America/Chicago:20260623T183000
DTEND;TZID=America/Chicago:20260623T213000
DTSTAMP:20260422T010447
CREATED:20260422T023157Z
LAST-MODIFIED:20260422T023157Z
UID:2275-1782239400-1782250200@centralcitygo.org
SUMMARY:American Legion Bingo
DESCRIPTION:Bingo every Tuesday night.  Doors open at 4:30 pm.  Bingo starts at 6:30 pm.  Lots of prizes & fun!
URL:https://centralcitygo.org/event/american-legion-bingo-54/
LOCATION:American Legion – Post 421\, 6 Central City Rd\, Central City\, Iowa\, 52214\, United States
ATTACH;FMTTYPE=image/jpeg:https://centralcitygo.org/wp-content/uploads/485780808_9324327010992116_6545910602627890421_n-vtiMJe.jpg
ORGANIZER;CN="American Legion - Post 421":MAILTO:iapost421@gmail.com
END:VEVENT
BEGIN:VEVENT
DTSTART;TZID=America/Chicago:20260624T000000
DTEND;TZID=America/Chicago:20260628T000000
DTSTAMP:20260422T010447
CREATED:20260422T023142Z
LAST-MODIFIED:20260422T023142Z
UID:2271-1782259200-1782604800@centralcitygo.org
SUMMARY:The Linn County Fair
DESCRIPTION:
URL:https://centralcitygo.org/event/the-linn-county-fair-2/
LOCATION:Linn County Fairgrounds\, 201 Central City Rd\, Central City\, Iowa\, 52214\, United States
ATTACH;FMTTYPE=image/jpeg:https://centralcitygo.org/wp-content/uploads/Linn-County-Fair.jpg
ORGANIZER;CN="Linn County Fair Association":MAILTO:info@thelinncountyfair.com
END:VEVENT
END:VCALENDAR