BEGIN:VCALENDAR
VERSION:2.0
PRODID:-//Central City Go - ECPv6.15.17.1//NONSGML v1.0//EN
CALSCALE:GREGORIAN
METHOD:PUBLISH
X-WR-CALNAME:Central City Go
X-ORIGINAL-URL:https://centralcitygo.org
X-WR-CALDESC:Events for Central City Go
REFRESH-INTERVAL;VALUE=DURATION:PT1H
X-Robots-Tag:noindex
X-PUBLISHED-TTL:PT1H
BEGIN:VTIMEZONE
TZID:America/Chicago
BEGIN:DAYLIGHT
TZOFFSETFROM:-0600
TZOFFSETTO:-0500
TZNAME:CDT
DTSTART:20250309T080000
END:DAYLIGHT
BEGIN:STANDARD
TZOFFSETFROM:-0500
TZOFFSETTO:-0600
TZNAME:CST
DTSTART:20251102T070000
END:STANDARD
BEGIN:DAYLIGHT
TZOFFSETFROM:-0600
TZOFFSETTO:-0500
TZNAME:CDT
DTSTART:20260308T080000
END:DAYLIGHT
BEGIN:STANDARD
TZOFFSETFROM:-0500
TZOFFSETTO:-0600
TZNAME:CST
DTSTART:20261101T070000
END:STANDARD
BEGIN:DAYLIGHT
TZOFFSETFROM:-0600
TZOFFSETTO:-0500
TZNAME:CDT
DTSTART:20270314T080000
END:DAYLIGHT
BEGIN:STANDARD
TZOFFSETFROM:-0500
TZOFFSETTO:-0600
TZNAME:CST
DTSTART:20271107T070000
END:STANDARD
END:VTIMEZONE
BEGIN:VEVENT
DTSTART;TZID=America/Chicago:20260929T183000
DTEND;TZID=America/Chicago:20260929T213000
DTSTAMP:20260422T040945
CREATED:20260422T023228Z
LAST-MODIFIED:20260422T023228Z
UID:2289-1790706600-1790717400@centralcitygo.org
SUMMARY:American Legion Bingo
DESCRIPTION:Bingo every Tuesday night.  Doors open at 4:30 pm.  Bingo starts at 6:30 pm.  Lots of prizes & fun!
URL:https://centralcitygo.org/event/american-legion-bingo-68/
LOCATION:American Legion – Post 421\, 6 Central City Rd\, Central City\, Iowa\, 52214\, United States
ATTACH;FMTTYPE=image/jpeg:https://centralcitygo.org/wp-content/uploads/485780808_9324327010992116_6545910602627890421_n-vtiMJe.jpg
ORGANIZER;CN="American Legion - Post 421":MAILTO:iapost421@gmail.com
END:VEVENT
BEGIN:VEVENT
DTSTART;TZID=America/Chicago:20260930T180000
DTEND;TZID=America/Chicago:20260930T200000
DTSTAMP:20260422T040945
CREATED:20260422T023028Z
LAST-MODIFIED:20260422T023028Z
UID:2249-1790791200-1790798400@centralcitygo.org
SUMMARY:Foxy's Bingo Nights
DESCRIPTION:Weekly family-friendly bingo nights featuring fun and prizes!
URL:https://centralcitygo.org/event/foxys-bingo-nights-18/
LOCATION:Foxy’s Chill & Grill\, 347 E Main St\, Central City\, Iowa\, 52214\, United States
ATTACH;FMTTYPE=image/jpeg:https://centralcitygo.org/wp-content/uploads/Foxys-Bingo.jpg
ORGANIZER;CN="Foxy's Chill &amp%3B Grill":MAILTO:Foxden269@gmail.com
END:VEVENT
BEGIN:VEVENT
DTSTART;TZID=America/Chicago:20261001T163000
DTEND;TZID=America/Chicago:20261001T200000
DTSTAMP:20260422T040945
CREATED:20260422T022857Z
LAST-MODIFIED:20260422T022857Z
UID:2217-1790872200-1790884800@centralcitygo.org
SUMMARY:Foxy's Shine & Dine
DESCRIPTION:Bring your hot rod\, truck\, car or motorcycle for a night out with other enthusiasts.
URL:https://centralcitygo.org/event/foxys-shine-dine-12/
LOCATION:Downtown Central City\, 356 E Main St\, Central City\, Iowa\, 52214\, United States
ATTACH;FMTTYPE=image/jpeg:https://centralcitygo.org/wp-content/uploads/Foxys-Shine-Dine.jpg
ORGANIZER;CN="Foxy's Chill &amp%3B Grill":MAILTO:Foxden269@gmail.com
END:VEVENT
END:VCALENDAR