BEGIN:VCALENDAR
VERSION:2.0
PRODID:-//Central City Go - ECPv6.15.20//NONSGML v1.0//EN
CALSCALE:GREGORIAN
METHOD:PUBLISH
X-ORIGINAL-URL:https://centralcitygo.org
X-WR-CALDESC:Events for Central City Go
REFRESH-INTERVAL;VALUE=DURATION:PT1H
X-Robots-Tag:noindex
X-PUBLISHED-TTL:PT1H
BEGIN:VTIMEZONE
TZID:America/Chicago
BEGIN:DAYLIGHT
TZOFFSETFROM:-0600
TZOFFSETTO:-0500
TZNAME:CDT
DTSTART:20250309T080000
END:DAYLIGHT
BEGIN:STANDARD
TZOFFSETFROM:-0500
TZOFFSETTO:-0600
TZNAME:CST
DTSTART:20251102T070000
END:STANDARD
BEGIN:DAYLIGHT
TZOFFSETFROM:-0600
TZOFFSETTO:-0500
TZNAME:CDT
DTSTART:20260308T080000
END:DAYLIGHT
BEGIN:STANDARD
TZOFFSETFROM:-0500
TZOFFSETTO:-0600
TZNAME:CST
DTSTART:20261101T070000
END:STANDARD
BEGIN:DAYLIGHT
TZOFFSETFROM:-0600
TZOFFSETTO:-0500
TZNAME:CDT
DTSTART:20270314T080000
END:DAYLIGHT
BEGIN:STANDARD
TZOFFSETFROM:-0500
TZOFFSETTO:-0600
TZNAME:CST
DTSTART:20271107T070000
END:STANDARD
END:VTIMEZONE
BEGIN:VEVENT
DTSTART;TZID=America/Chicago:20260721T183000
DTEND;TZID=America/Chicago:20260721T213000
DTSTAMP:20260423T063250
CREATED:20260422T023158Z
LAST-MODIFIED:20260422T023158Z
UID:2279-1784658600-1784669400@centralcitygo.org
SUMMARY:American Legion Bingo
DESCRIPTION:Bingo every Tuesday night.  Doors open at 4:30 pm.  Bingo starts at 6:30 pm.  Lots of prizes & fun!
URL:https://centralcitygo.org/event/american-legion-bingo-58/
LOCATION:American Legion – Post 421\, 6 Central City Rd\, Central City\, Iowa\, 52214\, United States
ATTACH;FMTTYPE=image/jpeg:https://centralcitygo.org/wp-content/uploads/485780808_9324327010992116_6545910602627890421_n-vtiMJe.jpg
ORGANIZER;CN="American Legion - Post 421":MAILTO:iapost421@gmail.com
END:VEVENT
BEGIN:VEVENT
DTSTART;TZID=America/Chicago:20260723T160000
DTEND;TZID=America/Chicago:20260723T180000
DTSTAMP:20260423T063250
CREATED:20260422T023057Z
LAST-MODIFIED:20260422T023057Z
UID:2257-1784822400-1784829600@centralcitygo.org
SUMMARY:Central City Farmer's Market
DESCRIPTION:Weekly farmer’s market featuring local vendors with fresh Iowa-grown produce\, baked good\, crafts\, eggs\, honey and more!
URL:https://centralcitygo.org/event/central-city-farmers-market-12/
LOCATION:Veteran’s Memorial Park\, 260 5th St S\, Central City\, Iowa\, 52214\, United States
ATTACH;FMTTYPE=image/png:https://centralcitygo.org/wp-content/uploads/Farmers-Market.png
ORGANIZER;CN="Central City Parks &amp%3B Recreation":MAILTO:clerk@centralcityia.gov
END:VEVENT
BEGIN:VEVENT
DTSTART;TZID=America/Chicago:20260723T180000
DTEND;TZID=America/Chicago:20260723T200000
DTSTAMP:20260423T063250
CREATED:20260422T022958Z
LAST-MODIFIED:20260422T022958Z
UID:2239-1784829600-1784836800@centralcitygo.org
SUMMARY:Foxy's Bingo Nights
DESCRIPTION:Weekly family-friendly bingo nights featuring fun and prizes!
URL:https://centralcitygo.org/event/foxys-bingo-nights-8/
LOCATION:Foxy’s Chill & Grill\, 347 E Main St\, Central City\, Iowa\, 52214\, United States
ATTACH;FMTTYPE=image/jpeg:https://centralcitygo.org/wp-content/uploads/Foxys-Bingo.jpg
ORGANIZER;CN="Foxy's Chill &amp%3B Grill":MAILTO:Foxden269@gmail.com
END:VEVENT
BEGIN:VEVENT
DTSTART;TZID=America/Chicago:20260724T000000
DTEND;TZID=America/Chicago:20260725T000000
DTSTAMP:20260423T063250
CREATED:20260422T022913Z
LAST-MODIFIED:20260422T022913Z
UID:2224-1784851200-1784937600@centralcitygo.org
SUMMARY:Central City Town Wide Garage Sales
DESCRIPTION:
URL:https://centralcitygo.org/event/central-city-town-wide-garage-sales-2/
LOCATION:Iowa
ATTACH;FMTTYPE=image/jpeg:https://centralcitygo.org/wp-content/uploads/garage-sale.jpg
ORGANIZER;CN="City of Central City":MAILTO:clerk@centralcityia.gov
END:VEVENT
BEGIN:VEVENT
DTSTART;TZID=America/Chicago:20260725T000000
DTEND;TZID=America/Chicago:20260725T000000
DTSTAMP:20260423T063250
CREATED:20260422T022927Z
LAST-MODIFIED:20260422T022927Z
UID:2225-1784937600-1784937600@centralcitygo.org
SUMMARY:Walker Pickle Days
DESCRIPTION:An annual celebration of all things pickle!  This year will feature a fun run and vendor fair\, along with the traditional favorite activities.
URL:https://centralcitygo.org/event/walker-pickle-days-2/
LOCATION:Walker\, IA\, 204 Greene St\, Walker\, Iowa\, 52352\, United States
ATTACH;FMTTYPE=image/jpeg:https://centralcitygo.org/wp-content/uploads/Walker-Pickle-Days.jpg
END:VEVENT
BEGIN:VEVENT
DTSTART;TZID=America/Chicago:20260725T000000
DTEND;TZID=America/Chicago:20260726T000000
DTSTAMP:20260423T063250
CREATED:20260422T022912Z
LAST-MODIFIED:20260422T022912Z
UID:2222-1784937600-1785024000@centralcitygo.org
SUMMARY:Brown Farm Pioneer Days
DESCRIPTION:An event held every year during the last full weekend of July to commemorate local rural heritage. 2026 will feature Internation Harvester.
URL:https://centralcitygo.org/event/brown-farm-pioneer-days/
LOCATION:Brown Farm\, 1361 Sawyer Rd\, Central City\, Iowa\, 52214\, United States
ATTACH;FMTTYPE=image/jpeg:https://centralcitygo.org/wp-content/uploads/Brown-Farm.jpg
ORGANIZER;CN="Central City Historical Society":MAILTO:greifdar@netins.net
END:VEVENT
BEGIN:VEVENT
DTSTART;TZID=America/Chicago:20260728T183000
DTEND;TZID=America/Chicago:20260728T213000
DTSTAMP:20260423T063250
CREATED:20260422T023212Z
LAST-MODIFIED:20260422T023212Z
UID:2280-1785263400-1785274200@centralcitygo.org
SUMMARY:American Legion Bingo
DESCRIPTION:Bingo every Tuesday night.  Doors open at 4:30 pm.  Bingo starts at 6:30 pm.  Lots of prizes & fun!
URL:https://centralcitygo.org/event/american-legion-bingo-59/
LOCATION:American Legion – Post 421\, 6 Central City Rd\, Central City\, Iowa\, 52214\, United States
ATTACH;FMTTYPE=image/jpeg:https://centralcitygo.org/wp-content/uploads/485780808_9324327010992116_6545910602627890421_n-vtiMJe.jpg
ORGANIZER;CN="American Legion - Post 421":MAILTO:iapost421@gmail.com
END:VEVENT
BEGIN:VEVENT
DTSTART;TZID=America/Chicago:20260730T160000
DTEND;TZID=America/Chicago:20260730T180000
DTSTAMP:20260423T063250
CREATED:20260422T023058Z
LAST-MODIFIED:20260422T023058Z
UID:2258-1785427200-1785434400@centralcitygo.org
SUMMARY:Central City Farmer's Market
DESCRIPTION:Weekly farmer’s market featuring local vendors with fresh Iowa-grown produce\, baked good\, crafts\, eggs\, honey and more!
URL:https://centralcitygo.org/event/central-city-farmers-market-13/
LOCATION:Veteran’s Memorial Park\, 260 5th St S\, Central City\, Iowa\, 52214\, United States
ATTACH;FMTTYPE=image/png:https://centralcitygo.org/wp-content/uploads/Farmers-Market.png
ORGANIZER;CN="Central City Parks &amp%3B Recreation":MAILTO:clerk@centralcityia.gov
END:VEVENT
BEGIN:VEVENT
DTSTART;TZID=America/Chicago:20260730T180000
DTEND;TZID=America/Chicago:20260730T200000
DTSTAMP:20260423T063250
CREATED:20260422T023012Z
LAST-MODIFIED:20260422T023012Z
UID:2240-1785434400-1785441600@centralcitygo.org
SUMMARY:Foxy's Bingo Nights
DESCRIPTION:Weekly family-friendly bingo nights featuring fun and prizes!
URL:https://centralcitygo.org/event/foxys-bingo-nights-9/
LOCATION:Foxy’s Chill & Grill\, 347 E Main St\, Central City\, Iowa\, 52214\, United States
ATTACH;FMTTYPE=image/jpeg:https://centralcitygo.org/wp-content/uploads/Foxys-Bingo.jpg
ORGANIZER;CN="Foxy's Chill &amp%3B Grill":MAILTO:Foxden269@gmail.com
END:VEVENT
BEGIN:VEVENT
DTSTART;TZID=America/Chicago:20260731T000000
DTEND;TZID=America/Chicago:20260801T000000
DTSTAMP:20260423T063250
CREATED:20260422T022857Z
LAST-MODIFIED:20260422T022857Z
UID:2218-1785456000-1785542400@centralcitygo.org
SUMMARY:Bold Off Road Coggon Dirt/Mud Drag
DESCRIPTION:Bold Off-Road and Woody’s Midwest Mud Cash Days are teaming up again for the 3nd annual Jason Oberbreckling Memorial Race! 
URL:https://centralcitygo.org/event/bold-off-road-coggon-dirt-mud-drag/
LOCATION:Coggon\, IA\, 118 E Main St\, Coggon\, Iowa\, 52218\, United States
ORGANIZER;CN="Bold Off Road":MAILTO:davebarrette@boldoff-road.com
END:VEVENT
BEGIN:VEVENT
DTSTART;TZID=America/Chicago:20260801T150000
DTEND;TZID=America/Chicago:20260801T150000
DTSTAMP:20260423T063250
CREATED:20260422T022927Z
LAST-MODIFIED:20260422T022927Z
UID:2226-1785596400-1785596400@centralcitygo.org
SUMMARY:Alburnett Children's Benefit Day
DESCRIPTION:Proceeds from the day stay in the Alburnett community\, to help families in need\, purchase Thanksgiving meals\, and provide gifts at Christmastime.
URL:https://centralcitygo.org/event/alburnett-childrens-benefit-day/
LOCATION:Alburnett\, IA\, 120 N Main Ave\, Alburnett\, Iowa\, 52202\, United States
ATTACH;FMTTYPE=image/jpeg:https://centralcitygo.org/wp-content/uploads/Alburnett-CDC.jpg
ORGANIZER;CN="Alburnett Community Diamond Club":MAILTO:albcommdiamondclub@gmail.com
END:VEVENT
BEGIN:VEVENT
DTSTART;TZID=America/Chicago:20260803T190000
DTEND;TZID=America/Chicago:20260803T203000
DTSTAMP:20260423T063250
CREATED:20260409T025933Z
LAST-MODIFIED:20260409T025933Z
UID:2147-1785783600-1785789000@centralcitygo.org
SUMMARY:Evening Nature Hike
DESCRIPTION:We will gather at Eagle View Shelter and will hike to view Horseshoe Falls\, and then the Mary Lundby Bridge. Enjoy the evening hike with a Naturalist. Cost is $2 per child and $5 per adult. Registration: https://www.mycountyparks.com/…/28644/Evening-Nature-Hike
URL:https://centralcitygo.org/event/evening-nature-hike/
LOCATION:Pinicon Ridge Park\, 4732 Horseshoe Falls Rd\, Central City\, Iowa\, 52214\, United States
ATTACH;FMTTYPE=image/jpeg:https://centralcitygo.org/wp-content/uploads/LC-Nature-Hike.jpg
ORGANIZER;CN="Linn County Conservation":MAILTO:conservation@linncountyiowa.gov
END:VEVENT
BEGIN:VEVENT
DTSTART;TZID=America/Chicago:20260804T183000
DTEND;TZID=America/Chicago:20260804T213000
DTSTAMP:20260423T063250
CREATED:20260422T023212Z
LAST-MODIFIED:20260422T023212Z
UID:2281-1785868200-1785879000@centralcitygo.org
SUMMARY:American Legion Bingo
DESCRIPTION:Bingo every Tuesday night.  Doors open at 4:30 pm.  Bingo starts at 6:30 pm.  Lots of prizes & fun!
URL:https://centralcitygo.org/event/american-legion-bingo-60/
LOCATION:American Legion – Post 421\, 6 Central City Rd\, Central City\, Iowa\, 52214\, United States
ATTACH;FMTTYPE=image/jpeg:https://centralcitygo.org/wp-content/uploads/485780808_9324327010992116_6545910602627890421_n-vtiMJe.jpg
ORGANIZER;CN="American Legion - Post 421":MAILTO:iapost421@gmail.com
END:VEVENT
BEGIN:VEVENT
DTSTART;TZID=America/Chicago:20260805T180000
DTEND;TZID=America/Chicago:20260805T200000
DTSTAMP:20260423T063250
CREATED:20260422T023012Z
LAST-MODIFIED:20260422T023012Z
UID:2241-1785952800-1785960000@centralcitygo.org
SUMMARY:Foxy's Bingo Nights
DESCRIPTION:Weekly family-friendly bingo nights featuring fun and prizes!
URL:https://centralcitygo.org/event/foxys-bingo-nights-10/
LOCATION:Foxy’s Chill & Grill\, 347 E Main St\, Central City\, Iowa\, 52214\, United States
ATTACH;FMTTYPE=image/jpeg:https://centralcitygo.org/wp-content/uploads/Foxys-Bingo.jpg
ORGANIZER;CN="Foxy's Chill &amp%3B Grill":MAILTO:Foxden269@gmail.com
END:VEVENT
BEGIN:VEVENT
DTSTART;TZID=America/Chicago:20260806T160000
DTEND;TZID=America/Chicago:20260806T180000
DTSTAMP:20260423T063250
CREATED:20260422T023058Z
LAST-MODIFIED:20260422T023058Z
UID:2259-1786032000-1786039200@centralcitygo.org
SUMMARY:Central City Farmer's Market
DESCRIPTION:Weekly farmer’s market featuring local vendors with fresh Iowa-grown produce\, baked good\, crafts\, eggs\, honey and more!
URL:https://centralcitygo.org/event/central-city-farmers-market-14/
LOCATION:Veteran’s Memorial Park\, 260 5th St S\, Central City\, Iowa\, 52214\, United States
ATTACH;FMTTYPE=image/png:https://centralcitygo.org/wp-content/uploads/Farmers-Market.png
ORGANIZER;CN="Central City Parks &amp%3B Recreation":MAILTO:clerk@centralcityia.gov
END:VEVENT
BEGIN:VEVENT
DTSTART;TZID=America/Chicago:20260806T163000
DTEND;TZID=America/Chicago:20260806T200000
DTSTAMP:20260423T063250
CREATED:20260422T022856Z
LAST-MODIFIED:20260422T022856Z
UID:2215-1786033800-1786046400@centralcitygo.org
SUMMARY:Foxy's Shine & Dine
DESCRIPTION:Bring your hot rod\, truck\, car or motorcycle for a night out with other enthusiasts.
URL:https://centralcitygo.org/event/foxys-shine-dine-10/
LOCATION:Downtown Central City\, 356 E Main St\, Central City\, Iowa\, 52214\, United States
ATTACH;FMTTYPE=image/jpeg:https://centralcitygo.org/wp-content/uploads/Foxys-Shine-Dine.jpg
ORGANIZER;CN="Foxy's Chill &amp%3B Grill":MAILTO:Foxden269@gmail.com
END:VEVENT
BEGIN:VEVENT
DTSTART;TZID=America/Chicago:20260806T180000
DTEND;TZID=America/Chicago:20260806T200000
DTSTAMP:20260423T063250
CREATED:20260310T191348Z
LAST-MODIFIED:20260310T191348Z
UID:2106-1786039200-1786046400@centralcitygo.org
SUMMARY:Fiber Night
DESCRIPTION:Bring your projects – crochet\, knitting\, spinning\, weaving\, felting\, etc – and join us for the evening.
URL:https://centralcitygo.org/event/fiber-night-10/
LOCATION:Wapsi Weaving\, 161 4th St N\, Central City\, Iowa\, 52214
ATTACH;FMTTYPE=image/jpeg:https://centralcitygo.org/wp-content/uploads/Wapsi-Weaving.jpg
ORGANIZER;CN="Wapsi Weaving":MAILTO:lilyacres5031@gmail.com
END:VEVENT
BEGIN:VEVENT
DTSTART;TZID=America/Chicago:20260807T000000
DTEND;TZID=America/Chicago:20260808T000000
DTSTAMP:20260423T063250
CREATED:20260422T022928Z
LAST-MODIFIED:20260422T022928Z
UID:2229-1786060800-1786147200@centralcitygo.org
SUMMARY:Springville Fun Days
DESCRIPTION:Come to Springville Fun Days for a weekend of food\, fun\, and entertainment for the entire family! 
URL:https://centralcitygo.org/event/springville-fun-days-2/
LOCATION:Springville\, IA\, 304 Broadway\, Springville\, Iowa\, 52336\, United States
ORGANIZER;CN="City of Springville":MAILTO:cityofsp@netins.net
END:VEVENT
BEGIN:VEVENT
DTSTART;TZID=America/Chicago:20260807T183000
DTEND;TZID=America/Chicago:20260807T183000
DTSTAMP:20260423T063250
CREATED:20260422T022942Z
LAST-MODIFIED:20260422T022942Z
UID:2230-1786127400-1786127400@centralcitygo.org
SUMMARY:ECIPA & Springville Tractor Pull
DESCRIPTION:Hear the engines roar at Springville Fun Days Friday night for the ECIPA truck & tractor pull.
URL:https://centralcitygo.org/event/ecipa-springville-tractor-pull/
LOCATION:Springville\, IA\, 304 Broadway\, Springville\, Iowa\, 52336\, United States
ORGANIZER;CN="East Central Iowa Pullers Association":MAILTO:pullecipa@gmail.com
END:VEVENT
BEGIN:VEVENT
DTSTART;TZID=America/Chicago:20260811T183000
DTEND;TZID=America/Chicago:20260811T213000
DTSTAMP:20260423T063250
CREATED:20260422T023212Z
LAST-MODIFIED:20260422T023212Z
UID:2282-1786473000-1786483800@centralcitygo.org
SUMMARY:American Legion Bingo
DESCRIPTION:Bingo every Tuesday night.  Doors open at 4:30 pm.  Bingo starts at 6:30 pm.  Lots of prizes & fun!
URL:https://centralcitygo.org/event/american-legion-bingo-61/
LOCATION:American Legion – Post 421\, 6 Central City Rd\, Central City\, Iowa\, 52214\, United States
ATTACH;FMTTYPE=image/jpeg:https://centralcitygo.org/wp-content/uploads/485780808_9324327010992116_6545910602627890421_n-vtiMJe.jpg
ORGANIZER;CN="American Legion - Post 421":MAILTO:iapost421@gmail.com
END:VEVENT
BEGIN:VEVENT
DTSTART;TZID=America/Chicago:20260812T180000
DTEND;TZID=America/Chicago:20260812T200000
DTSTAMP:20260423T063250
CREATED:20260422T023012Z
LAST-MODIFIED:20260422T023012Z
UID:2242-1786557600-1786564800@centralcitygo.org
SUMMARY:Foxy's Bingo Nights
DESCRIPTION:Weekly family-friendly bingo nights featuring fun and prizes!
URL:https://centralcitygo.org/event/foxys-bingo-nights-11/
LOCATION:Foxy’s Chill & Grill\, 347 E Main St\, Central City\, Iowa\, 52214\, United States
ATTACH;FMTTYPE=image/jpeg:https://centralcitygo.org/wp-content/uploads/Foxys-Bingo.jpg
ORGANIZER;CN="Foxy's Chill &amp%3B Grill":MAILTO:Foxden269@gmail.com
END:VEVENT
BEGIN:VEVENT
DTSTART;TZID=America/Chicago:20260813T160000
DTEND;TZID=America/Chicago:20260813T180000
DTSTAMP:20260423T063250
CREATED:20260422T023112Z
LAST-MODIFIED:20260422T023112Z
UID:2260-1786636800-1786644000@centralcitygo.org
SUMMARY:Central City Farmer's Market
DESCRIPTION:Weekly farmer’s market featuring local vendors with fresh Iowa-grown produce\, baked good\, crafts\, eggs\, honey and more!
URL:https://centralcitygo.org/event/central-city-farmers-market-15/
LOCATION:Veteran’s Memorial Park\, 260 5th St S\, Central City\, Iowa\, 52214\, United States
ATTACH;FMTTYPE=image/png:https://centralcitygo.org/wp-content/uploads/Farmers-Market.png
ORGANIZER;CN="Central City Parks &amp%3B Recreation":MAILTO:clerk@centralcityia.gov
END:VEVENT
BEGIN:VEVENT
DTSTART;TZID=America/Chicago:20260814T170000
DTEND;TZID=America/Chicago:20260814T190000
DTSTAMP:20260423T063250
CREATED:20260422T023128Z
LAST-MODIFIED:20260422T023128Z
UID:2269-1786726800-1786734000@centralcitygo.org
SUMMARY:American Legion Fry (Fish or Pork Chop or Steak)
DESCRIPTION:Every 2nd Friday of the month\, come enjoy a great meal with sides\, salad & dessert.  Carry-outs available.  Check the Facebook page for more information: https://www.facebook.com/iapost423
URL:https://centralcitygo.org/event/american-legion-fry-fish-or-pork-chop-or-steak-6/
LOCATION:American Legion – Post 421\, 6 Central City Rd\, Central City\, Iowa\, 52214\, United States
ATTACH;FMTTYPE=image/jpeg:https://centralcitygo.org/wp-content/uploads/Legion-Pork-Chop.jpg
ORGANIZER;CN="American Legion - Post 421":MAILTO:iapost421@gmail.com
END:VEVENT
BEGIN:VEVENT
DTSTART;TZID=America/Chicago:20260816T110000
DTEND;TZID=America/Chicago:20260816T160000
DTSTAMP:20260423T063250
CREATED:20260422T023243Z
LAST-MODIFIED:20260422T023243Z
UID:2293-1786878000-1786896000@centralcitygo.org
SUMMARY:St Stephen's Church Nibl'n Bid'n & Pie
DESCRIPTION:
URL:https://centralcitygo.org/event/st-stephens-church-nibln-bidn-pie-2/
LOCATION:St Stephen’s Catholic Church\, 4700 Valley Farm Rd\, Central City\, Iowa\, 52214\, United States
ATTACH;FMTTYPE=image/png:https://centralcitygo.org/wp-content/uploads/Screenshot-2025-06-10-171234.png
ORGANIZER;CN="St Stephen's Catholic Church":MAILTO:dbq034bk@dbqarch.org
END:VEVENT
BEGIN:VEVENT
DTSTART;TZID=America/Chicago:20260818T183000
DTEND;TZID=America/Chicago:20260818T213000
DTSTAMP:20260423T063250
CREATED:20260422T023213Z
LAST-MODIFIED:20260422T023213Z
UID:2283-1787077800-1787088600@centralcitygo.org
SUMMARY:American Legion Bingo
DESCRIPTION:Bingo every Tuesday night.  Doors open at 4:30 pm.  Bingo starts at 6:30 pm.  Lots of prizes & fun!
URL:https://centralcitygo.org/event/american-legion-bingo-62/
LOCATION:American Legion – Post 421\, 6 Central City Rd\, Central City\, Iowa\, 52214\, United States
ATTACH;FMTTYPE=image/jpeg:https://centralcitygo.org/wp-content/uploads/485780808_9324327010992116_6545910602627890421_n-vtiMJe.jpg
ORGANIZER;CN="American Legion - Post 421":MAILTO:iapost421@gmail.com
END:VEVENT
BEGIN:VEVENT
DTSTART;TZID=America/Chicago:20260819T180000
DTEND;TZID=America/Chicago:20260819T200000
DTSTAMP:20260423T063250
CREATED:20260422T023013Z
LAST-MODIFIED:20260422T023013Z
UID:2243-1787162400-1787169600@centralcitygo.org
SUMMARY:Foxy's Bingo Nights
DESCRIPTION:Weekly family-friendly bingo nights featuring fun and prizes!
URL:https://centralcitygo.org/event/foxys-bingo-nights-12/
LOCATION:Foxy’s Chill & Grill\, 347 E Main St\, Central City\, Iowa\, 52214\, United States
ATTACH;FMTTYPE=image/jpeg:https://centralcitygo.org/wp-content/uploads/Foxys-Bingo.jpg
ORGANIZER;CN="Foxy's Chill &amp%3B Grill":MAILTO:Foxden269@gmail.com
END:VEVENT
BEGIN:VEVENT
DTSTART;TZID=America/Chicago:20260820T160000
DTEND;TZID=America/Chicago:20260820T180000
DTSTAMP:20260423T063250
CREATED:20260422T023112Z
LAST-MODIFIED:20260422T023112Z
UID:2261-1787241600-1787248800@centralcitygo.org
SUMMARY:Central City Farmer's Market
DESCRIPTION:Weekly farmer’s market featuring local vendors with fresh Iowa-grown produce\, baked good\, crafts\, eggs\, honey and more!
URL:https://centralcitygo.org/event/central-city-farmers-market-16/
LOCATION:Veteran’s Memorial Park\, 260 5th St S\, Central City\, Iowa\, 52214\, United States
ATTACH;FMTTYPE=image/png:https://centralcitygo.org/wp-content/uploads/Farmers-Market.png
ORGANIZER;CN="Central City Parks &amp%3B Recreation":MAILTO:clerk@centralcityia.gov
END:VEVENT
BEGIN:VEVENT
DTSTART;TZID=America/Chicago:20260820T180000
DTEND;TZID=America/Chicago:20260820T200000
DTSTAMP:20260423T063250
CREATED:20260310T191348Z
LAST-MODIFIED:20260310T191348Z
UID:2107-1787248800-1787256000@centralcitygo.org
SUMMARY:Fiber Night
DESCRIPTION:Bring your projects – crochet\, knitting\, spinning\, weaving\, felting\, etc – and join us for the evening.
URL:https://centralcitygo.org/event/fiber-night-11/
LOCATION:Wapsi Weaving\, 161 4th St N\, Central City\, Iowa\, 52214
ATTACH;FMTTYPE=image/jpeg:https://centralcitygo.org/wp-content/uploads/Wapsi-Weaving.jpg
ORGANIZER;CN="Wapsi Weaving":MAILTO:lilyacres5031@gmail.com
END:VEVENT
BEGIN:VEVENT
DTSTART;TZID=America/Chicago:20260821T183000
DTEND;TZID=America/Chicago:20260821T210000
DTSTAMP:20260423T063250
CREATED:20260310T191403Z
LAST-MODIFIED:20260310T191403Z
UID:2111-1787337000-1787346000@centralcitygo.org
SUMMARY:Music in the Park
DESCRIPTION:Join Central City Parks & Rec for a live concert in the park!  Bring your own seating – admission is free.  Band: Bigfoot Park Band – Food Truck: Wescott Barbecue – Cool Treats: TBA
URL:https://centralcitygo.org/event/music-in-the-park-3/
LOCATION:Veteran’s Memorial Park\, 260 5th St S\, Central City\, Iowa\, 52214\, United States
ATTACH;FMTTYPE=image/png:https://centralcitygo.org/wp-content/uploads/Bigfoot-Park.png
END:VEVENT
BEGIN:VEVENT
DTSTART;TZID=America/Chicago:20260825T183000
DTEND;TZID=America/Chicago:20260825T213000
DTSTAMP:20260423T063250
CREATED:20260422T023213Z
LAST-MODIFIED:20260422T023213Z
UID:2284-1787682600-1787693400@centralcitygo.org
SUMMARY:American Legion Bingo
DESCRIPTION:Bingo every Tuesday night.  Doors open at 4:30 pm.  Bingo starts at 6:30 pm.  Lots of prizes & fun!
URL:https://centralcitygo.org/event/american-legion-bingo-63/
LOCATION:American Legion – Post 421\, 6 Central City Rd\, Central City\, Iowa\, 52214\, United States
ATTACH;FMTTYPE=image/jpeg:https://centralcitygo.org/wp-content/uploads/485780808_9324327010992116_6545910602627890421_n-vtiMJe.jpg
ORGANIZER;CN="American Legion - Post 421":MAILTO:iapost421@gmail.com
END:VEVENT
END:VCALENDAR