BEGIN:VCALENDAR
VERSION:2.0
PRODID:-//Central City Go - ECPv6.15.17.1//NONSGML v1.0//EN
CALSCALE:GREGORIAN
METHOD:PUBLISH
X-WR-CALNAME:Central City Go
X-ORIGINAL-URL:https://centralcitygo.org
X-WR-CALDESC:Events for Central City Go
REFRESH-INTERVAL;VALUE=DURATION:PT1H
X-Robots-Tag:noindex
X-PUBLISHED-TTL:PT1H
BEGIN:VTIMEZONE
TZID:America/Chicago
BEGIN:DAYLIGHT
TZOFFSETFROM:-0600
TZOFFSETTO:-0500
TZNAME:CDT
DTSTART:20240310T080000
END:DAYLIGHT
BEGIN:STANDARD
TZOFFSETFROM:-0500
TZOFFSETTO:-0600
TZNAME:CST
DTSTART:20241103T070000
END:STANDARD
BEGIN:DAYLIGHT
TZOFFSETFROM:-0600
TZOFFSETTO:-0500
TZNAME:CDT
DTSTART:20250309T080000
END:DAYLIGHT
BEGIN:STANDARD
TZOFFSETFROM:-0500
TZOFFSETTO:-0600
TZNAME:CST
DTSTART:20251102T070000
END:STANDARD
BEGIN:DAYLIGHT
TZOFFSETFROM:-0600
TZOFFSETTO:-0500
TZNAME:CDT
DTSTART:20260308T080000
END:DAYLIGHT
BEGIN:STANDARD
TZOFFSETFROM:-0500
TZOFFSETTO:-0600
TZNAME:CST
DTSTART:20261101T070000
END:STANDARD
BEGIN:DAYLIGHT
TZOFFSETFROM:-0600
TZOFFSETTO:-0500
TZNAME:CDT
DTSTART:20270314T080000
END:DAYLIGHT
BEGIN:STANDARD
TZOFFSETFROM:-0500
TZOFFSETTO:-0600
TZNAME:CST
DTSTART:20271107T070000
END:STANDARD
END:VTIMEZONE
BEGIN:VEVENT
DTSTART;VALUE=DATE:20251003
DTEND;VALUE=DATE:20251102
DTSTAMP:20260420T213325
CREATED:20250826T211345Z
LAST-MODIFIED:20251021T205557Z
UID:1799-1759449600-1762041599@centralcitygo.org
SUMMARY:Circle of Ash Haunted Attraction
DESCRIPTION:Circle of Ash is a haunted attraction located near Central City\, Iowa. It features a variety of experiences\, including a traditional indoor haunted house\, a funhouse maze filled with clowns\, and a haunted forest\, it is also home to Iowa’s largest jack-o-lantern trail – over 7\,000 hand carved pumpkins line up for 1/4 mile of enchantment. \nThe attraction has been operating since 2000 and spans over 5 acres\, offering multiple haunted houses for visitors to explore. For families\, it aims to provide a show appropriate for PG-13 audiences. Opens at 8 pm on weeknights\, 7 pm on weekends. For tickets and more information\, visit https://www.circleofash.com
URL:https://centralcitygo.org/event/circle-of-ash-haunted-attraction/
LOCATION:Iowa
ATTACH;FMTTYPE=image/png:https://centralcitygo.org/wp-content/uploads/Circle-of-Ash.png
ORGANIZER;CN="Circle of Ash":MAILTO:info@circleofash.com
END:VEVENT
BEGIN:VEVENT
DTSTART;TZID=America/Chicago:20251024T190000
DTEND;TZID=America/Chicago:20251024T210000
DTSTAMP:20260420T213325
CREATED:20251021T202742Z
LAST-MODIFIED:20251021T202742Z
UID:1861-1761332400-1761339600@centralcitygo.org
SUMMARY:Haunted Halloween Stairway
DESCRIPTION:AMVETS Post 37 Women’s Auxiliary is hosting a Haunted Stairway attraction for kids under 12.  Admission is free (donations accepted)\, and there are games & prizes at the end.
URL:https://centralcitygo.org/event/haunted-halloween-stairway/
LOCATION:AMVETS Post 37\, 15-1/2 S 4th St\, Central City\, Iowa\, 52214\, United States
ATTACH;FMTTYPE=image/jpeg:https://centralcitygo.org/wp-content/uploads/Haunted-Stairway.jpg
END:VEVENT
BEGIN:VEVENT
DTSTART;TZID=America/Chicago:20251025T100000
DTEND;TZID=America/Chicago:20251025T140000
DTSTAMP:20260420T213325
CREATED:20250826T211430Z
LAST-MODIFIED:20250826T211430Z
UID:1816-1761386400-1761400800@centralcitygo.org
SUMMARY:United Church of Christ Harvest Sale
DESCRIPTION:
URL:https://centralcitygo.org/event/united-church-of-christ-harvest-sale/
LOCATION:United Church of Christ\, 38 N 5th St\, Central City\, Iowa\, 52214\, United States
ATTACH;FMTTYPE=image/png:https://centralcitygo.org/wp-content/uploads/UCC-Emblem.png
ORGANIZER;CN="United Church of Christ":MAILTO:centralcityucc@gmail.com
END:VEVENT
BEGIN:VEVENT
DTSTART;TZID=America/Chicago:20251025T160000
DTEND;TZID=America/Chicago:20251025T200000
DTSTAMP:20260420T213325
CREATED:20251007T203320Z
LAST-MODIFIED:20251007T203320Z
UID:1843-1761408000-1761422400@centralcitygo.org
SUMMARY:Haunted Hallows Carriage Ride
DESCRIPTION:Join Blue Moon Carriage LLC for rustic carriage rides around Central City this Halloween season!  Pair this with dinner or live music at one of our local restaurants or head out to Circle of Ash for some haunted house thrills! \nCall (319) 540-5536 or email moongardengypsy@gmail.com to book your ride today!
URL:https://centralcitygo.org/event/haunted-hallows-carriage-ride-3/
LOCATION:Downtown Central City\, 356 E Main St\, Central City\, Iowa\, 52214\, United States
ATTACH;FMTTYPE=image/jpeg:https://centralcitygo.org/wp-content/uploads/Haunted-Carriage.jpg
ORGANIZER;CN="Blue Moon Carriage LLC":MAILTO:moongardengypsy@gmail.com
END:VEVENT
BEGIN:VEVENT
DTSTART;TZID=America/Chicago:20251025T180000
DTEND;TZID=America/Chicago:20251025T210000
DTSTAMP:20260420T213325
CREATED:20251021T203807Z
LAST-MODIFIED:20251021T203807Z
UID:1869-1761415200-1761426000@centralcitygo.org
SUMMARY:Haunted Halloween Stairway
DESCRIPTION:AMVETS Post 37 Women’s Auxiliary is hosting a Haunted Stairway attraction for kids under 12.  Admission is free (donations accepted)\, and there are games & prizes at the end.
URL:https://centralcitygo.org/event/haunted-halloween-stairway-2/
LOCATION:AMVETS Post 37\, 15-1/2 S 4th St\, Central City\, Iowa\, 52214\, United States
ATTACH;FMTTYPE=image/jpeg:https://centralcitygo.org/wp-content/uploads/Haunted-Stairway.jpg
END:VEVENT
BEGIN:VEVENT
DTSTART;TZID=America/Chicago:20251028T183000
DTEND;TZID=America/Chicago:20251028T213000
DTSTAMP:20260420T213325
CREATED:20250826T211400Z
LAST-MODIFIED:20250826T211400Z
UID:1806-1761676200-1761687000@centralcitygo.org
SUMMARY:American Legion Bingo
DESCRIPTION:Bingo every Tuesday night.  Doors open at 4:30 pm.  Bingo starts at 6:30 pm.  Lots of prizes & fun!
URL:https://centralcitygo.org/event/american-legion-bingo-27/
LOCATION:American Legion – Post 421\, 6 Central City Rd\, Central City\, Iowa\, 52214\, United States
ATTACH;FMTTYPE=image/jpeg:https://centralcitygo.org/wp-content/uploads/485780808_9324327010992116_6545910602627890421_n-vtiMJe.jpg
ORGANIZER;CN="American Legion - Post 421":MAILTO:iapost421@gmail.com
END:VEVENT
BEGIN:VEVENT
DTSTART;TZID=America/Chicago:20251031T170000
DTEND;TZID=America/Chicago:20251031T190000
DTSTAMP:20260420T213325
CREATED:20251017T063831Z
LAST-MODIFIED:20251017T063831Z
UID:1851-1761930000-1761937200@centralcitygo.org
SUMMARY:Halloween - Trick or Treat
DESCRIPTION:Trick or Treat hours for the City of Central City are 5:00 – 7:00 pm on Friday\, October 31st.  Many of our town businesses will be open\, offering treats for kids & adults.
URL:https://centralcitygo.org/event/halloween-trick-or-treat/
LOCATION:Downtown Central City\, 356 E Main St\, Central City\, Iowa\, 52214\, United States
ATTACH;FMTTYPE=image/jpeg:https://centralcitygo.org/wp-content/uploads/trick-or-treat.jpg
ORGANIZER;CN="City of Central City":MAILTO:clerk@centralcityia.gov
END:VEVENT
BEGIN:VEVENT
DTSTART;TZID=America/Chicago:20251031T170000
DTEND;TZID=America/Chicago:20251031T210000
DTSTAMP:20260420T213325
CREATED:20251021T204026Z
LAST-MODIFIED:20251021T204026Z
UID:1874-1761930000-1761944400@centralcitygo.org
SUMMARY:Haunted Halloween Stairway
DESCRIPTION:AMVETS Post 37 Women’s Auxiliary is hosting a Haunted Stairway attraction for kids under 12.  Admission is free (donations accepted)\, and there are games & prizes at the end.
URL:https://centralcitygo.org/event/haunted-halloween-stairway-3/
LOCATION:AMVETS Post 37\, 15-1/2 S 4th St\, Central City\, Iowa\, 52214\, United States
ATTACH;FMTTYPE=image/jpeg:https://centralcitygo.org/wp-content/uploads/Haunted-Stairway.jpg
END:VEVENT
BEGIN:VEVENT
DTSTART;TZID=America/Chicago:20251101T200000
DTEND;TZID=America/Chicago:20251102T000000
DTSTAMP:20260420T213325
CREATED:20251021T202245Z
LAST-MODIFIED:20251021T202245Z
UID:1858-1762027200-1762041600@centralcitygo.org
SUMMARY:AMVETS Halloween Party
DESCRIPTION:AMVETS Post 37 will be hosting a Halloween Party on November 1st.  There will be live music\, a costume contest\, free food and door prizes all night.
URL:https://centralcitygo.org/event/amvets-halloween-party/
LOCATION:AMVETS Post 37\, 15-1/2 S 4th St\, Central City\, Iowa\, 52214\, United States
ATTACH;FMTTYPE=image/jpeg:https://centralcitygo.org/wp-content/uploads/Halloween-Party-AMVETS-11.1.25.jpg
ORGANIZER;CN="AMVETS Post 37":MAILTO:amvetspost37cc@yahoo.com
END:VEVENT
BEGIN:VEVENT
DTSTART;TZID=America/Chicago:20251104T183000
DTEND;TZID=America/Chicago:20251104T213000
DTSTAMP:20260420T213325
CREATED:20250826T211400Z
LAST-MODIFIED:20250826T211400Z
UID:1807-1762281000-1762291800@centralcitygo.org
SUMMARY:American Legion Bingo
DESCRIPTION:Bingo every Tuesday night.  Doors open at 4:30 pm.  Bingo starts at 6:30 pm.  Lots of prizes & fun!
URL:https://centralcitygo.org/event/american-legion-bingo-28/
LOCATION:American Legion – Post 421\, 6 Central City Rd\, Central City\, Iowa\, 52214\, United States
ATTACH;FMTTYPE=image/jpeg:https://centralcitygo.org/wp-content/uploads/485780808_9324327010992116_6545910602627890421_n-vtiMJe.jpg
ORGANIZER;CN="American Legion - Post 421":MAILTO:iapost421@gmail.com
END:VEVENT
BEGIN:VEVENT
DTSTART;TZID=America/Chicago:20251111T183000
DTEND;TZID=America/Chicago:20251111T213000
DTSTAMP:20260420T213325
CREATED:20250826T211401Z
LAST-MODIFIED:20250826T211401Z
UID:1808-1762885800-1762896600@centralcitygo.org
SUMMARY:American Legion Bingo
DESCRIPTION:Bingo every Tuesday night.  Doors open at 4:30 pm.  Bingo starts at 6:30 pm.  Lots of prizes & fun!
URL:https://centralcitygo.org/event/american-legion-bingo-29/
LOCATION:American Legion – Post 421\, 6 Central City Rd\, Central City\, Iowa\, 52214\, United States
ATTACH;FMTTYPE=image/jpeg:https://centralcitygo.org/wp-content/uploads/485780808_9324327010992116_6545910602627890421_n-vtiMJe.jpg
ORGANIZER;CN="American Legion - Post 421":MAILTO:iapost421@gmail.com
END:VEVENT
BEGIN:VEVENT
DTSTART;TZID=America/Chicago:20251115T160000
DTEND;TZID=America/Chicago:20251115T200000
DTSTAMP:20260420T213325
CREATED:20250826T211345Z
LAST-MODIFIED:20251021T205047Z
UID:1801-1763222400-1763236800@centralcitygo.org
SUMMARY:American Legion Fall Banquet
DESCRIPTION:The American Legion will hold its annual Fall Banquet on Saturday\, November 15th.  Doors open at 4:00.  Dinner starts at 6:00.  Grand prize drawing at 7:00.  Check the Facebook page for more information: https://www.facebook.com/iapost421
URL:https://centralcitygo.org/event/american-legion-steak-fry-6/
LOCATION:American Legion – Post 421\, 6 Central City Rd\, Central City\, Iowa\, 52214\, United States
ATTACH;FMTTYPE=image/jpeg:https://centralcitygo.org/wp-content/uploads/Legion-Fall-Gala-11.15.25.jpg
ORGANIZER;CN="American Legion - Post 421":MAILTO:iapost421@gmail.com
END:VEVENT
BEGIN:VEVENT
DTSTART;TZID=America/Chicago:20251118T183000
DTEND;TZID=America/Chicago:20251118T213000
DTSTAMP:20260420T213325
CREATED:20250826T211415Z
LAST-MODIFIED:20250826T211415Z
UID:1809-1763490600-1763501400@centralcitygo.org
SUMMARY:American Legion Bingo
DESCRIPTION:Bingo every Tuesday night.  Doors open at 4:30 pm.  Bingo starts at 6:30 pm.  Lots of prizes & fun!
URL:https://centralcitygo.org/event/american-legion-bingo-30/
LOCATION:American Legion – Post 421\, 6 Central City Rd\, Central City\, Iowa\, 52214\, United States
ATTACH;FMTTYPE=image/jpeg:https://centralcitygo.org/wp-content/uploads/485780808_9324327010992116_6545910602627890421_n-vtiMJe.jpg
ORGANIZER;CN="American Legion - Post 421":MAILTO:iapost421@gmail.com
END:VEVENT
BEGIN:VEVENT
DTSTART;TZID=America/Chicago:20251125T183000
DTEND;TZID=America/Chicago:20251125T213000
DTSTAMP:20260420T213325
CREATED:20250826T211415Z
LAST-MODIFIED:20250826T211415Z
UID:1810-1764095400-1764106200@centralcitygo.org
SUMMARY:American Legion Bingo
DESCRIPTION:Bingo every Tuesday night.  Doors open at 4:30 pm.  Bingo starts at 6:30 pm.  Lots of prizes & fun!
URL:https://centralcitygo.org/event/american-legion-bingo-31/
LOCATION:American Legion – Post 421\, 6 Central City Rd\, Central City\, Iowa\, 52214\, United States
ATTACH;FMTTYPE=image/jpeg:https://centralcitygo.org/wp-content/uploads/485780808_9324327010992116_6545910602627890421_n-vtiMJe.jpg
ORGANIZER;CN="American Legion - Post 421":MAILTO:iapost421@gmail.com
END:VEVENT
BEGIN:VEVENT
DTSTART;TZID=America/Chicago:20251129T090000
DTEND;TZID=America/Chicago:20251129T150000
DTSTAMP:20260420T213325
CREATED:20251021T203512Z
LAST-MODIFIED:20251021T205026Z
UID:1865-1764406800-1764428400@centralcitygo.org
SUMMARY:Linn County Christmas
DESCRIPTION:The Linn County Fairgrounds will be welcoming the 5th annual Linn County Christmas event on November 29th.  This local craft and vendor fair will be open from 9 am to 3 pm.  Admission is $5.00.
URL:https://centralcitygo.org/event/linn-county-christmas/
LOCATION:Linn County Fairgrounds\, 201 Central City Rd\, Central City\, Iowa\, 52214\, United States
ATTACH;FMTTYPE=image/jpeg:https://centralcitygo.org/wp-content/uploads/Linn-County-Fair-Christmas-Vendor.jpg
ORGANIZER;CN="Linn County Fairgrounds":MAILTO:info@thelinncountyfair.com
END:VEVENT
BEGIN:VEVENT
DTSTART;TZID=America/Chicago:20251202T183000
DTEND;TZID=America/Chicago:20251202T213000
DTSTAMP:20260420T213325
CREATED:20250826T211415Z
LAST-MODIFIED:20250826T211415Z
UID:1811-1764700200-1764711000@centralcitygo.org
SUMMARY:American Legion Bingo
DESCRIPTION:Bingo every Tuesday night.  Doors open at 4:30 pm.  Bingo starts at 6:30 pm.  Lots of prizes & fun!
URL:https://centralcitygo.org/event/american-legion-bingo-32/
LOCATION:American Legion – Post 421\, 6 Central City Rd\, Central City\, Iowa\, 52214\, United States
ATTACH;FMTTYPE=image/jpeg:https://centralcitygo.org/wp-content/uploads/485780808_9324327010992116_6545910602627890421_n-vtiMJe.jpg
ORGANIZER;CN="American Legion - Post 421":MAILTO:iapost421@gmail.com
END:VEVENT
BEGIN:VEVENT
DTSTART;TZID=America/Chicago:20251206T080000
DTEND;TZID=America/Chicago:20251206T100000
DTSTAMP:20260420T213325
CREATED:20251121T203203Z
LAST-MODIFIED:20251121T203203Z
UID:1901-1765008000-1765015200@centralcitygo.org
SUMMARY:Donuts with Santa
DESCRIPTION:Join Riverview Bible Church for this fun event – Santa will arrive in a fire truck and will be available for pictures.  Enjoy some donuts too!
URL:https://centralcitygo.org/event/donuts-with-santa/
LOCATION:Riverview Bible Church\, 216 Commercial St\, Central City\, Iowa\, 52214\, United States
ATTACH;FMTTYPE=image/jpeg:https://centralcitygo.org/wp-content/uploads/Donuts-with-Santa.jpg
ORGANIZER;CN="Riverview Bible Church":MAILTO:riverviewbiblechurch@gmail.com
END:VEVENT
BEGIN:VEVENT
DTSTART;TZID=America/Chicago:20251206T170000
DTEND;TZID=America/Chicago:20251206T210000
DTSTAMP:20260420T213325
CREATED:20251121T194743Z
LAST-MODIFIED:20251121T203229Z
UID:1895-1765040400-1765054800@centralcitygo.org
SUMMARY:Central City Historical Society Gala
DESCRIPTION:Come join the Central City Historical Society for their Gala Event. \nDoors open at 5 for the start of the social hour\, dinner starts at 6.  There will be lots of fun games\, and both a live and silent auction.
URL:https://centralcitygo.org/event/central-city-historical-society-gala/
LOCATION:American Legion – Post 421\, 6 Central City Rd\, Central City\, Iowa\, 52214\, United States
ORGANIZER;CN="Central City Historical Society":MAILTO:greifdar@netins.net
END:VEVENT
BEGIN:VEVENT
DTSTART;TZID=America/Chicago:20251209T183000
DTEND;TZID=America/Chicago:20251209T213000
DTSTAMP:20260420T213325
CREATED:20250826T211415Z
LAST-MODIFIED:20250826T211415Z
UID:1812-1765305000-1765315800@centralcitygo.org
SUMMARY:American Legion Bingo
DESCRIPTION:Bingo every Tuesday night.  Doors open at 4:30 pm.  Bingo starts at 6:30 pm.  Lots of prizes & fun!
URL:https://centralcitygo.org/event/american-legion-bingo-33/
LOCATION:American Legion – Post 421\, 6 Central City Rd\, Central City\, Iowa\, 52214\, United States
ATTACH;FMTTYPE=image/jpeg:https://centralcitygo.org/wp-content/uploads/485780808_9324327010992116_6545910602627890421_n-vtiMJe.jpg
ORGANIZER;CN="American Legion - Post 421":MAILTO:iapost421@gmail.com
END:VEVENT
BEGIN:VEVENT
DTSTART;TZID=America/Chicago:20251212T170000
DTEND;TZID=America/Chicago:20251212T190000
DTSTAMP:20260420T213325
CREATED:20250826T211345Z
LAST-MODIFIED:20250923T202722Z
UID:1802-1765558800-1765566000@centralcitygo.org
SUMMARY:American Legion Fish Fry
DESCRIPTION:Every 2nd Friday of the month\, come enjoy a great meal! Fried or baked fish\, with sides\, salad & dessert. Carry-outs available. Check the Facebook page for more information: https://www.facebook.com/iapost421
URL:https://centralcitygo.org/event/american-legion-steak-fry-7/
LOCATION:American Legion – Post 421\, 6 Central City Rd\, Central City\, Iowa\, 52214\, United States
ATTACH;FMTTYPE=image/jpeg:https://centralcitygo.org/wp-content/uploads/Fish-Fry.jpg
ORGANIZER;CN="American Legion - Post 421":MAILTO:iapost421@gmail.com
END:VEVENT
BEGIN:VEVENT
DTSTART;TZID=America/Chicago:20251213T090000
DTEND;TZID=America/Chicago:20251213T130000
DTSTAMP:20260420T213325
CREATED:20250826T211431Z
LAST-MODIFIED:20251205T165034Z
UID:1818-1765616400-1765630800@centralcitygo.org
SUMMARY:Holiday on Main
DESCRIPTION:Central City GO coordinates this annual town celebration\, featuring horse-drawn carriage rides\, special activities & sales at our businesses\, a vendor shopping fair\, crafts & activities for the kids\, a parade of trees and – of course – visits with Santa and the Grinch! \nYou can find the schedule of events here: https://centralcitygo.org/wp-content/uploads/2025-Event-listing.pdf
URL:https://centralcitygo.org/event/holiday-on-main/
LOCATION:Downtown Central City\, 356 E Main St\, Central City\, Iowa\, 52214\, United States
ATTACH;FMTTYPE=image/png:https://centralcitygo.org/wp-content/uploads/Holiday-on-Main-circle.png
ORGANIZER;CN="Central City Growth Organization":MAILTO:centralcitygo@gmail.com
END:VEVENT
BEGIN:VEVENT
DTSTART;TZID=America/Chicago:20251213T190000
DTEND;TZID=America/Chicago:20251213T220000
DTSTAMP:20260420T213325
CREATED:20251104T195624Z
LAST-MODIFIED:20251104T195624Z
UID:1888-1765652400-1765663200@centralcitygo.org
SUMMARY:Line Dancing Lessons
DESCRIPTION:Line Dancing Lessons. \nMusic donated by Crown King Entertainment. \n$10 per person at the door – doors open at 6:30. \nCash bar available.
URL:https://centralcitygo.org/event/line-dancing-lessons/
LOCATION:Linn County Fairgrounds\, 201 Central City Rd\, Central City\, Iowa\, 52214\, United States
ATTACH;FMTTYPE=image/jpeg:https://centralcitygo.org/wp-content/uploads/Line-Dancing-.jpg
ORGANIZER;CN="Linn County Fairgrounds":MAILTO:info@thelinncountyfair.com
END:VEVENT
BEGIN:VEVENT
DTSTART;TZID=America/Chicago:20251216T183000
DTEND;TZID=America/Chicago:20251216T213000
DTSTAMP:20260420T213325
CREATED:20250826T211416Z
LAST-MODIFIED:20250826T211416Z
UID:1813-1765909800-1765920600@centralcitygo.org
SUMMARY:American Legion Bingo
DESCRIPTION:Bingo every Tuesday night.  Doors open at 4:30 pm.  Bingo starts at 6:30 pm.  Lots of prizes & fun!
URL:https://centralcitygo.org/event/american-legion-bingo-34/
LOCATION:American Legion – Post 421\, 6 Central City Rd\, Central City\, Iowa\, 52214\, United States
ATTACH;FMTTYPE=image/jpeg:https://centralcitygo.org/wp-content/uploads/485780808_9324327010992116_6545910602627890421_n-vtiMJe.jpg
ORGANIZER;CN="American Legion - Post 421":MAILTO:iapost421@gmail.com
END:VEVENT
BEGIN:VEVENT
DTSTART;TZID=America/Chicago:20251219T173000
DTEND;TZID=America/Chicago:20251219T203000
DTSTAMP:20260420T213325
CREATED:20251121T204137Z
LAST-MODIFIED:20251121T204137Z
UID:1905-1766165400-1766176200@centralcitygo.org
SUMMARY:YMCA Camp Wapsie - Bingo Food Drive
DESCRIPTION:Join YMCA Camp Wapsie for a fun-filled event and help our local food pantries at the same time! \nThere is no cost for the bingo event\, just bring some non-perishable food items to donate!  Bingo prizes for both kids and adults will be available.
URL:https://centralcitygo.org/event/ymca-camp-wapsie-bingo-food-drive/
LOCATION:YMCA Camp Wapsie\, 2174 Wapsie Y Road\, Coggon\, Iowa\, 52218\, United States
ATTACH;FMTTYPE=image/jpeg:https://centralcitygo.org/wp-content/uploads/Camp-Wapsie-Bingo-Food-Drive.jpg
ORGANIZER;CN="YMCA Camp Wapsie":MAILTO:camp@crmetroymca.org
END:VEVENT
BEGIN:VEVENT
DTSTART;TZID=America/Chicago:20251220T190000
DTEND;TZID=America/Chicago:20251220T220000
DTSTAMP:20260420T213325
CREATED:20251104T195830Z
LAST-MODIFIED:20251104T195830Z
UID:1891-1766257200-1766268000@centralcitygo.org
SUMMARY:Line Dancing Lessons
DESCRIPTION:Line Dancing Lessons. \nMusic donated by Crown King Entertainment. \n$10 per person at the door – doors open at 6:30. \nCash bar available.
URL:https://centralcitygo.org/event/line-dancing-lessons-2/
LOCATION:Linn County Fairgrounds\, 201 Central City Rd\, Central City\, Iowa\, 52214\, United States
ATTACH;FMTTYPE=image/jpeg:https://centralcitygo.org/wp-content/uploads/Line-Dancing-.jpg
ORGANIZER;CN="Linn County Fairgrounds":MAILTO:info@thelinncountyfair.com
END:VEVENT
BEGIN:VEVENT
DTSTART;TZID=America/Chicago:20251223T183000
DTEND;TZID=America/Chicago:20251223T213000
DTSTAMP:20260420T213325
CREATED:20250826T211430Z
LAST-MODIFIED:20250826T211430Z
UID:1814-1766514600-1766525400@centralcitygo.org
SUMMARY:American Legion Bingo
DESCRIPTION:Bingo every Tuesday night.  Doors open at 4:30 pm.  Bingo starts at 6:30 pm.  Lots of prizes & fun!
URL:https://centralcitygo.org/event/american-legion-bingo-35/
LOCATION:American Legion – Post 421\, 6 Central City Rd\, Central City\, Iowa\, 52214\, United States
ATTACH;FMTTYPE=image/jpeg:https://centralcitygo.org/wp-content/uploads/485780808_9324327010992116_6545910602627890421_n-vtiMJe.jpg
ORGANIZER;CN="American Legion - Post 421":MAILTO:iapost421@gmail.com
END:VEVENT
BEGIN:VEVENT
DTSTART;TZID=America/Chicago:20251230T183000
DTEND;TZID=America/Chicago:20251230T213000
DTSTAMP:20260420T213325
CREATED:20250826T211430Z
LAST-MODIFIED:20250826T211430Z
UID:1815-1767119400-1767130200@centralcitygo.org
SUMMARY:American Legion Bingo
DESCRIPTION:Bingo every Tuesday night.  Doors open at 4:30 pm.  Bingo starts at 6:30 pm.  Lots of prizes & fun!
URL:https://centralcitygo.org/event/american-legion-bingo-36/
LOCATION:American Legion – Post 421\, 6 Central City Rd\, Central City\, Iowa\, 52214\, United States
ATTACH;FMTTYPE=image/jpeg:https://centralcitygo.org/wp-content/uploads/485780808_9324327010992116_6545910602627890421_n-vtiMJe.jpg
ORGANIZER;CN="American Legion - Post 421":MAILTO:iapost421@gmail.com
END:VEVENT
BEGIN:VEVENT
DTSTART;TZID=America/Chicago:20260221T090000
DTEND;TZID=America/Chicago:20260221T110000
DTSTAMP:20260420T213325
CREATED:20260217T224605Z
LAST-MODIFIED:20260217T224605Z
UID:2009-1771664400-1771671600@centralcitygo.org
SUMMARY:Cat Café
DESCRIPTION:Cat Café at the Coggon Library
URL:https://centralcitygo.org/event/cat-cafe/
LOCATION:Coggon Library\, 202 E Main St\, Coggon\, Iowa\, 52218\, United States
ATTACH;FMTTYPE=image/jpeg:https://centralcitygo.org/wp-content/uploads/Coggon-Library.jpg
ORGANIZER;CN="Coggon Library":MAILTO:director@coggonpubliclibrary.org
END:VEVENT
BEGIN:VEVENT
DTSTART;TZID=America/Chicago:20260221T173000
DTEND;TZID=America/Chicago:20260221T203000
DTSTAMP:20260420T213325
CREATED:20260217T224606Z
LAST-MODIFIED:20260217T224606Z
UID:2010-1771695000-1771705800@centralcitygo.org
SUMMARY:Whittier Game Night
DESCRIPTION:
URL:https://centralcitygo.org/event/whittier-game-night/
LOCATION:Whittier Community Building\, 1006 County Home Rd\, Springville\, Iowa\, 52336\, United States
ATTACH;FMTTYPE=image/jpeg:https://centralcitygo.org/wp-content/uploads/Whittier-Game-Night.jpg
ORGANIZER;CN="Whittier Market":MAILTO:makinzah@gmail.com
END:VEVENT
BEGIN:VEVENT
DTSTART;TZID=America/Chicago:20260221T190000
DTEND;TZID=America/Chicago:20260221T213000
DTSTAMP:20260420T213325
CREATED:20260217T224605Z
LAST-MODIFIED:20260217T224605Z
UID:2005-1771700400-1771709400@centralcitygo.org
SUMMARY:The BIT Band
DESCRIPTION:Live Music at BIT Brewery with The BIT Band
URL:https://centralcitygo.org/event/the-bit-band/
LOCATION:BIT Brewery\, 26 - 4th St N\, Central City\, Iowa\, 52214\, United States
ATTACH;FMTTYPE=image/jpeg:https://centralcitygo.org/wp-content/uploads/The-BIT-Band.jpg
ORGANIZER;CN="BIT Brewery":MAILTO:bitbrew3@gmail.com
END:VEVENT
END:VCALENDAR