BEGIN:VCALENDAR
VERSION:2.0
PRODID:-//Central City Go - ECPv6.15.17.1//NONSGML v1.0//EN
CALSCALE:GREGORIAN
METHOD:PUBLISH
X-WR-CALNAME:Central City Go
X-ORIGINAL-URL:https://centralcitygo.org
X-WR-CALDESC:Events for Central City Go
REFRESH-INTERVAL;VALUE=DURATION:PT1H
X-Robots-Tag:noindex
X-PUBLISHED-TTL:PT1H
BEGIN:VTIMEZONE
TZID:America/Chicago
BEGIN:DAYLIGHT
TZOFFSETFROM:-0600
TZOFFSETTO:-0500
TZNAME:CDT
DTSTART:20240310T080000
END:DAYLIGHT
BEGIN:STANDARD
TZOFFSETFROM:-0500
TZOFFSETTO:-0600
TZNAME:CST
DTSTART:20241103T070000
END:STANDARD
BEGIN:DAYLIGHT
TZOFFSETFROM:-0600
TZOFFSETTO:-0500
TZNAME:CDT
DTSTART:20250309T080000
END:DAYLIGHT
BEGIN:STANDARD
TZOFFSETFROM:-0500
TZOFFSETTO:-0600
TZNAME:CST
DTSTART:20251102T070000
END:STANDARD
BEGIN:DAYLIGHT
TZOFFSETFROM:-0600
TZOFFSETTO:-0500
TZNAME:CDT
DTSTART:20260308T080000
END:DAYLIGHT
BEGIN:STANDARD
TZOFFSETFROM:-0500
TZOFFSETTO:-0600
TZNAME:CST
DTSTART:20261101T070000
END:STANDARD
END:VTIMEZONE
BEGIN:VEVENT
DTSTART;TZID=America/Chicago:20250802T150000
DTEND;TZID=America/Chicago:20250802T150000
DTSTAMP:20260421T002604
CREATED:20250627T010903Z
LAST-MODIFIED:20250627T010903Z
UID:1634-1754146800-1754146800@centralcitygo.org
SUMMARY:Alburnett Children's Benefit Days
DESCRIPTION:
URL:https://centralcitygo.org/event/alburnett-childrens-benefit-days/
LOCATION:Alburnett\, IA\, 120 N Main Ave\, Alburnett\, Iowa\, 52202\, United States
ATTACH;FMTTYPE=image/jpeg:https://centralcitygo.org/wp-content/uploads/Alburnett-CDC.jpg
ORGANIZER;CN="Alburnett Community Diamond Club":MAILTO:albcommdiamondclub@gmail.com
END:VEVENT
BEGIN:VEVENT
DTSTART;TZID=America/Chicago:20250805T183000
DTEND;TZID=America/Chicago:20250805T213000
DTSTAMP:20260421T002604
CREATED:20250627T010950Z
LAST-MODIFIED:20250627T010950Z
UID:1654-1754418600-1754429400@centralcitygo.org
SUMMARY:American Legion Bingo
DESCRIPTION:
URL:https://centralcitygo.org/event/american-legion-bingo-15/
LOCATION:American Legion – Post 421\, 6 Central City Rd\, Central City\, Iowa\, 52214\, United States
ATTACH;FMTTYPE=image/jpeg:https://centralcitygo.org/wp-content/uploads/485780808_9324327010992116_6545910602627890421_n-vtiMJe.jpg
ORGANIZER;CN="American Legion - Post 421":MAILTO:iapost421@gmail.com
END:VEVENT
BEGIN:VEVENT
DTSTART;TZID=America/Chicago:20250807T160000
DTEND;TZID=America/Chicago:20250807T180000
DTSTAMP:20260421T002604
CREATED:20250627T011005Z
LAST-MODIFIED:20250627T011005Z
UID:1659-1754582400-1754589600@centralcitygo.org
SUMMARY:Central City Farmer's Markets
DESCRIPTION:
URL:https://centralcitygo.org/event/central-city-farmers-markets-6/
LOCATION:Veteran’s Memorial Park\, 260 5th St S\, Central City\, Iowa\, 52214\, United States
ATTACH;FMTTYPE=image/jpeg:https://centralcitygo.org/wp-content/uploads/Farmers-Market-1.jpg
ORGANIZER;CN="Central City Parks &amp%3B Recreation":MAILTO:clerk@centralcityia.gov
END:VEVENT
BEGIN:VEVENT
DTSTART;TZID=America/Chicago:20250807T163000
DTEND;TZID=America/Chicago:20250807T203000
DTSTAMP:20260421T002604
CREATED:20250627T011005Z
LAST-MODIFIED:20250627T011005Z
UID:1658-1754584200-1754598600@centralcitygo.org
SUMMARY:Foxy's Shine & Dine
DESCRIPTION:
URL:https://centralcitygo.org/event/foxys-shine-dine-4/
LOCATION:Foxy’s Chill & Grill\, 347 E Main St\, Central City\, Iowa\, 52214\, United States
ATTACH;FMTTYPE=image/jpeg:https://centralcitygo.org/wp-content/uploads/492084742_1314578850246478_5228274219607378747_n-DbxQnh.jpg
ORGANIZER;CN="Foxy's Chill &amp%3B Grill":MAILTO:Foxden269@gmail.com
END:VEVENT
BEGIN:VEVENT
DTSTART;VALUE=DATE:20250808
DTEND;VALUE=DATE:20250810
DTSTAMP:20260421T002604
CREATED:20250627T011020Z
LAST-MODIFIED:20250805T180829Z
UID:1664-1754611200-1754783999@centralcitygo.org
SUMMARY:Coggon Dirt/Mud Drag
DESCRIPTION:
URL:https://centralcitygo.org/event/coggon-dirt-mud-drag/
LOCATION:Coggon\, IA\, 118 E Main St\, Coggon\, Iowa\, 52218\, United States
ATTACH;FMTTYPE=image/jpeg:https://centralcitygo.org/wp-content/uploads/Woodys-Midwest.jpg
END:VEVENT
BEGIN:VEVENT
DTSTART;VALUE=DATE:20250808
DTEND;VALUE=DATE:20250810
DTSTAMP:20260421T002604
CREATED:20250627T011021Z
LAST-MODIFIED:20250805T180758Z
UID:1665-1754611200-1754783999@centralcitygo.org
SUMMARY:Springville Fun Days
DESCRIPTION:
URL:https://centralcitygo.org/event/springville-fun-days/
LOCATION:Springville\, IA\, 304 Broadway\, Springville\, Iowa\, 52336\, United States
ORGANIZER;CN="City of Springville":MAILTO:cityofsp@netins.net
END:VEVENT
BEGIN:VEVENT
DTSTART;TZID=America/Chicago:20250808T183000
DTEND;TZID=America/Chicago:20250808T183000
DTSTAMP:20260421T002604
CREATED:20250627T011020Z
LAST-MODIFIED:20250627T011020Z
UID:1663-1754677800-1754677800@centralcitygo.org
SUMMARY:Springville Tractor Pull
DESCRIPTION:
URL:https://centralcitygo.org/event/springville-tractor-pull/
LOCATION:Springville\, IA\, 304 Broadway\, Springville\, Iowa\, 52336\, United States
ATTACH;FMTTYPE=image/jpeg:https://centralcitygo.org/wp-content/uploads/springville-tractor-pullers-association.jpg
ORGANIZER;CN="East Central Iowa Pullers Association":MAILTO:pullecipa@gmail.com
END:VEVENT
BEGIN:VEVENT
DTSTART;TZID=America/Chicago:20250809T080000
DTEND;TZID=America/Chicago:20250809T080000
DTSTAMP:20260421T002604
CREATED:20250627T011021Z
LAST-MODIFIED:20250715T202136Z
UID:1666-1754726400-1754726400@centralcitygo.org
SUMMARY:CCGO Annual Golf Tournament
DESCRIPTION:This is the 18th year for the Annual Benefit Golf Tournament\, we look forward to seeing you!Sign up sheet at Meadowview Golf and Country Club or you can message us to hold your spot!4 person best shotSaturday\, August 9\, 2025Registration starts at 8:00\, tee off at 9:00 \nProceeds support the mission of the Central City Growth Organization. \nRegistration Form
URL:https://centralcitygo.org/event/ccgo-annual-golf-tournament/
LOCATION:Meadowview Country Club\, 1500 E Maple St\, Central City\, Iowa\, 52214\, United States
ATTACH;FMTTYPE=image/jpeg:https://centralcitygo.org/wp-content/uploads/CCGO-Golf-Tournament-Logo-light-background.jpg
ORGANIZER;CN="Central City Growth Organization":MAILTO:centralcitygo@gmail.com
END:VEVENT
BEGIN:VEVENT
DTSTART;TZID=America/Chicago:20250809T100000
DTEND;TZID=America/Chicago:20250809T100000
DTSTAMP:20260421T002604
CREATED:20250627T010903Z
LAST-MODIFIED:20250805T193020Z
UID:1631-1754733600-1754733600@centralcitygo.org
SUMMARY:Eastern Iowa Honor Float
DESCRIPTION:The Eastern Iowa Honor Float is an amazing fundraiser benefitting The Eastern Iowa Honor Flight\, which is dedicated to flying our veterans to Washington DC so they can see the memorials dedicated to them for their service to our country.
URL:https://centralcitygo.org/event/eastern-iowa-honor-float/
LOCATION:Veteran’s Memorial Park\, 260 5th St S\, Central City\, Iowa\, 52214\, United States
ATTACH;FMTTYPE=image/png:https://centralcitygo.org/wp-content/uploads/Honor-Float.png
ORGANIZER;CN="Eastern Iowa Honor Float":MAILTO:HonorFloat37@gmail.com
END:VEVENT
BEGIN:VEVENT
DTSTART;TZID=America/Chicago:20250812T183000
DTEND;TZID=America/Chicago:20250812T213000
DTSTAMP:20260421T002604
CREATED:20250627T010951Z
LAST-MODIFIED:20250627T010951Z
UID:1655-1755023400-1755034200@centralcitygo.org
SUMMARY:American Legion Bingo
DESCRIPTION:
URL:https://centralcitygo.org/event/american-legion-bingo-16/
LOCATION:American Legion – Post 421\, 6 Central City Rd\, Central City\, Iowa\, 52214\, United States
ATTACH;FMTTYPE=image/jpeg:https://centralcitygo.org/wp-content/uploads/485780808_9324327010992116_6545910602627890421_n-vtiMJe.jpg
ORGANIZER;CN="American Legion - Post 421":MAILTO:iapost421@gmail.com
END:VEVENT
BEGIN:VEVENT
DTSTART;TZID=America/Chicago:20250814T160000
DTEND;TZID=America/Chicago:20250814T180000
DTSTAMP:20260421T002604
CREATED:20250627T011006Z
LAST-MODIFIED:20250627T011006Z
UID:1660-1755187200-1755194400@centralcitygo.org
SUMMARY:Central City Farmer's Markets
DESCRIPTION:
URL:https://centralcitygo.org/event/central-city-farmers-markets-7/
LOCATION:Veteran’s Memorial Park\, 260 5th St S\, Central City\, Iowa\, 52214\, United States
ATTACH;FMTTYPE=image/jpeg:https://centralcitygo.org/wp-content/uploads/Farmers-Market-1.jpg
ORGANIZER;CN="Central City Parks &amp%3B Recreation":MAILTO:clerk@centralcityia.gov
END:VEVENT
BEGIN:VEVENT
DTSTART;VALUE=DATE:20250815
DTEND;VALUE=DATE:20250818
DTSTAMP:20260421T002604
CREATED:20250627T011035Z
LAST-MODIFIED:20250805T180718Z
UID:1668-1755216000-1755475199@centralcitygo.org
SUMMARY:Coggon Harvest Home
DESCRIPTION:Harvest Home is Coggon’s annual town celebration\, a family-friendly tradition started in 1890.
URL:https://centralcitygo.org/event/coggon-harvest-home/
LOCATION:Coggon\, IA\, 118 E Main St\, Coggon\, Iowa\, 52218\, United States
ATTACH;FMTTYPE=image/avif:https://centralcitygo.org/wp-content/uploads/Coggon-HH.avif
ORGANIZER;CN="Coggon Harvest Home":MAILTO:Coggonhh@gmail.com
END:VEVENT
BEGIN:VEVENT
DTSTART;TZID=America/Chicago:20250815T170000
DTEND;TZID=America/Chicago:20250815T190000
DTSTAMP:20260421T002604
CREATED:20250627T011035Z
LAST-MODIFIED:20250627T011035Z
UID:1667-1755277200-1755284400@centralcitygo.org
SUMMARY:American Legion Steak Fry
DESCRIPTION:
URL:https://centralcitygo.org/event/american-legion-steak-fry-3/
LOCATION:American Legion – Post 421\, 6 Central City Rd\, Central City\, Iowa\, 52214\, United States
ATTACH;FMTTYPE=image/jpeg:https://centralcitygo.org/wp-content/uploads/482251493_1032744128880810_123962059530793944_n-vmtXB5.jpg
ORGANIZER;CN="American Legion - Post 421":MAILTO:iapost421@gmail.com
END:VEVENT
BEGIN:VEVENT
DTSTART;TZID=America/Chicago:20250817T110000
DTEND;TZID=America/Chicago:20250817T160000
DTSTAMP:20260421T002604
CREATED:20250627T011035Z
LAST-MODIFIED:20250627T011035Z
UID:1669-1755428400-1755446400@centralcitygo.org
SUMMARY:St Stephen's Church Nibl'n Bid'n & Pie
DESCRIPTION:
URL:https://centralcitygo.org/event/st-stephens-church-nibln-bidn-pie/
LOCATION:St Stephen’s Catholic Church\, 4700 Valley Farm Rd\, Central City\, Iowa\, 52214\, United States
ATTACH;FMTTYPE=image/png:https://centralcitygo.org/wp-content/uploads/Screenshot-2025-06-10-171234.png
ORGANIZER;CN="St Stephen's Catholic Church":MAILTO:dbq034bk@dbqarch.org
END:VEVENT
BEGIN:VEVENT
DTSTART;TZID=America/Chicago:20250819T163000
DTEND;TZID=America/Chicago:20250819T183000
DTSTAMP:20260421T002604
CREATED:20250627T011050Z
LAST-MODIFIED:20250721T165349Z
UID:1673-1755621000-1755628200@centralcitygo.org
SUMMARY:Ohnward Bank Grilling for Charity
DESCRIPTION:
URL:https://centralcitygo.org/event/ohnward-bank-grilling-for-charity/
LOCATION:Ohnward Bank\, 401 E Main St\, Central City\, Iowa\, 52214\, United States
ATTACH;FMTTYPE=image/jpeg:https://centralcitygo.org/wp-content/uploads/Grilling-for-charity.jpg
ORGANIZER;CN="Ohnward Bank":MAILTO:eheims@ohnwardbank.com
END:VEVENT
BEGIN:VEVENT
DTSTART;TZID=America/Chicago:20250819T183000
DTEND;TZID=America/Chicago:20250819T213000
DTSTAMP:20260421T002604
CREATED:20250627T010951Z
LAST-MODIFIED:20250627T010951Z
UID:1656-1755628200-1755639000@centralcitygo.org
SUMMARY:American Legion Bingo
DESCRIPTION:
URL:https://centralcitygo.org/event/american-legion-bingo-17/
LOCATION:American Legion – Post 421\, 6 Central City Rd\, Central City\, Iowa\, 52214\, United States
ATTACH;FMTTYPE=image/jpeg:https://centralcitygo.org/wp-content/uploads/485780808_9324327010992116_6545910602627890421_n-vtiMJe.jpg
ORGANIZER;CN="American Legion - Post 421":MAILTO:iapost421@gmail.com
END:VEVENT
BEGIN:VEVENT
DTSTART;TZID=America/Chicago:20250821T160000
DTEND;TZID=America/Chicago:20250821T180000
DTSTAMP:20260421T002604
CREATED:20250627T011006Z
LAST-MODIFIED:20250627T011006Z
UID:1661-1755792000-1755799200@centralcitygo.org
SUMMARY:Central City Farmer's Markets
DESCRIPTION:
URL:https://centralcitygo.org/event/central-city-farmers-markets-8/
LOCATION:Veteran’s Memorial Park\, 260 5th St S\, Central City\, Iowa\, 52214\, United States
ATTACH;FMTTYPE=image/jpeg:https://centralcitygo.org/wp-content/uploads/Farmers-Market-1.jpg
ORGANIZER;CN="Central City Parks &amp%3B Recreation":MAILTO:clerk@centralcityia.gov
END:VEVENT
BEGIN:VEVENT
DTSTART;TZID=America/Chicago:20250822T183000
DTEND;TZID=America/Chicago:20250822T210000
DTSTAMP:20260421T002605
CREATED:20250627T011036Z
LAST-MODIFIED:20250627T011036Z
UID:1670-1755887400-1755896400@centralcitygo.org
SUMMARY:Music in the Park: Crankshaft
DESCRIPTION:Concessions by AMVETS Post 37
URL:https://centralcitygo.org/event/music-in-the-park-crankshaft/
LOCATION:Veteran’s Memorial Park\, 260 5th St S\, Central City\, Iowa\, 52214\, United States
ATTACH;FMTTYPE=image/jpeg:https://centralcitygo.org/wp-content/uploads/Music-in-the-Park.jpg
ORGANIZER;CN="Central City Parks &amp%3B Recreation":MAILTO:clerk@centralcityia.gov
END:VEVENT
BEGIN:VEVENT
DTSTART;TZID=America/Chicago:20250823T080000
DTEND;TZID=America/Chicago:20250823T173000
DTSTAMP:20260421T002605
CREATED:20250715T200918Z
LAST-MODIFIED:20250715T200918Z
UID:1717-1755936000-1755970200@centralcitygo.org
SUMMARY:BIT Bicycle Ride
DESCRIPTION:Time to register! We will be gathering people at 8am for about a 40 mile bicycle ride on August 23rd\, 2025. It will start at BIT\, venture through three local towns\, supporting other local businesses\, and ending at BIT for a raffle\, beverages\, and music at 5pm. Proceeds will be used to support the bicycling community around Central City. Keep an eye out\, as you will be seeing registration opening soon. We are trying something new to support local business as well as our awesome bicycling community. Here is a link to the reg on Eventbrite. https://www.eventbrite.com/…/bikeaholics-in-training…
URL:https://centralcitygo.org/event/bit-bicycle-ride/
LOCATION:BIT Brewery\, 26 - 4th St N\, Central City\, Iowa\, 52214\, United States
ATTACH;FMTTYPE=image/jpeg:https://centralcitygo.org/wp-content/uploads/BIT-Bike-Ride.jpg
ORGANIZER;CN="BIT Brewery":MAILTO:bitbrew3@gmail.com
END:VEVENT
BEGIN:VEVENT
DTSTART;TZID=America/Chicago:20250826T183000
DTEND;TZID=America/Chicago:20250826T213000
DTSTAMP:20260421T002605
CREATED:20250627T011005Z
LAST-MODIFIED:20250627T011005Z
UID:1657-1756233000-1756243800@centralcitygo.org
SUMMARY:American Legion Bingo
DESCRIPTION:
URL:https://centralcitygo.org/event/american-legion-bingo-18/
LOCATION:American Legion – Post 421\, 6 Central City Rd\, Central City\, Iowa\, 52214\, United States
ATTACH;FMTTYPE=image/jpeg:https://centralcitygo.org/wp-content/uploads/485780808_9324327010992116_6545910602627890421_n-vtiMJe.jpg
ORGANIZER;CN="American Legion - Post 421":MAILTO:iapost421@gmail.com
END:VEVENT
BEGIN:VEVENT
DTSTART;TZID=America/Chicago:20250828T160000
DTEND;TZID=America/Chicago:20250828T180000
DTSTAMP:20260421T002605
CREATED:20250627T011020Z
LAST-MODIFIED:20250627T011020Z
UID:1662-1756396800-1756404000@centralcitygo.org
SUMMARY:Central City Farmer's Markets
DESCRIPTION:
URL:https://centralcitygo.org/event/central-city-farmers-markets-9/
LOCATION:Veteran’s Memorial Park\, 260 5th St S\, Central City\, Iowa\, 52214\, United States
ATTACH;FMTTYPE=image/jpeg:https://centralcitygo.org/wp-content/uploads/Farmers-Market-1.jpg
ORGANIZER;CN="Central City Parks &amp%3B Recreation":MAILTO:clerk@centralcityia.gov
END:VEVENT
BEGIN:VEVENT
DTSTART;TZID=America/Chicago:20250830T210000
DTEND;TZID=America/Chicago:20250830T224500
DTSTAMP:20260421T002605
CREATED:20250423T092159Z
LAST-MODIFIED:20250826T211330Z
UID:1391-1756587600-1756593900@centralcitygo.org
SUMMARY:Prairieburg Fireworks
DESCRIPTION:
URL:https://centralcitygo.org/event/prairieburg-fireworks/
LOCATION:Iowa
ATTACH;FMTTYPE=image/jpeg:https://centralcitygo.org/wp-content/uploads/Prairieburg-Fireworks-8.30.25.jpg
END:VEVENT
BEGIN:VEVENT
DTSTART;TZID=America/Chicago:20250831T130000
DTEND;TZID=America/Chicago:20250831T190000
DTSTAMP:20260421T002605
CREATED:20250627T011036Z
LAST-MODIFIED:20250627T011036Z
UID:1671-1756645200-1756666800@centralcitygo.org
SUMMARY:Prairieburg Tractor Pull
DESCRIPTION:
URL:https://centralcitygo.org/event/prairieburg-tractor-pull/
LOCATION:Baker Park\, 151 Boulder St\, Prairieburg\, Iowa\, 52219\, United States
ATTACH;FMTTYPE=image/jpeg:https://centralcitygo.org/wp-content/uploads/Good-Ole-Boys-e1749844671889-hAZ8j5.jpg
ORGANIZER;CN="Good Ole' Boys/Baker Park":MAILTO:cityofprairieburg@gmail.com
END:VEVENT
BEGIN:VEVENT
DTSTART;TZID=America/Chicago:20250901T150000
DTEND;TZID=America/Chicago:20250901T180000
DTSTAMP:20260421T002605
CREATED:20250826T211257Z
LAST-MODIFIED:20250826T211257Z
UID:1780-1756738800-1756749600@centralcitygo.org
SUMMARY:F.B. & Company - Live Music
DESCRIPTION:
URL:https://centralcitygo.org/event/f-b-company-live-music-2/
LOCATION:F.B. & Company\, 4185 Whittier Rd\, Central City\, Iowa\, 52214\, United States
ATTACH;FMTTYPE=image/jpeg:https://centralcitygo.org/wp-content/uploads/FB-Co.jpg
ORGANIZER;CN="F.B. &amp%3B Company":MAILTO:tim_kula@yahoo.com
END:VEVENT
BEGIN:VEVENT
DTSTART;TZID=America/Chicago:20250902T183000
DTEND;TZID=America/Chicago:20250902T213000
DTSTAMP:20260421T002605
CREATED:20250826T211258Z
LAST-MODIFIED:20250826T211258Z
UID:1781-1756837800-1756848600@centralcitygo.org
SUMMARY:American Legion Bingo
DESCRIPTION:Bingo every Tuesday night.  Doors open at 4:30 pm.  Bingo starts at 6:30 pm.  Lots of prizes & fun!
URL:https://centralcitygo.org/event/american-legion-bingo-19/
LOCATION:American Legion – Post 421\, 6 Central City Rd\, Central City\, Iowa\, 52214\, United States
ATTACH;FMTTYPE=image/jpeg:https://centralcitygo.org/wp-content/uploads/485780808_9324327010992116_6545910602627890421_n-vtiMJe.jpg
ORGANIZER;CN="American Legion - Post 421":MAILTO:iapost421@gmail.com
END:VEVENT
BEGIN:VEVENT
DTSTART;TZID=America/Chicago:20250904T160000
DTEND;TZID=America/Chicago:20250904T180000
DTSTAMP:20260421T002605
CREATED:20250826T211259Z
LAST-MODIFIED:20250826T211259Z
UID:1787-1757001600-1757008800@centralcitygo.org
SUMMARY:Central City Farmer's Markets
DESCRIPTION:Every Thursday from June through September from 4:00 – 6:00 pm at the pavillion at Veteran’s Memorial Park.  Fresh fruits & veggies\, baked goods\, honey\, jams & jellies\, jewelry\, fine art\, crafts\, candles\, cut & potted flowers – there is a great variety every week!  Grab & go dinners are available.  CC Farmer’s Market is an authorized FMNP market.
URL:https://centralcitygo.org/event/central-city-farmers-markets-10/
LOCATION:Veteran’s Memorial Park\, 260 5th St S\, Central City\, Iowa\, 52214\, United States
ATTACH;FMTTYPE=image/jpeg:https://centralcitygo.org/wp-content/uploads/Farmers-Market-1.jpg
ORGANIZER;CN="Central City Parks &amp%3B Recreation":MAILTO:clerk@centralcityia.gov
END:VEVENT
BEGIN:VEVENT
DTSTART;TZID=America/Chicago:20250904T163000
DTEND;TZID=America/Chicago:20250904T203000
DTSTAMP:20260421T002605
CREATED:20250826T211259Z
LAST-MODIFIED:20250826T211259Z
UID:1786-1757003400-1757017800@centralcitygo.org
SUMMARY:Foxy's Shine & Dine
DESCRIPTION:Join us the 1st Thursday of the month from 4:30 – 8:30 pm.  Bring out your hot rod\, turck\, car or motorcycle for a night out with other enthusiasts in beautiful downtown Central City.  Weekly drawings for Foxy’s gift certificates.
URL:https://centralcitygo.org/event/foxys-shine-dine-5/
LOCATION:Foxy’s Chill & Grill\, 347 E Main St\, Central City\, Iowa\, 52214\, United States
ATTACH;FMTTYPE=image/jpeg:https://centralcitygo.org/wp-content/uploads/492084742_1314578850246478_5228274219607378747_n-DbxQnh.jpg
ORGANIZER;CN="Foxy's Chill &amp%3B Grill":MAILTO:Foxden269@gmail.com
END:VEVENT
BEGIN:VEVENT
DTSTART;TZID=America/Chicago:20250906T110000
DTEND;TZID=America/Chicago:20250906T160000
DTSTAMP:20260421T002605
CREATED:20250826T211315Z
LAST-MODIFIED:20250826T211315Z
UID:1791-1757156400-1757174400@centralcitygo.org
SUMMARY:Wicked Kreations Car & Bike Show
DESCRIPTION:This annual car show benefits the Eastern Iowa Honor Flight.  Registration is at 10 am in downtown Central City.  There will be live music\, a live auction & raffles\, a burnout contest and goody bags for the first 100 car entries.
URL:https://centralcitygo.org/event/wicked-kreations-car-bike-show/
LOCATION:Downtown Central City\, 356 E Main St\, Central City\, Iowa\, 52214\, United States
ATTACH;FMTTYPE=image/jpeg:https://centralcitygo.org/wp-content/uploads/Wicked-Kreations-9.6.25.jpg
END:VEVENT
BEGIN:VEVENT
DTSTART;TZID=America/Chicago:20250909T183000
DTEND;TZID=America/Chicago:20250909T213000
DTSTAMP:20260421T002605
CREATED:20250826T211258Z
LAST-MODIFIED:20250826T211258Z
UID:1782-1757442600-1757453400@centralcitygo.org
SUMMARY:American Legion Bingo
DESCRIPTION:Bingo every Tuesday night.  Doors open at 4:30 pm.  Bingo starts at 6:30 pm.  Lots of prizes & fun!
URL:https://centralcitygo.org/event/american-legion-bingo-20/
LOCATION:American Legion – Post 421\, 6 Central City Rd\, Central City\, Iowa\, 52214\, United States
ATTACH;FMTTYPE=image/jpeg:https://centralcitygo.org/wp-content/uploads/485780808_9324327010992116_6545910602627890421_n-vtiMJe.jpg
ORGANIZER;CN="American Legion - Post 421":MAILTO:iapost421@gmail.com
END:VEVENT
BEGIN:VEVENT
DTSTART;TZID=America/Chicago:20250911T160000
DTEND;TZID=America/Chicago:20250911T180000
DTSTAMP:20260421T002605
CREATED:20250826T211300Z
LAST-MODIFIED:20250826T211300Z
UID:1788-1757606400-1757613600@centralcitygo.org
SUMMARY:Central City Farmer's Markets
DESCRIPTION:Every Thursday from June through September from 4:00 – 6:00 pm at the pavillion at Veteran’s Memorial Park.  Fresh fruits & veggies\, baked goods\, honey\, jams & jellies\, jewelry\, fine art\, crafts\, candles\, cut & potted flowers – there is a great variety every week!  Grab & go dinners are available.  CC Farmer’s Market is an authorized FMNP market.
URL:https://centralcitygo.org/event/central-city-farmers-markets-11/
LOCATION:Veteran’s Memorial Park\, 260 5th St S\, Central City\, Iowa\, 52214\, United States
ATTACH;FMTTYPE=image/jpeg:https://centralcitygo.org/wp-content/uploads/Farmers-Market-1.jpg
ORGANIZER;CN="Central City Parks &amp%3B Recreation":MAILTO:clerk@centralcityia.gov
END:VEVENT
END:VCALENDAR