BEGIN:VCALENDAR
VERSION:2.0
PRODID:-//Central City Go - ECPv6.15.17.1//NONSGML v1.0//EN
CALSCALE:GREGORIAN
METHOD:PUBLISH
X-WR-CALNAME:Central City Go
X-ORIGINAL-URL:https://centralcitygo.org
X-WR-CALDESC:Events for Central City Go
REFRESH-INTERVAL;VALUE=DURATION:PT1H
X-Robots-Tag:noindex
X-PUBLISHED-TTL:PT1H
BEGIN:VTIMEZONE
TZID:America/Chicago
BEGIN:DAYLIGHT
TZOFFSETFROM:-0600
TZOFFSETTO:-0500
TZNAME:CDT
DTSTART:20240310T080000
END:DAYLIGHT
BEGIN:STANDARD
TZOFFSETFROM:-0500
TZOFFSETTO:-0600
TZNAME:CST
DTSTART:20241103T070000
END:STANDARD
BEGIN:DAYLIGHT
TZOFFSETFROM:-0600
TZOFFSETTO:-0500
TZNAME:CDT
DTSTART:20250309T080000
END:DAYLIGHT
BEGIN:STANDARD
TZOFFSETFROM:-0500
TZOFFSETTO:-0600
TZNAME:CST
DTSTART:20251102T070000
END:STANDARD
BEGIN:DAYLIGHT
TZOFFSETFROM:-0600
TZOFFSETTO:-0500
TZNAME:CDT
DTSTART:20260308T080000
END:DAYLIGHT
BEGIN:STANDARD
TZOFFSETFROM:-0500
TZOFFSETTO:-0600
TZNAME:CST
DTSTART:20261101T070000
END:STANDARD
END:VTIMEZONE
BEGIN:VEVENT
DTSTART;TZID=America/Chicago:20250731T160000
DTEND;TZID=America/Chicago:20250731T180000
DTSTAMP:20260421T002901
CREATED:20250627T010921Z
LAST-MODIFIED:20250627T010921Z
UID:1645-1753977600-1753984800@centralcitygo.org
SUMMARY:Central City Farmer's Markets
DESCRIPTION:
URL:https://centralcitygo.org/event/central-city-farmers-markets-5/
LOCATION:Veteran’s Memorial Park\, 260 5th St S\, Central City\, Iowa\, 52214\, United States
ATTACH;FMTTYPE=image/jpeg:https://centralcitygo.org/wp-content/uploads/Farmers-Market-1.jpg
ORGANIZER;CN="Central City Parks &amp%3B Recreation":MAILTO:clerk@centralcityia.gov
END:VEVENT
BEGIN:VEVENT
DTSTART;TZID=America/Chicago:20250729T183000
DTEND;TZID=America/Chicago:20250729T213000
DTSTAMP:20260421T002901
CREATED:20250627T010905Z
LAST-MODIFIED:20250627T010905Z
UID:1639-1753813800-1753824600@centralcitygo.org
SUMMARY:American Legion Bingo
DESCRIPTION:
URL:https://centralcitygo.org/event/american-legion-bingo-14/
LOCATION:American Legion – Post 421\, 6 Central City Rd\, Central City\, Iowa\, 52214\, United States
ATTACH;FMTTYPE=image/jpeg:https://centralcitygo.org/wp-content/uploads/485780808_9324327010992116_6545910602627890421_n-vtiMJe.jpg
ORGANIZER;CN="American Legion - Post 421":MAILTO:iapost421@gmail.com
END:VEVENT
BEGIN:VEVENT
DTSTART;TZID=America/Chicago:20250725T183000
DTEND;TZID=America/Chicago:20250725T210000
DTSTAMP:20260421T002901
CREATED:20250627T010950Z
LAST-MODIFIED:20250627T010950Z
UID:1652-1753468200-1753477200@centralcitygo.org
SUMMARY:Music in the Park: Deja Blue Band
DESCRIPTION:Concessions by Born to Fry
URL:https://centralcitygo.org/event/music-in-the-park-deja-blue-band/
LOCATION:Veteran’s Memorial Park\, 260 5th St S\, Central City\, Iowa\, 52214\, United States
ATTACH;FMTTYPE=image/jpeg:https://centralcitygo.org/wp-content/uploads/Music-in-the-Park.jpg
ORGANIZER;CN="Central City Parks &amp%3B Recreation":MAILTO:clerk@centralcityia.gov
END:VEVENT
BEGIN:VEVENT
DTSTART;TZID=America/Chicago:20250725T000000
DTEND;TZID=America/Chicago:20250726T000000
DTSTAMP:20260421T002901
CREATED:20250627T010950Z
LAST-MODIFIED:20250627T010950Z
UID:1653-1753401600-1753488000@centralcitygo.org
SUMMARY:Central City Town-Wide Garage Sales
DESCRIPTION:
URL:https://centralcitygo.org/event/central-city-town-wide-garage-sales/
LOCATION:Iowa
ATTACH;FMTTYPE=image/jpeg:https://centralcitygo.org/wp-content/uploads/garage-sale.jpg
END:VEVENT
BEGIN:VEVENT
DTSTART;TZID=America/Chicago:20250725T000000
DTEND;TZID=America/Chicago:20250726T000000
DTSTAMP:20260421T002901
CREATED:20250627T010903Z
LAST-MODIFIED:20250627T010903Z
UID:1633-1753401600-1753488000@centralcitygo.org
SUMMARY:Walker Pickle Days
DESCRIPTION:
URL:https://centralcitygo.org/event/walker-pickle-days/
LOCATION:Walker\, IA\, 204 Greene St\, Walker\, Iowa\, 52352\, United States
ATTACH;FMTTYPE=image/jpeg:https://centralcitygo.org/wp-content/uploads/Walker-Pickle-Days.jpg
END:VEVENT
BEGIN:VEVENT
DTSTART;TZID=America/Chicago:20250725T000000
DTEND;TZID=America/Chicago:20250726T000000
DTSTAMP:20260421T002901
CREATED:20250627T010903Z
LAST-MODIFIED:20250627T010903Z
UID:1632-1753401600-1753488000@centralcitygo.org
SUMMARY:Brown Farm Days
DESCRIPTION:An event held every year during the last full weekend of July to demonstrate and remember past agricultural heritage.
URL:https://centralcitygo.org/event/brown-farm-days/
LOCATION:Brown Farm\, 1361 Sawyer Rd\, Central City\, Iowa\, 52214\, United States
ATTACH;FMTTYPE=image/jpeg:https://centralcitygo.org/wp-content/uploads/Brown-Farm.jpg
ORGANIZER;CN="Central City Historical Society":MAILTO:greifdar@netins.net
END:VEVENT
BEGIN:VEVENT
DTSTART;TZID=America/Chicago:20250724T160000
DTEND;TZID=America/Chicago:20250724T180000
DTSTAMP:20260421T002901
CREATED:20250627T010921Z
LAST-MODIFIED:20250627T010921Z
UID:1644-1753372800-1753380000@centralcitygo.org
SUMMARY:Central City Farmer's Markets
DESCRIPTION:
URL:https://centralcitygo.org/event/central-city-farmers-markets-4/
LOCATION:Veteran’s Memorial Park\, 260 5th St S\, Central City\, Iowa\, 52214\, United States
ATTACH;FMTTYPE=image/jpeg:https://centralcitygo.org/wp-content/uploads/Farmers-Market-1.jpg
ORGANIZER;CN="Central City Parks &amp%3B Recreation":MAILTO:clerk@centralcityia.gov
END:VEVENT
BEGIN:VEVENT
DTSTART;TZID=America/Chicago:20250722T183000
DTEND;TZID=America/Chicago:20250722T213000
DTSTAMP:20260421T002901
CREATED:20250627T010905Z
LAST-MODIFIED:20250627T010905Z
UID:1638-1753209000-1753219800@centralcitygo.org
SUMMARY:American Legion Bingo
DESCRIPTION:
URL:https://centralcitygo.org/event/american-legion-bingo-13/
LOCATION:American Legion – Post 421\, 6 Central City Rd\, Central City\, Iowa\, 52214\, United States
ATTACH;FMTTYPE=image/jpeg:https://centralcitygo.org/wp-content/uploads/485780808_9324327010992116_6545910602627890421_n-vtiMJe.jpg
ORGANIZER;CN="American Legion - Post 421":MAILTO:iapost421@gmail.com
END:VEVENT
BEGIN:VEVENT
DTSTART;TZID=America/Chicago:20250717T160000
DTEND;TZID=America/Chicago:20250717T180000
DTSTAMP:20260421T002901
CREATED:20250627T010920Z
LAST-MODIFIED:20250627T010920Z
UID:1643-1752768000-1752775200@centralcitygo.org
SUMMARY:Central City Farmer's Markets
DESCRIPTION:
URL:https://centralcitygo.org/event/central-city-farmers-markets-3/
LOCATION:Veteran’s Memorial Park\, 260 5th St S\, Central City\, Iowa\, 52214\, United States
ATTACH;FMTTYPE=image/jpeg:https://centralcitygo.org/wp-content/uploads/Farmers-Market-1.jpg
ORGANIZER;CN="Central City Parks &amp%3B Recreation":MAILTO:clerk@centralcityia.gov
END:VEVENT
BEGIN:VEVENT
DTSTART;TZID=America/Chicago:20250715T183000
DTEND;TZID=America/Chicago:20250715T213000
DTSTAMP:20260421T002901
CREATED:20250627T010904Z
LAST-MODIFIED:20250627T010904Z
UID:1637-1752604200-1752615000@centralcitygo.org
SUMMARY:American Legion Bingo
DESCRIPTION:
URL:https://centralcitygo.org/event/american-legion-bingo-12/
LOCATION:American Legion – Post 421\, 6 Central City Rd\, Central City\, Iowa\, 52214\, United States
ATTACH;FMTTYPE=image/jpeg:https://centralcitygo.org/wp-content/uploads/485780808_9324327010992116_6545910602627890421_n-vtiMJe.jpg
ORGANIZER;CN="American Legion - Post 421":MAILTO:iapost421@gmail.com
END:VEVENT
BEGIN:VEVENT
DTSTART;TZID=America/Chicago:20250711T170000
DTEND;TZID=America/Chicago:20250711T190000
DTSTAMP:20260421T002901
CREATED:20250627T010938Z
LAST-MODIFIED:20250627T010938Z
UID:1651-1752253200-1752260400@centralcitygo.org
SUMMARY:American Legion Steak Fry
DESCRIPTION:
URL:https://centralcitygo.org/event/american-legion-steak-fry-2/
LOCATION:American Legion – Post 421\, 6 Central City Rd\, Central City\, Iowa\, 52214\, United States
ATTACH;FMTTYPE=image/jpeg:https://centralcitygo.org/wp-content/uploads/482251493_1032744128880810_123962059530793944_n-vmtXB5.jpg
ORGANIZER;CN="American Legion - Post 421":MAILTO:iapost421@gmail.com
END:VEVENT
BEGIN:VEVENT
DTSTART;TZID=America/Chicago:20250710T160000
DTEND;TZID=America/Chicago:20250710T180000
DTSTAMP:20260421T002901
CREATED:20250627T010920Z
LAST-MODIFIED:20250627T010920Z
UID:1642-1752163200-1752170400@centralcitygo.org
SUMMARY:Central City Farmer's Markets
DESCRIPTION:
URL:https://centralcitygo.org/event/central-city-farmers-markets-2/
LOCATION:Veteran’s Memorial Park\, 260 5th St S\, Central City\, Iowa\, 52214\, United States
ATTACH;FMTTYPE=image/jpeg:https://centralcitygo.org/wp-content/uploads/Farmers-Market-1.jpg
ORGANIZER;CN="Central City Parks &amp%3B Recreation":MAILTO:clerk@centralcityia.gov
END:VEVENT
BEGIN:VEVENT
DTSTART;TZID=America/Chicago:20250708T183000
DTEND;TZID=America/Chicago:20250708T213000
DTSTAMP:20260421T002901
CREATED:20250627T010904Z
LAST-MODIFIED:20250627T010904Z
UID:1636-1751999400-1752010200@centralcitygo.org
SUMMARY:American Legion Bingo
DESCRIPTION:
URL:https://centralcitygo.org/event/american-legion-bingo-11/
LOCATION:American Legion – Post 421\, 6 Central City Rd\, Central City\, Iowa\, 52214\, United States
ATTACH;FMTTYPE=image/jpeg:https://centralcitygo.org/wp-content/uploads/485780808_9324327010992116_6545910602627890421_n-vtiMJe.jpg
ORGANIZER;CN="American Legion - Post 421":MAILTO:iapost421@gmail.com
END:VEVENT
BEGIN:VEVENT
DTSTART;TZID=America/Chicago:20250706T090000
DTEND;TZID=America/Chicago:20250706T140000
DTSTAMP:20260421T002901
CREATED:20250627T010938Z
LAST-MODIFIED:20250627T010938Z
UID:1650-1751792400-1751810400@centralcitygo.org
SUMMARY:Junque Market
DESCRIPTION:
URL:https://centralcitygo.org/event/junque-market-2/
LOCATION:Coggon Community Center\, 408 E Linn St\, Coggon\, Iowa\, 52218\, United States
ATTACH;FMTTYPE=image/jpeg:https://centralcitygo.org/wp-content/uploads/475687444_122213483228203014_4820602099744202425_n-V21RSd.jpg
ORGANIZER;CN="Junque Market":MAILTO:coggonjunquemarket@gmail.com
END:VEVENT
BEGIN:VEVENT
DTSTART;TZID=America/Chicago:20250704T070000
DTEND;TZID=America/Chicago:20250704T140000
DTSTAMP:20260421T002901
CREATED:20250627T010937Z
LAST-MODIFIED:20250701T195146Z
UID:1646-1751612400-1751637600@centralcitygo.org
SUMMARY:4th of July Town-Wide Celebration
DESCRIPTION:Join us in celebrating the 4th of July in a big way in the small town of Central City. Come for the parade and stay for the live music\, food and fun for all ages. \nSchedule of Events \nOpen Businesses
URL:https://centralcitygo.org/event/4th-of-july-town-wide-celebration/
LOCATION:Downtown Central City\, 356 E Main St\, Central City\, Iowa\, 52214\, United States
ATTACH;FMTTYPE=image/webp:https://centralcitygo.org/wp-content/uploads/ccgo-event-poster-4th-of-july.webp
ORGANIZER;CN="Central City Growth Organization":MAILTO:centralcitygo@gmail.com
END:VEVENT
BEGIN:VEVENT
DTSTART;TZID=America/Chicago:20250704T070000
DTEND;TZID=America/Chicago:20250704T100000
DTSTAMP:20260421T002901
CREATED:20250627T010937Z
LAST-MODIFIED:20250627T010937Z
UID:1647-1751612400-1751623200@centralcitygo.org
SUMMARY:Dad's Belgian Waffle Breakfast
DESCRIPTION:
URL:https://centralcitygo.org/event/dads-belgian-waffle-breakfast/
LOCATION:Falcon Civic Center\, 137 4th St N\, Central City\, Iowa\, 52214\, United States
ATTACH;FMTTYPE=image/png:https://centralcitygo.org/wp-content/uploads/Dads-Belgian-Waffles-Logo-768x767-iQKCU7.png
ORGANIZER;CN="United Church of Christ":MAILTO:centralcityucc@gmail.com
END:VEVENT
BEGIN:VEVENT
DTSTART;VALUE=DATE:20250704
DTEND;VALUE=DATE:20250705
DTSTAMP:20260421T002901
CREATED:20250627T010938Z
LAST-MODIFIED:20250627T023428Z
UID:1649-1751587200-1751673599@centralcitygo.org
SUMMARY:Fireworks @ Linn County Fairgrounds
DESCRIPTION:Fireworks at the Linn County Fairgrounds will begin at dusk\, and are sponsored by the City of Central City.  Donations are appreciated so this event can continue from year to year.
URL:https://centralcitygo.org/event/fireworks-linn-county-fairgrounds/
LOCATION:Linn County Fairgrounds\, 201 Central City Rd\, Central City\, Iowa\, 52214\, United States
ATTACH;FMTTYPE=image/jpeg:https://centralcitygo.org/wp-content/uploads/fireworks-clipart.jpg
END:VEVENT
BEGIN:VEVENT
DTSTART;TZID=America/Chicago:20250703T163000
DTEND;TZID=America/Chicago:20250703T203000
DTSTAMP:20260421T002901
CREATED:20250627T010905Z
LAST-MODIFIED:20250627T010905Z
UID:1640-1751560200-1751574600@centralcitygo.org
SUMMARY:Foxy's Shine & Dine
DESCRIPTION:
URL:https://centralcitygo.org/event/foxys-shine-dine-3/
LOCATION:Foxy’s Chill & Grill\, 347 E Main St\, Central City\, Iowa\, 52214\, United States
ATTACH;FMTTYPE=image/jpeg:https://centralcitygo.org/wp-content/uploads/492084742_1314578850246478_5228274219607378747_n-DbxQnh.jpg
ORGANIZER;CN="Foxy's Chill &amp%3B Grill":MAILTO:Foxden269@gmail.com
END:VEVENT
BEGIN:VEVENT
DTSTART;TZID=America/Chicago:20250703T160000
DTEND;TZID=America/Chicago:20250703T180000
DTSTAMP:20260421T002901
CREATED:20250627T010920Z
LAST-MODIFIED:20250627T010920Z
UID:1641-1751558400-1751565600@centralcitygo.org
SUMMARY:Central City Farmer's Markets
DESCRIPTION:
URL:https://centralcitygo.org/event/central-city-farmers-markets/
LOCATION:Veteran’s Memorial Park\, 260 5th St S\, Central City\, Iowa\, 52214\, United States
ATTACH;FMTTYPE=image/jpeg:https://centralcitygo.org/wp-content/uploads/Farmers-Market-1.jpg
ORGANIZER;CN="Central City Parks &amp%3B Recreation":MAILTO:clerk@centralcityia.gov
END:VEVENT
BEGIN:VEVENT
DTSTART;TZID=America/Chicago:20250701T183000
DTEND;TZID=America/Chicago:20250701T213000
DTSTAMP:20260421T002901
CREATED:20250627T010903Z
LAST-MODIFIED:20250627T010903Z
UID:1635-1751394600-1751405400@centralcitygo.org
SUMMARY:American Legion Bingo
DESCRIPTION:
URL:https://centralcitygo.org/event/american-legion-bingo-10/
LOCATION:American Legion – Post 421\, 6 Central City Rd\, Central City\, Iowa\, 52214\, United States
ATTACH;FMTTYPE=image/jpeg:https://centralcitygo.org/wp-content/uploads/485780808_9324327010992116_6545910602627890421_n-vtiMJe.jpg
ORGANIZER;CN="American Legion - Post 421":MAILTO:iapost421@gmail.com
END:VEVENT
BEGIN:VEVENT
DTSTART;TZID=America/Chicago:20250626T160000
DTEND;TZID=America/Chicago:20250626T180000
DTSTAMP:20260421T002901
CREATED:20250423T092143Z
LAST-MODIFIED:20250424T191113Z
UID:1386-1750953600-1750960800@centralcitygo.org
SUMMARY:Central City Farmer's Market
DESCRIPTION:
URL:https://centralcitygo.org/event/central-city-farmers-market-4/
LOCATION:Iowa
ATTACH;FMTTYPE=image/jpeg:https://centralcitygo.org/wp-content/uploads/Farmers-Market-1.jpg
END:VEVENT
BEGIN:VEVENT
DTSTART;VALUE=DATE:20250625
DTEND;VALUE=DATE:20250630
DTSTAMP:20260421T002901
CREATED:20250423T092157Z
LAST-MODIFIED:20250610T205135Z
UID:1390-1750809600-1751241599@centralcitygo.org
SUMMARY:The Linn County Fair
DESCRIPTION:
URL:https://centralcitygo.org/event/the-linn-county-fair/
LOCATION:Iowa
ATTACH;FMTTYPE=image/png:https://centralcitygo.org/wp-content/uploads/492043431_1460303575294324_2991183435581589366_n-Dyzz2y.png
END:VEVENT
BEGIN:VEVENT
DTSTART;TZID=America/Chicago:20250624T183000
DTEND;TZID=America/Chicago:20250624T213000
DTSTAMP:20260421T002901
CREATED:20250423T092139Z
LAST-MODIFIED:20250424T191113Z
UID:1382-1750789800-1750800600@centralcitygo.org
SUMMARY:American Legion Bingo
DESCRIPTION:
URL:https://centralcitygo.org/event/american-legion-bingo-9/
LOCATION:Iowa
ATTACH;FMTTYPE=image/jpeg:https://centralcitygo.org/wp-content/uploads/485780808_9324327010992116_6545910602627890421_n-vtiMJe.jpg
END:VEVENT
BEGIN:VEVENT
DTSTART;TZID=America/Chicago:20250620T183000
DTEND;TZID=America/Chicago:20250620T210000
DTSTAMP:20260421T002901
CREATED:20250423T092156Z
LAST-MODIFIED:20250610T205215Z
UID:1389-1750444200-1750453200@centralcitygo.org
SUMMARY:Music in the Park: Danny Whitson & Ruthless County
DESCRIPTION:Concessions by Wescott Barbecue & Kona Ice
URL:https://centralcitygo.org/event/music-in-the-park-danny-whitson-ruthless-county/
LOCATION:Iowa
ATTACH;FMTTYPE=image/jpeg:https://centralcitygo.org/wp-content/uploads/487750793_1074985374652307_6370902132494052292_n-rmY358.jpg
END:VEVENT
BEGIN:VEVENT
DTSTART;TZID=America/Chicago:20250619T160000
DTEND;TZID=America/Chicago:20250619T180000
DTSTAMP:20260421T002901
CREATED:20250423T092142Z
LAST-MODIFIED:20250424T191113Z
UID:1385-1750348800-1750356000@centralcitygo.org
SUMMARY:Central City Farmer's Market
DESCRIPTION:
URL:https://centralcitygo.org/event/central-city-farmers-market-3/
LOCATION:Iowa
ATTACH;FMTTYPE=image/jpeg:https://centralcitygo.org/wp-content/uploads/Farmers-Market-1.jpg
END:VEVENT
BEGIN:VEVENT
DTSTART;TZID=America/Chicago:20250617T183000
DTEND;TZID=America/Chicago:20250617T213000
DTSTAMP:20260421T002901
CREATED:20250423T092128Z
LAST-MODIFIED:20250424T191113Z
UID:1381-1750185000-1750195800@centralcitygo.org
SUMMARY:American Legion Bingo
DESCRIPTION:
URL:https://centralcitygo.org/event/american-legion-bingo-8/
LOCATION:Iowa
ATTACH;FMTTYPE=image/jpeg:https://centralcitygo.org/wp-content/uploads/485780808_9324327010992116_6545910602627890421_n-vtiMJe.jpg
END:VEVENT
BEGIN:VEVENT
DTSTART;TZID=America/Chicago:20250614T080000
DTEND;TZID=America/Chicago:20250614T160000
DTSTAMP:20260421T002901
CREATED:20250423T092155Z
LAST-MODIFIED:20250424T191113Z
UID:1388-1749888000-1749916800@centralcitygo.org
SUMMARY:Springville Garage Sales
DESCRIPTION:
URL:https://centralcitygo.org/event/springville-garage-sales/
LOCATION:Iowa
ATTACH;FMTTYPE=image/jpeg:https://centralcitygo.org/wp-content/uploads/475910309_935611795359763_2143741349742110918_n-NlutsT.jpg
END:VEVENT
BEGIN:VEVENT
DTSTART;TZID=America/Chicago:20250613T170000
DTEND;TZID=America/Chicago:20250613T190000
DTSTAMP:20260421T002901
CREATED:20250423T092154Z
LAST-MODIFIED:20250424T191113Z
UID:1387-1749834000-1749841200@centralcitygo.org
SUMMARY:American Legion Steak Fry
DESCRIPTION:
URL:https://centralcitygo.org/event/american-legion-steak-fry/
LOCATION:Iowa
ATTACH;FMTTYPE=image/jpeg:https://centralcitygo.org/wp-content/uploads/482251493_1032744128880810_123962059530793944_n-vmtXB5.jpg
END:VEVENT
BEGIN:VEVENT
DTSTART;TZID=America/Chicago:20250612T160000
DTEND;TZID=America/Chicago:20250612T180000
DTSTAMP:20260421T002901
CREATED:20250423T092141Z
LAST-MODIFIED:20250424T191113Z
UID:1384-1749744000-1749751200@centralcitygo.org
SUMMARY:Central City Farmer's Market
DESCRIPTION:
URL:https://centralcitygo.org/event/central-city-farmers-market-2/
LOCATION:Iowa
ATTACH;FMTTYPE=image/jpeg:https://centralcitygo.org/wp-content/uploads/Farmers-Market-1.jpg
END:VEVENT
BEGIN:VEVENT
DTSTART;TZID=America/Chicago:20250610T183000
DTEND;TZID=America/Chicago:20250610T213000
DTSTAMP:20260421T002901
CREATED:20250423T092127Z
LAST-MODIFIED:20250424T191113Z
UID:1380-1749580200-1749591000@centralcitygo.org
SUMMARY:American Legion Bingo
DESCRIPTION:
URL:https://centralcitygo.org/event/american-legion-bingo-7/
LOCATION:Iowa
ATTACH;FMTTYPE=image/jpeg:https://centralcitygo.org/wp-content/uploads/485780808_9324327010992116_6545910602627890421_n-vtiMJe.jpg
END:VEVENT
END:VCALENDAR