BEGIN:VCALENDAR
VERSION:2.0
PRODID:-//Central City Go - ECPv6.15.17.1//NONSGML v1.0//EN
CALSCALE:GREGORIAN
METHOD:PUBLISH
X-ORIGINAL-URL:https://centralcitygo.org
X-WR-CALDESC:Events for Central City Go
REFRESH-INTERVAL;VALUE=DURATION:PT1H
X-Robots-Tag:noindex
X-PUBLISHED-TTL:PT1H
BEGIN:VTIMEZONE
TZID:America/Chicago
BEGIN:DAYLIGHT
TZOFFSETFROM:-0600
TZOFFSETTO:-0500
TZNAME:CDT
DTSTART:20250309T080000
END:DAYLIGHT
BEGIN:STANDARD
TZOFFSETFROM:-0500
TZOFFSETTO:-0600
TZNAME:CST
DTSTART:20251102T070000
END:STANDARD
BEGIN:DAYLIGHT
TZOFFSETFROM:-0600
TZOFFSETTO:-0500
TZNAME:CDT
DTSTART:20260308T080000
END:DAYLIGHT
BEGIN:STANDARD
TZOFFSETFROM:-0500
TZOFFSETTO:-0600
TZNAME:CST
DTSTART:20261101T070000
END:STANDARD
BEGIN:DAYLIGHT
TZOFFSETFROM:-0600
TZOFFSETTO:-0500
TZNAME:CDT
DTSTART:20270314T080000
END:DAYLIGHT
BEGIN:STANDARD
TZOFFSETFROM:-0500
TZOFFSETTO:-0600
TZNAME:CST
DTSTART:20271107T070000
END:STANDARD
END:VTIMEZONE
BEGIN:VEVENT
DTSTART;TZID=America/Chicago:20260510T110000
DTEND;TZID=America/Chicago:20260510T153000
DTSTAMP:20260420T115805
CREATED:20260316T215356Z
LAST-MODIFIED:20260316T215356Z
UID:2120-1778410800-1778427000@centralcitygo.org
SUMMARY:Mother's Day Carriage Ridge
DESCRIPTION:Celebrate Mother’s Day with a  with a special carriage ride for a lasting memory!  Grab lunch with Mom and enjoy a horse drawn tour along the Wapsipinicon River.  Reserve an hour or half hour with us\, and we’ll board at one of our great restaurants – your choice!   Call or text to book (319)540-5536
URL:https://centralcitygo.org/event/mothers-day-carriage-ridge/
LOCATION:Downtown Central City\, 356 E Main St\, Central City\, Iowa\, 52214\, United States
ATTACH;FMTTYPE=image/jpeg:https://centralcitygo.org/wp-content/uploads/Blue-Moon-Logo-small.jpg
ORGANIZER;CN="Blue Moon Carriage":MAILTO:moongardengypsy@gmail.com
END:VEVENT
END:VCALENDAR