BEGIN:VCALENDAR
VERSION:2.0
PRODID:-//Central City Go - ECPv6.15.17.1//NONSGML v1.0//EN
CALSCALE:GREGORIAN
METHOD:PUBLISH
X-ORIGINAL-URL:https://centralcitygo.org
X-WR-CALDESC:Events for Central City Go
REFRESH-INTERVAL;VALUE=DURATION:PT1H
X-Robots-Tag:noindex
X-PUBLISHED-TTL:PT1H
BEGIN:VTIMEZONE
TZID:America/Chicago
BEGIN:DAYLIGHT
TZOFFSETFROM:-0600
TZOFFSETTO:-0500
TZNAME:CDT
DTSTART:20250309T080000
END:DAYLIGHT
BEGIN:STANDARD
TZOFFSETFROM:-0500
TZOFFSETTO:-0600
TZNAME:CST
DTSTART:20251102T070000
END:STANDARD
BEGIN:DAYLIGHT
TZOFFSETFROM:-0600
TZOFFSETTO:-0500
TZNAME:CDT
DTSTART:20260308T080000
END:DAYLIGHT
BEGIN:STANDARD
TZOFFSETFROM:-0500
TZOFFSETTO:-0600
TZNAME:CST
DTSTART:20261101T070000
END:STANDARD
BEGIN:DAYLIGHT
TZOFFSETFROM:-0600
TZOFFSETTO:-0500
TZNAME:CDT
DTSTART:20270314T080000
END:DAYLIGHT
BEGIN:STANDARD
TZOFFSETFROM:-0500
TZOFFSETTO:-0600
TZNAME:CST
DTSTART:20271107T070000
END:STANDARD
END:VTIMEZONE
BEGIN:VEVENT
DTSTART;TZID=America/Chicago:20260430T180000
DTEND;TZID=America/Chicago:20260430T193000
DTSTAMP:20260420T102213
CREATED:20260409T025933Z
LAST-MODIFIED:20260409T025933Z
UID:2148-1777572000-1777577400@centralcitygo.org
SUMMARY:Girls Night Out
DESCRIPTION:Grab your girls—your mom\, your sister\, or come solo and meet some new friends—and join us for a fun\, relaxing Girl’s Night Out on April 30th from 6:00–7:30 PM at The Golden Comb. Think: good vibes\, amazing scents & products\, time just for YOU.  Enjoy a complimentary drink & snacks while you unwind.  Visit the Scentsy Sample Bar to mix & match your favorites – then take home 8 scents of your choice! Get creative and design your own bath salts with Purely Crafted by Alycia.  Shop unique\, feel-good products and create the perfect bundle – just in time for Mother’s Day!
URL:https://centralcitygo.org/event/girls-night-out/
LOCATION:The Golden Comb\, 342 E Main St\, Central City\, Iowa\, 52214\, United States
ATTACH;FMTTYPE=image/jpeg:https://centralcitygo.org/wp-content/uploads/Girls-Night-Out-Purely-Crafted.jpg
ORGANIZER;CN="Purely Crafted by Alycia":MAILTO:alycia@purelycraftedbyalycia.com
END:VEVENT
END:VCALENDAR