BEGIN:VCALENDAR
VERSION:2.0
PRODID:-//Central City Go - ECPv6.15.17.1//NONSGML v1.0//EN
CALSCALE:GREGORIAN
METHOD:PUBLISH
X-ORIGINAL-URL:https://centralcitygo.org
X-WR-CALDESC:Events for Central City Go
REFRESH-INTERVAL;VALUE=DURATION:PT1H
X-Robots-Tag:noindex
X-PUBLISHED-TTL:PT1H
BEGIN:VTIMEZONE
TZID:America/Chicago
BEGIN:DAYLIGHT
TZOFFSETFROM:-0600
TZOFFSETTO:-0500
TZNAME:CDT
DTSTART:20250309T080000
END:DAYLIGHT
BEGIN:STANDARD
TZOFFSETFROM:-0500
TZOFFSETTO:-0600
TZNAME:CST
DTSTART:20251102T070000
END:STANDARD
BEGIN:DAYLIGHT
TZOFFSETFROM:-0600
TZOFFSETTO:-0500
TZNAME:CDT
DTSTART:20260308T080000
END:DAYLIGHT
BEGIN:STANDARD
TZOFFSETFROM:-0500
TZOFFSETTO:-0600
TZNAME:CST
DTSTART:20261101T070000
END:STANDARD
BEGIN:DAYLIGHT
TZOFFSETFROM:-0600
TZOFFSETTO:-0500
TZNAME:CDT
DTSTART:20270314T080000
END:DAYLIGHT
BEGIN:STANDARD
TZOFFSETFROM:-0500
TZOFFSETTO:-0600
TZNAME:CST
DTSTART:20271107T070000
END:STANDARD
END:VTIMEZONE
BEGIN:VEVENT
DTSTART;TZID=America/Chicago:20260325T153000
DTEND;TZID=America/Chicago:20260325T183000
DTSTAMP:20260420T115857
CREATED:20260217T224652Z
LAST-MODIFIED:20260316T213043Z
UID:2026-1774452600-1774463400@centralcitygo.org
SUMMARY:Blood Drive
DESCRIPTION:This Central City Community Blood Drive will be held in the Commons at the high school.  Appointments are available from 3:30 – 6:30 – sign up here: https://login.bloodcenter.org/donor/schedules/drive_schedule/141346 \nJust an hour of your time and a unit of your whole blood can save three or more lives. \nOn average\, someone in America needs blood every 2 seconds\, and 36\,000 units are needed each day.  Blood and blood components are used to treat accident victims\, burn patients\, organ transplant recipients and those undergoing cancer treatments\, among others.  Blood *cannot* be manufactured – it must be donated.
URL:https://centralcitygo.org/event/blood-drive/
LOCATION:Central City Community Schools\, 400 Barber St\, Central City\, Iowa\, 52214\, United States
ATTACH;FMTTYPE=image/png:https://centralcitygo.org/wp-content/uploads/impact-life.png
ORGANIZER;CN="Impact Life":MAILTO:social@impactlife.org
END:VEVENT
BEGIN:VEVENT
DTSTART;TZID=America/Chicago:20260325T180000
DTEND;TZID=America/Chicago:20260325T200000
DTSTAMP:20260420T115857
CREATED:20260217T224706Z
LAST-MODIFIED:20260217T224706Z
UID:2030-1774461600-1774468800@centralcitygo.org
SUMMARY:Foxy's Bingo Night
DESCRIPTION:Free Bingo at Foxy’s Chill & Grill
URL:https://centralcitygo.org/event/foxys-bingo-night-4/
LOCATION:Foxy’s Chill & Grill\, 347 E Main St\, Central City\, Iowa\, 52214\, United States
ATTACH;FMTTYPE=image/jpeg:https://centralcitygo.org/wp-content/uploads/Foxys-Bingo.jpg
ORGANIZER;CN="Foxy's Chill &amp%3B Grill":MAILTO:Foxden269@gmail.com
END:VEVENT
END:VCALENDAR