BEGIN:VCALENDAR
VERSION:2.0
PRODID:-//Central City Go - ECPv6.15.17.1//NONSGML v1.0//EN
CALSCALE:GREGORIAN
METHOD:PUBLISH
X-ORIGINAL-URL:https://centralcitygo.org
X-WR-CALDESC:Events for Central City Go
REFRESH-INTERVAL;VALUE=DURATION:PT1H
X-Robots-Tag:noindex
X-PUBLISHED-TTL:PT1H
BEGIN:VTIMEZONE
TZID:America/Chicago
BEGIN:DAYLIGHT
TZOFFSETFROM:-0600
TZOFFSETTO:-0500
TZNAME:CDT
DTSTART:20240310T080000
END:DAYLIGHT
BEGIN:STANDARD
TZOFFSETFROM:-0500
TZOFFSETTO:-0600
TZNAME:CST
DTSTART:20241103T070000
END:STANDARD
BEGIN:DAYLIGHT
TZOFFSETFROM:-0600
TZOFFSETTO:-0500
TZNAME:CDT
DTSTART:20250309T080000
END:DAYLIGHT
BEGIN:STANDARD
TZOFFSETFROM:-0500
TZOFFSETTO:-0600
TZNAME:CST
DTSTART:20251102T070000
END:STANDARD
BEGIN:DAYLIGHT
TZOFFSETFROM:-0600
TZOFFSETTO:-0500
TZNAME:CDT
DTSTART:20260308T080000
END:DAYLIGHT
BEGIN:STANDARD
TZOFFSETFROM:-0500
TZOFFSETTO:-0600
TZNAME:CST
DTSTART:20261101T070000
END:STANDARD
END:VTIMEZONE
BEGIN:VEVENT
DTSTART;TZID=America/Chicago:20250605T160000
DTEND;TZID=America/Chicago:20250605T180000
DTSTAMP:20260421T014836
CREATED:20250423T092140Z
LAST-MODIFIED:20250424T191113Z
UID:1383-1749139200-1749146400@centralcitygo.org
SUMMARY:Central City Farmer's Market
DESCRIPTION:
URL:https://centralcitygo.org/event/central-city-farmers-market/
LOCATION:Iowa
ATTACH;FMTTYPE=image/jpeg:https://centralcitygo.org/wp-content/uploads/Farmers-Market-1.jpg
END:VEVENT
BEGIN:VEVENT
DTSTART;TZID=America/Chicago:20250605T163000
DTEND;TZID=America/Chicago:20250605T203000
DTSTAMP:20260421T014836
CREATED:20250423T092042Z
LAST-MODIFIED:20250424T191113Z
UID:1354-1749141000-1749155400@centralcitygo.org
SUMMARY:Foxy's Shine & Dine
DESCRIPTION:
URL:https://centralcitygo.org/event/foxys-shine-dine-2/
LOCATION:Iowa
ATTACH;FMTTYPE=image/jpeg:https://centralcitygo.org/wp-content/uploads/492084742_1314578850246478_5228274219607378747_n-DbxQnh.jpg
END:VEVENT
END:VCALENDAR