BEGIN:VCALENDAR
VERSION:2.0
PRODID:-//Central City Go - ECPv6.15.17.1//NONSGML v1.0//EN
CALSCALE:GREGORIAN
METHOD:PUBLISH
X-WR-CALNAME:Central City Go
X-ORIGINAL-URL:https://centralcitygo.org
X-WR-CALDESC:Events for Central City Go
REFRESH-INTERVAL;VALUE=DURATION:PT1H
X-Robots-Tag:noindex
X-PUBLISHED-TTL:PT1H
BEGIN:VTIMEZONE
TZID:America/Chicago
BEGIN:DAYLIGHT
TZOFFSETFROM:-0600
TZOFFSETTO:-0500
TZNAME:CDT
DTSTART:20240310T080000
END:DAYLIGHT
BEGIN:STANDARD
TZOFFSETFROM:-0500
TZOFFSETTO:-0600
TZNAME:CST
DTSTART:20241103T070000
END:STANDARD
BEGIN:DAYLIGHT
TZOFFSETFROM:-0600
TZOFFSETTO:-0500
TZNAME:CDT
DTSTART:20250309T080000
END:DAYLIGHT
BEGIN:STANDARD
TZOFFSETFROM:-0500
TZOFFSETTO:-0600
TZNAME:CST
DTSTART:20251102T070000
END:STANDARD
BEGIN:DAYLIGHT
TZOFFSETFROM:-0600
TZOFFSETTO:-0500
TZNAME:CDT
DTSTART:20260308T080000
END:DAYLIGHT
BEGIN:STANDARD
TZOFFSETFROM:-0500
TZOFFSETTO:-0600
TZNAME:CST
DTSTART:20261101T070000
END:STANDARD
END:VTIMEZONE
BEGIN:VEVENT
DTSTART;TZID=America/Chicago:20250510T080000
DTEND;TZID=America/Chicago:20250510T170000
DTSTAMP:20260421T032519
CREATED:20250423T092110Z
LAST-MODIFIED:20250424T191113Z
UID:1368-1746864000-1746896400@centralcitygo.org
SUMMARY:Coggon City-Wide Garage Sales
DESCRIPTION:
URL:https://centralcitygo.org/event/coggon-city-wide-garage-sales-2/
LOCATION:Iowa
ATTACH;FMTTYPE=image/jpeg:https://centralcitygo.org/wp-content/uploads/garage-sale.jpg
END:VEVENT
BEGIN:VEVENT
DTSTART;TZID=America/Chicago:20250510T090000
DTEND;TZID=America/Chicago:20250510T140000
DTSTAMP:20260421T032519
CREATED:20250423T092111Z
LAST-MODIFIED:20250424T191113Z
UID:1369-1746867600-1746885600@centralcitygo.org
SUMMARY:Junque Market
DESCRIPTION:
URL:https://centralcitygo.org/event/junque-market/
LOCATION:Iowa
ATTACH;FMTTYPE=image/jpeg:https://centralcitygo.org/wp-content/uploads/475687444_122213483228203014_4820602099744202425_n-V21RSd.jpg
END:VEVENT
END:VCALENDAR